BEGIN:VCALENDAR
VERSION:2.0
PRODID:-//Historic Hudson River Towns - ECPv6.15.20//NONSGML v1.0//EN
CALSCALE:GREGORIAN
METHOD:PUBLISH
X-WR-CALNAME:Historic Hudson River Towns
X-ORIGINAL-URL:https://www.hudsonriver.com/hhrt
X-WR-CALDESC:Events for Historic Hudson River Towns
REFRESH-INTERVAL;VALUE=DURATION:PT1H
X-Robots-Tag:noindex
X-PUBLISHED-TTL:PT1H
BEGIN:VTIMEZONE
TZID:America/New_York
BEGIN:DAYLIGHT
TZOFFSETFROM:-0500
TZOFFSETTO:-0400
TZNAME:EDT
DTSTART:20210314T070000
END:DAYLIGHT
BEGIN:STANDARD
TZOFFSETFROM:-0400
TZOFFSETTO:-0500
TZNAME:EST
DTSTART:20211107T060000
END:STANDARD
BEGIN:DAYLIGHT
TZOFFSETFROM:-0500
TZOFFSETTO:-0400
TZNAME:EDT
DTSTART:20220313T070000
END:DAYLIGHT
BEGIN:STANDARD
TZOFFSETFROM:-0400
TZOFFSETTO:-0500
TZNAME:EST
DTSTART:20221106T060000
END:STANDARD
BEGIN:DAYLIGHT
TZOFFSETFROM:-0500
TZOFFSETTO:-0400
TZNAME:EDT
DTSTART:20230312T070000
END:DAYLIGHT
BEGIN:STANDARD
TZOFFSETFROM:-0400
TZOFFSETTO:-0500
TZNAME:EST
DTSTART:20231105T060000
END:STANDARD
END:VTIMEZONE
BEGIN:VEVENT
DTSTART;TZID=America/New_York:20220507T130000
DTEND;TZID=America/New_York:20220507T160000
DTSTAMP:20260425T200605
CREATED:20220427T190908Z
LAST-MODIFIED:20220427T190908Z
UID:10003959-1651928400-1651939200@www.hudsonriver.com
SUMMARY:Family Studio Art Workshop: Dazzling Icons
DESCRIPTION:Celebrate The World of Frida in a collage portrait workshop created by Teaching Artist-in-Residence David Enriquez. Use printed images of American and Mexican historical figures\, including Frida Kahlo\, and employ a technique borrowed from artist Mickalene Thomas\, whose portrait Clarivel with Black Blouse with White Ribbon is in the HRM’s permanent collection. Recommended for ages 5+. \nEspañol ↗ \nSupported by funds from the Metropolitan New York Library Council (METRO) through the American Recovery Plan Act.
URL:https://www.hudsonriver.com/hhrt/event/family-studio-art-workshop-dazzling-icons/2022-05-07/
LOCATION:Hudson River Museum\, 511 Warburton Ave\, Yonkers\, NY\, 10701
CATEGORIES:Visual Arts
ATTACH;FMTTYPE=image/jpeg:https://www.hudsonriver.com/hhrt/wp-content/uploads/2022/04/05.07.dazzling-icons.jpeg
GEO:40.9540914;-73.8963913
X-APPLE-STRUCTURED-LOCATION;VALUE=URI;X-ADDRESS=Hudson River Museum 511 Warburton Ave Yonkers NY 10701;X-APPLE-RADIUS=500;X-TITLE=511 Warburton Ave:geo:-73.8963913,40.9540914
END:VEVENT
BEGIN:VEVENT
DTSTART;TZID=America/New_York:20220507T130000
DTEND;TZID=America/New_York:20220507T150000
DTSTAMP:20260425T200605
CREATED:20220415T193722Z
LAST-MODIFIED:20220415T202144Z
UID:10003910-1651928400-1651935600@www.hudsonriver.com
SUMMARY:Chris Perondi's Stunt Dog Experience
DESCRIPTION:Paramount Hudson Valley Theater\nPhone: (914) 739-0039\nE-Mail: boxoffice@paramounthudsonvalley.com\nWebsite: https://paramounthudsonvalley.com/events/chris-perondis-stunt-dog-experience/\nTickets/Registration: https://paramounthudsonvalley.showare.com/ordertickets.asp\nAdmission Fee: $35 \nChris Perondi (aka the Stunt Dog Guy TM) and wife Suhey Perondi\, along with their famous stunt dogs are out of this world! The Perondis are master dog trainers and have been entertaining audiences of all sizes since 1999. They have produced over 10\,000 live shows since the birth of the show using positive training methods. Over 5\,000 have been stage shows for performing arts theaters and for major theme parks\, such as: Silver Dollar City in Branson (MO)\, Dollywood (TN)\, Stone Mountain Park (GA)\, Worlds of Fun (MO)\, Valleyfair Theme Park (MN)\, Knotts Berry Farm (CA)\, Carowinds (NC) and Six Flags of America (MD). \nThe Perondis and their cast of human performers and dogs will delight audiences of all ages. They guarantee high-energy excitement from beginning to end. During this “Stunt Dog Experience” you will witness some of the most incredible stunts and behaviors ever performed by dogs. The experience has amazing tricks\, big air stunts\, comedy antics\, dancing dogs\, athletic feats\, and is the most entertaining show of its kind! \nEvery show also includes interactive crowd participation. It’s not just a show\, it’s an experience! Audience members will chant “Higher” and “Dog gone fun!” throughout the show and be involved in the excitement of the production. The audience will even be split into two teams and everyone will cheer on their team of dogs during the “Golden Bone Showdown”. The trick dog challenge will be judged and won by audience applause; and the athletic challenges will be won based on speed\, accuracy\, and leaping ability. Prepare to be blown away by the most agile dogs in the world; from world-class Frisbee catching dogs\, high-jumping challenges\, to racing events; this is a show you won’t want to miss!
URL:https://www.hudsonriver.com/hhrt/event/chris-perondis-stunt-dog-experience/
LOCATION:Paramount Hudson Valley Theater\, 1008 Brown St\, Peekskill\, NY\, 10566\, United States
CATEGORIES:Performing Arts
ATTACH;FMTTYPE=image/jpeg:https://www.hudsonriver.com/hhrt/wp-content/uploads/2022/04/StuntDogs_Valleyfair_050-scaled-1.jpg
GEO:41.2902344;-73.9196783
X-APPLE-STRUCTURED-LOCATION;VALUE=URI;X-ADDRESS=Paramount Hudson Valley Theater 1008 Brown St Peekskill NY 10566 United States;X-APPLE-RADIUS=500;X-TITLE=1008 Brown St:geo:-73.9196783,41.2902344
END:VEVENT
BEGIN:VEVENT
DTSTART;TZID=America/New_York:20220507T130000
DTEND;TZID=America/New_York:20220507T143000
DTSTAMP:20260425T200605
CREATED:20220427T190848Z
LAST-MODIFIED:20220427T190848Z
UID:10003958-1651928400-1651933800@www.hudsonriver.com
SUMMARY:Literature to Life Workshop: I Am Not Your Perfect Mexican Daughter
DESCRIPTION:Literature to Life (LTL) is a performance-based literacy program that presents professionally staged verbatim adaptations of American literary classics. In this workshop\, LTL explores aspects of Mexican culture and identity through the lens of the novel I Am Not Your Perfect Mexican Daughter by Erika Sanchez\, while responding directly to the portrayal of young Mexican girls enacting traditional roles in the Diego Rivera painting La ofrenda\, photographs of Frida Kahlo in Frida Kahlo in Context\, and a selection of works included in The World of Frida. \nThe workshop\, staged in the galleries\, will use tableaux vivants\, or living mural techniques\, to activate works of art and scenes from the book\, offering an opportunity to connect visual and literary art forms in a unique and interesting way. \nThe National Book Award finalist and New York Times Bestseller\, I Am Not Your Perfect Mexican Daughter focuses on Julia\, a teenager attempting to help put the pieces of her broken family back together after the tragic loss of her older sister\, Olga. The story focuses on how Julia experiences loss and ultimately finds herself amid the pressures\, expectations\, and stereotypes of growing up in a Mexican-American home. Kahlo was no stranger to grief\, having experienced multiple losses in her life from the time she was in a serious accident at the age of 18. She explored her grief through her art\, much as we explore grief through the novel. \nThe workshop features simultaneous interpretation in Spanish and ASL. Recommended for ages 14+. \nEspañol ↗ \nSupport provided by Art Bridges.
URL:https://www.hudsonriver.com/hhrt/event/literature-to-life-workshop-i-am-not-your-perfect-mexican-daughter/
LOCATION:Hudson River Museum\, 511 Warburton Ave\, Yonkers\, NY\, 10701
CATEGORIES:Visual Arts
ATTACH;FMTTYPE=image/jpeg:https://www.hudsonriver.com/hhrt/wp-content/uploads/2022/04/05.07.I-am-not-your-perfect-mexican-daughter.jpeg
GEO:40.9540914;-73.8963913
X-APPLE-STRUCTURED-LOCATION;VALUE=URI;X-ADDRESS=Hudson River Museum 511 Warburton Ave Yonkers NY 10701;X-APPLE-RADIUS=500;X-TITLE=511 Warburton Ave:geo:-73.8963913,40.9540914
END:VEVENT
BEGIN:VEVENT
DTSTART;TZID=America/New_York:20220507T113000
DTEND;TZID=America/New_York:20220507T123000
DTSTAMP:20260425T200605
CREATED:20220427T191058Z
LAST-MODIFIED:20220505T161612Z
UID:10003972-1651923000-1651926600@www.hudsonriver.com
SUMMARY:Sleepy Hollow Cemetery – Original Knickerbocker Tour
DESCRIPTION:The Original Knickerbocker: Washington Irving & “The Legend of Sleepy Hollow”. \nMeet the father of the American short story on this one-hour tour of Sleepy Hollow Cemetery! Learn all about Washington Irving\, his impact on American Literature and the enduring appeal of “The Legend of Sleepy Hollow”\, which recently celebrated its Bicentennial. Best of all\, you’ll find out why Irving is called the Original Knickerbocker! \nIt’s a fun way to spend an hour exploring the south end of the cemetery! \nDates: Saturdays and Sundays from 11:30 a.m. – 12:30 p.m. and 2:00 – 3:00 p.m. through August. Fall dates will be posted later in the summer.
URL:https://www.hudsonriver.com/hhrt/event/sleepy-hollow-cemetery-original-knickerbocker-tour/2022-05-07/
LOCATION:Sleepy Hollow Cemetery – South Gate\, 430 North Broadway\, Sleepy Hollow\, 10591
CATEGORIES:Tours
ATTACH;FMTTYPE=image/jpeg:https://www.hudsonriver.com/hhrt/wp-content/uploads/2022/04/sleepy-hollow-cemetery-tour-scaled-1.jpg
GEO:41.0904182;-73.8619118
X-APPLE-STRUCTURED-LOCATION;VALUE=URI;X-ADDRESS=Sleepy Hollow Cemetery – South Gate 430 North Broadway Sleepy Hollow 10591;X-APPLE-RADIUS=500;X-TITLE=430 North Broadway:geo:-73.8619118,41.0904182
END:VEVENT
BEGIN:VEVENT
DTSTART;TZID=America/New_York:20220507T110000
DTEND;TZID=America/New_York:20220507T170000
DTSTAMP:20260425T200605
CREATED:20220504T114230Z
LAST-MODIFIED:20220504T114230Z
UID:10017443-1651921200-1651942800@www.hudsonriver.com
SUMMARY:Studio Theater in Exile presents "Sculptures in the Audience"
DESCRIPTION:April 26- May 15\, 2022 in the STIE theater @ HVMOCA \nHudson Valley MOCA hours: Thursdays and Saturdays 11:-5:00. \nStudio Theater in Exile presents Sculptures in the Audience created by Jo-Ann Brody (video and sculpture installation). \nDescription: Mara: “For many years\, Brody\, Barkman\, and I have collaborated on a theater piece to go with the opening of her shows at CERES gallery\, NYC. This past year with COVID restrictions in place\, we opted to create a video of the Perfect Mind reading that would be paired with a tour of Brody’s and Liz Nydoye’s work. The installation of Brody’s sculptures in Studio Theater in Exile audience brings performance and art into an intimate relationship.” \nARTIST AND PERFORMER \nBRODY: Brody started with clay sculpture; she moved to cement to create larger\, life-sized women. Both materials are from the earth and retained their earth tones; currently she is working in paper mache—still figurative but now with color and collaged image from her photography and from magazines and books. The forms are familiar\, but the addition of image and color adds a new dimension. There are references to her surroundings encountered on daily walks. \nARTIST \nLizz Ndoye continues her love affair with her doll “creatures” – soft\, fabric\, humanoid figures that she makes and installs in tandem with her large canvases and drawings to depict aspects of their doll culture and existence and ability to heal. \nPERFORMERS \nMara Mills\, Artistic Director\, STIE. And DramaturgeMara is a writer across many genres and a stage director for over 40 years. Her love is original work and interesting formats that break the rules of proscenium theater. With Livia Strauss\, President Hudson Valley MOCA\, Mara has collaborated for 16 years on image/word projects. Studio Theater in Exile is now housed at HV MOCA . NOTE: “For many years\, Brody\, Barkman\, and I have collaborated on a theater piece to go with the opening of her show at CERES gallery\, NYC. This past year with COVID restrictions in place\, we opted to create a video of the Perfect Mind reading that would be paired with a tour of Brody’s and Liz Nydoye’s work. ”The installation of Brody’s sculptures in the audience brings performance and art into an intimate relationship.” \nAs a writer/actor\, Donna Barkman has performed her solo plays\, “Hand-Me-Downs: Scenes from a Life with a Little Help from Antigone and Mother Goose\,” and “Sticks and Stones and Women’s Bones\,” in New York City and environs. produced in NYC and Westchester. She wrote and performed two pieces in The Ides of March at the Hudson Valley Center for Contemporary Art. Sticks and Stones and Women’s Bones\, directed by Mara Mills was written based on Scar Tissue\, an art installation by Jo-Ann Brody and performed in 2017 at HVCCA. Her poetry has appeared in The Westchester Review\, ragazine.cc\, Bray Arts Journal\, Chautauqua\, Boston Literary Review\, and others. Her poetry has appeared in Chautauqua\, Boston Literary Review\, String Poet\, Per Contra\, Pennsylvania English\, Trivia: Voices of Feminism\, and others\, as well as in many anthologies. Ms. Barkman served as a juror for the Bronx Council on the Arts Poetry Competition and has regularly written and performed poetry and short plays for many ekphrastic events at Upstream Gallery and Hudson MOCA for in Westchester\, and Ceres Gallery\, New York City. \nAbout the poem: Thunder\, Perfect Mind is a poem written by an unknown woman circa 400 A.D. (C.E.) . It is part of a collection of Gnostic Texts found at Nag Hammadi. It is thought to have originated in Alexandria\, written in Greece and translated into Coptic and is the only manuscript known to have survived. Scholars assume it was written by a woman since its form and content follows early Jewish\, Egyptian\, and Gnostic poems said to be “… the self-revelation of a powerful goddess.” (Patricia Cox Miller: Professor Syracuse University) \nMore info: https://www.africanamerica.org/topic/thunder-perfect-mind-nag-hammadi \nAdapted for performance by Mara Mills; Videography\, Jeremy Gratt. \n 
URL:https://www.hudsonriver.com/hhrt/event/studio-theater-in-exile-presents-sculptures-in-the-audience/2022-05-07/
LOCATION:Hudson Valley MoCA\, 1701 Main Street\, Peekskill\, 10566
CATEGORIES:Visual Arts
ATTACH;FMTTYPE=image/png:https://www.hudsonriver.com/hhrt/wp-content/uploads/2022/05/SculpturenAudience-small.png
ORGANIZER;CN="Studio Theater in Exile":MAILTO:mara.mills@studiotheaterinexile.com
GEO:41.2932566;-73.9068639
X-APPLE-STRUCTURED-LOCATION;VALUE=URI;X-ADDRESS=Hudson Valley MoCA 1701 Main Street Peekskill 10566;X-APPLE-RADIUS=500;X-TITLE=1701 Main Street:geo:-73.9068639,41.2932566
END:VEVENT
END:VCALENDAR