BEGIN:VCALENDAR
VERSION:2.0
PRODID:-//Historic Hudson River Towns - ECPv6.15.20//NONSGML v1.0//EN
CALSCALE:GREGORIAN
METHOD:PUBLISH
X-WR-CALNAME:Historic Hudson River Towns
X-ORIGINAL-URL:https://www.hudsonriver.com/hhrt
X-WR-CALDESC:Events for Historic Hudson River Towns
REFRESH-INTERVAL;VALUE=DURATION:PT1H
X-Robots-Tag:noindex
X-PUBLISHED-TTL:PT1H
BEGIN:VTIMEZONE
TZID:America/New_York
BEGIN:DAYLIGHT
TZOFFSETFROM:-0500
TZOFFSETTO:-0400
TZNAME:EDT
DTSTART:20210314T070000
END:DAYLIGHT
BEGIN:STANDARD
TZOFFSETFROM:-0400
TZOFFSETTO:-0500
TZNAME:EST
DTSTART:20211107T060000
END:STANDARD
BEGIN:DAYLIGHT
TZOFFSETFROM:-0500
TZOFFSETTO:-0400
TZNAME:EDT
DTSTART:20220313T070000
END:DAYLIGHT
BEGIN:STANDARD
TZOFFSETFROM:-0400
TZOFFSETTO:-0500
TZNAME:EST
DTSTART:20221106T060000
END:STANDARD
BEGIN:DAYLIGHT
TZOFFSETFROM:-0500
TZOFFSETTO:-0400
TZNAME:EDT
DTSTART:20230312T070000
END:DAYLIGHT
BEGIN:STANDARD
TZOFFSETFROM:-0400
TZOFFSETTO:-0500
TZNAME:EST
DTSTART:20231105T060000
END:STANDARD
END:VTIMEZONE
BEGIN:VEVENT
DTSTART;TZID=America/New_York:20220430T113000
DTEND;TZID=America/New_York:20220430T123000
DTSTAMP:20260425T103812
CREATED:20260425T044813Z
LAST-MODIFIED:20260425T044813Z
UID:10017405-1651318200-1651321800@www.hudsonriver.com
SUMMARY:Sleepy Hollow Cemetery – Original Knickerbocker Tour
DESCRIPTION:The Original Knickerbocker: Washington Irving & “The Legend of Sleepy Hollow”. \nMeet the father of the American short story on this one-hour tour of Sleepy Hollow Cemetery! Learn all about Washington Irving\, his impact on American Literature and the enduring appeal of “The Legend of Sleepy Hollow”\, which recently celebrated its Bicentennial. Best of all\, you’ll find out why Irving is called the Original Knickerbocker! \nIt’s a fun way to spend an hour exploring the south end of the cemetery! \nDates: Saturdays and Sundays from 11:30 a.m. – 12:30 p.m. and 2:00 – 3:00 p.m. through August. Fall dates will be posted later in the summer.
URL:https://www.hudsonriver.com/hhrt/event/sleepy-hollow-cemetery-original-knickerbocker-tour-2/
LOCATION:Sleepy Hollow Cemetery – South Gate\, 430 North Broadway\, Sleepy Hollow\, 10591
CATEGORIES:Tours
ATTACH;FMTTYPE=image/jpeg:https://www.hudsonriver.com/hhrt/wp-content/uploads/2022/04/sleepy-hollow-cemetery-tour-scaled-1.jpg
GEO:41.0904182;-73.8619118
X-APPLE-STRUCTURED-LOCATION;VALUE=URI;X-ADDRESS=Sleepy Hollow Cemetery – South Gate 430 North Broadway Sleepy Hollow 10591;X-APPLE-RADIUS=500;X-TITLE=430 North Broadway:geo:-73.8619118,41.0904182
END:VEVENT
BEGIN:VEVENT
DTSTART;TZID=America/New_York:20220430T113000
DTEND;TZID=America/New_York:20220430T123000
DTSTAMP:20260425T103812
CREATED:20260425T044813Z
LAST-MODIFIED:20260425T044813Z
UID:10017402-1651318200-1651321800@www.hudsonriver.com
SUMMARY:Sleepy Hollow Cemetery – Original Knickerbocker Tour
DESCRIPTION:The Original Knickerbocker: Washington Irving & “The Legend of Sleepy Hollow”. \nMeet the father of the American short story on this one-hour tour of Sleepy Hollow Cemetery! Learn all about Washington Irving\, his impact on American Literature and the enduring appeal of “The Legend of Sleepy Hollow”\, which recently celebrated its Bicentennial. Best of all\, you’ll find out why Irving is called the Original Knickerbocker! \nIt’s a fun way to spend an hour exploring the south end of the cemetery! \nDates: Saturdays and Sundays from 11:30 a.m. – 12:30 p.m. and 2:00 – 3:00 p.m. through August. Fall dates will be posted later in the summer.
URL:https://www.hudsonriver.com/hhrt/event/sleepy-hollow-cemetery-original-knickerbocker-tour-3/
LOCATION:Sleepy Hollow Cemetery – South Gate\, 430 North Broadway\, Sleepy Hollow\, 10591
CATEGORIES:Tours
ATTACH;FMTTYPE=image/jpeg:https://www.hudsonriver.com/hhrt/wp-content/uploads/2022/04/sleepy-hollow-cemetery-tour-scaled-1.jpg
GEO:41.0904182;-73.8619118
X-APPLE-STRUCTURED-LOCATION;VALUE=URI;X-ADDRESS=Sleepy Hollow Cemetery – South Gate 430 North Broadway Sleepy Hollow 10591;X-APPLE-RADIUS=500;X-TITLE=430 North Broadway:geo:-73.8619118,41.0904182
END:VEVENT
BEGIN:VEVENT
DTSTART;TZID=America/New_York:20220430T100000
DTEND;TZID=America/New_York:20220430T180000
DTSTAMP:20260425T103812
CREATED:20260425T044812Z
LAST-MODIFIED:20260425T044812Z
UID:10017401-1651312800-1651341600@www.hudsonriver.com
SUMMARY:2022 Spring Crafts at Lyndhurst in Tarrytown
DESCRIPTION:Artrider Productions\nPhone: (845) 331-7900\nE-Mail: crafts@artrider.com\nWebsite: https://www.artrider.com/springcraftsatlyndhurst2022\nAdmission Fee: General $12 // Seniors (62 and up) $11 // Kids 6-16 $4 // Under 6 Free \nWestchester’s Favorite Festival Returns This Spring!\nFind handmade and uncommon items from 200 makers you can’t find anywhere else in the county! \nSpring Crafts at Lyndhurst returns on April 29-May 1\, 2022! Visitors can spend the day with family and friends shopping for original fashions\, accessories\, jewelry\, home décor\, furniture\, photography and fine art\, as well as functional and sculptural works in ceramics\, glass\, metal\, wood\, mixed media and more! \nFun for the whole family! Experience fun family activities like interactive puppet theater\, face painting\, storytelling and more and watch craft demos like wheel thrown pottery! \nGourmet foods to eat & bring home! Shop til you drop then stay to have lunch with options like BBQ and seafood\, plus favorites like hamburgers and ice cream and vegetarian options too; taste small batch gourmet specialties; and enjoy NYS distillery and winery tastings! Also\, new this year: a mobile beer truck! \nSpend the day & take a tour! Visit the craft show then enjoy Lyndhurst’s 67 sprawling acres (included in craft show admission) with breathtaking scenic views of the Hudson River\, a carriage house\, rose garden and the nation’s first steel-framed conservatory. Tours (for an additional fee) are available to experience the magnificent Neo-Gothic mansion museum and one of America’s first bowling alleys! \nShow hours are Friday\, April 29 from 10am-5pm\, Saturday\, April 30 from 10am-6pm\, and Sunday\, May 1 from 10am-5pm. General admission is $12\, seniors are $11 (62 & up)\, children 6-16 are $4 and children under 6 are free. Group rates are available and tour buses are welcome. Mansion tours are an additional fee. Crafts at Lyndhurst is held at Lyndhurst\, located at 635 S. Broadway\, Tarrytown\, NY. Parking is free and the show is outdoors\, rain or shine. Sorry\, while we love our furry friends\, no pets are allowed within the show site. Social distancing practices and protocols will be required.
URL:https://www.hudsonriver.com/hhrt/event/2022-spring-crafts-at-lyndhurst-in-tarrytown-5/
LOCATION:Lyndhurst Mansion\, 635 S Broadway\, Tarrytown\, NY\, 10591\, United States
CATEGORIES:Family Fun,Festivals, Fairs, and Parades
ATTACH;FMTTYPE=image/jpeg:https://www.hudsonriver.com/hhrt/wp-content/uploads/2022/04/CraftsAtLyndhurst-smaller.jpg
GEO:41.053629;-73.861134
X-APPLE-STRUCTURED-LOCATION;VALUE=URI;X-ADDRESS=Lyndhurst Mansion 635 S Broadway Tarrytown NY 10591 United States;X-APPLE-RADIUS=500;X-TITLE=635 S Broadway:geo:-73.861134,41.053629
END:VEVENT
BEGIN:VEVENT
DTSTART;TZID=America/New_York:20220430T100000
DTEND;TZID=America/New_York:20220430T180000
DTSTAMP:20260425T103812
CREATED:20260425T044812Z
LAST-MODIFIED:20260425T044812Z
UID:10017403-1651312800-1651341600@www.hudsonriver.com
SUMMARY:2022 Spring Crafts at Lyndhurst in Tarrytown
DESCRIPTION:Artrider Productions\nPhone: (845) 331-7900\nE-Mail: crafts@artrider.com\nWebsite: https://www.artrider.com/springcraftsatlyndhurst2022\nAdmission Fee: General $12 // Seniors (62 and up) $11 // Kids 6-16 $4 // Under 6 Free \nWestchester’s Favorite Festival Returns This Spring!\nFind handmade and uncommon items from 200 makers you can’t find anywhere else in the county! \nSpring Crafts at Lyndhurst returns on April 29-May 1\, 2022! Visitors can spend the day with family and friends shopping for original fashions\, accessories\, jewelry\, home décor\, furniture\, photography and fine art\, as well as functional and sculptural works in ceramics\, glass\, metal\, wood\, mixed media and more! \nFun for the whole family! Experience fun family activities like interactive puppet theater\, face painting\, storytelling and more and watch craft demos like wheel thrown pottery! \nGourmet foods to eat & bring home! Shop til you drop then stay to have lunch with options like BBQ and seafood\, plus favorites like hamburgers and ice cream and vegetarian options too; taste small batch gourmet specialties; and enjoy NYS distillery and winery tastings! Also\, new this year: a mobile beer truck! \nSpend the day & take a tour! Visit the craft show then enjoy Lyndhurst’s 67 sprawling acres (included in craft show admission) with breathtaking scenic views of the Hudson River\, a carriage house\, rose garden and the nation’s first steel-framed conservatory. Tours (for an additional fee) are available to experience the magnificent Neo-Gothic mansion museum and one of America’s first bowling alleys! \nShow hours are Friday\, April 29 from 10am-5pm\, Saturday\, April 30 from 10am-6pm\, and Sunday\, May 1 from 10am-5pm. General admission is $12\, seniors are $11 (62 & up)\, children 6-16 are $4 and children under 6 are free. Group rates are available and tour buses are welcome. Mansion tours are an additional fee. Crafts at Lyndhurst is held at Lyndhurst\, located at 635 S. Broadway\, Tarrytown\, NY. Parking is free and the show is outdoors\, rain or shine. Sorry\, while we love our furry friends\, no pets are allowed within the show site. Social distancing practices and protocols will be required.
URL:https://www.hudsonriver.com/hhrt/event/2022-spring-crafts-at-lyndhurst-in-tarrytown-4/
LOCATION:Lyndhurst Mansion\, 635 S Broadway\, Tarrytown\, NY\, 10591\, United States
CATEGORIES:Family Fun,Festivals, Fairs, and Parades
ATTACH;FMTTYPE=image/jpeg:https://www.hudsonriver.com/hhrt/wp-content/uploads/2022/04/CraftsAtLyndhurst-smaller.jpg
GEO:41.053629;-73.861134
X-APPLE-STRUCTURED-LOCATION;VALUE=URI;X-ADDRESS=Lyndhurst Mansion 635 S Broadway Tarrytown NY 10591 United States;X-APPLE-RADIUS=500;X-TITLE=635 S Broadway:geo:-73.861134,41.053629
END:VEVENT
BEGIN:VEVENT
DTSTART;TZID=America/New_York:20220429T100000
DTEND;TZID=America/New_York:20220429T170000
DTSTAMP:20260425T103812
CREATED:20260425T044809Z
LAST-MODIFIED:20260425T044809Z
UID:10017399-1651226400-1651251600@www.hudsonriver.com
SUMMARY:2022 Spring Crafts at Lyndhurst in Tarrytown
DESCRIPTION:Artrider Productions\nPhone: (845) 331-7900\nE-Mail: crafts@artrider.com\nWebsite: https://www.artrider.com/springcraftsatlyndhurst2022\nAdmission Fee: General $12 // Seniors (62 and up) $11 // Kids 6-16 $4 // Under 6 Free \nWestchester’s Favorite Festival Returns This Spring!\nFind handmade and uncommon items from 200 makers you can’t find anywhere else in the county! \nSpring Crafts at Lyndhurst returns on April 29-May 1\, 2022! Visitors can spend the day with family and friends shopping for original fashions\, accessories\, jewelry\, home décor\, furniture\, photography and fine art\, as well as functional and sculptural works in ceramics\, glass\, metal\, wood\, mixed media and more! \nFun for the whole family! Experience fun family activities like interactive puppet theater\, face painting\, storytelling and more and watch craft demos like wheel thrown pottery! \nGourmet foods to eat & bring home! Shop til you drop then stay to have lunch with options like BBQ and seafood\, plus favorites like hamburgers and ice cream and vegetarian options too; taste small batch gourmet specialties; and enjoy NYS distillery and winery tastings! Also\, new this year: a mobile beer truck! \nSpend the day & take a tour! Visit the craft show then enjoy Lyndhurst’s 67 sprawling acres (included in craft show admission) with breathtaking scenic views of the Hudson River\, a carriage house\, rose garden and the nation’s first steel-framed conservatory. Tours (for an additional fee) are available to experience the magnificent Neo-Gothic mansion museum and one of America’s first bowling alleys! \nShow hours are Friday\, April 29 from 10am-5pm\, Saturday\, April 30 from 10am-6pm\, and Sunday\, May 1 from 10am-5pm. General admission is $12\, seniors are $11 (62 & up)\, children 6-16 are $4 and children under 6 are free. Group rates are available and tour buses are welcome. Mansion tours are an additional fee. Crafts at Lyndhurst is held at Lyndhurst\, located at 635 S. Broadway\, Tarrytown\, NY. Parking is free and the show is outdoors\, rain or shine. Sorry\, while we love our furry friends\, no pets are allowed within the show site. Social distancing practices and protocols will be required.
URL:https://www.hudsonriver.com/hhrt/event/2022-spring-crafts-at-lyndhurst-in-tarrytown/
LOCATION:Lyndhurst Mansion\, 635 S Broadway\, Tarrytown\, NY\, 10591\, United States
CATEGORIES:Family Fun,Festivals, Fairs, and Parades
ATTACH;FMTTYPE=image/jpeg:https://www.hudsonriver.com/hhrt/wp-content/uploads/2022/04/CraftsAtLyndhurst-smaller.jpg
GEO:41.053629;-73.861134
X-APPLE-STRUCTURED-LOCATION;VALUE=URI;X-ADDRESS=Lyndhurst Mansion 635 S Broadway Tarrytown NY 10591 United States;X-APPLE-RADIUS=500;X-TITLE=635 S Broadway:geo:-73.861134,41.053629
END:VEVENT
BEGIN:VEVENT
DTSTART;TZID=America/New_York:20220429T100000
DTEND;TZID=America/New_York:20220429T170000
DTSTAMP:20260425T103812
CREATED:20260425T044809Z
LAST-MODIFIED:20260425T044809Z
UID:10017400-1651226400-1651251600@www.hudsonriver.com
SUMMARY:2022 Spring Crafts at Lyndhurst in Tarrytown
DESCRIPTION:Artrider Productions\nPhone: (845) 331-7900\nE-Mail: crafts@artrider.com\nWebsite: https://www.artrider.com/springcraftsatlyndhurst2022\nAdmission Fee: General $12 // Seniors (62 and up) $11 // Kids 6-16 $4 // Under 6 Free \nWestchester’s Favorite Festival Returns This Spring!\nFind handmade and uncommon items from 200 makers you can’t find anywhere else in the county! \nSpring Crafts at Lyndhurst returns on April 29-May 1\, 2022! Visitors can spend the day with family and friends shopping for original fashions\, accessories\, jewelry\, home décor\, furniture\, photography and fine art\, as well as functional and sculptural works in ceramics\, glass\, metal\, wood\, mixed media and more! \nFun for the whole family! Experience fun family activities like interactive puppet theater\, face painting\, storytelling and more and watch craft demos like wheel thrown pottery! \nGourmet foods to eat & bring home! Shop til you drop then stay to have lunch with options like BBQ and seafood\, plus favorites like hamburgers and ice cream and vegetarian options too; taste small batch gourmet specialties; and enjoy NYS distillery and winery tastings! Also\, new this year: a mobile beer truck! \nSpend the day & take a tour! Visit the craft show then enjoy Lyndhurst’s 67 sprawling acres (included in craft show admission) with breathtaking scenic views of the Hudson River\, a carriage house\, rose garden and the nation’s first steel-framed conservatory. Tours (for an additional fee) are available to experience the magnificent Neo-Gothic mansion museum and one of America’s first bowling alleys! \nShow hours are Friday\, April 29 from 10am-5pm\, Saturday\, April 30 from 10am-6pm\, and Sunday\, May 1 from 10am-5pm. General admission is $12\, seniors are $11 (62 & up)\, children 6-16 are $4 and children under 6 are free. Group rates are available and tour buses are welcome. Mansion tours are an additional fee. Crafts at Lyndhurst is held at Lyndhurst\, located at 635 S. Broadway\, Tarrytown\, NY. Parking is free and the show is outdoors\, rain or shine. Sorry\, while we love our furry friends\, no pets are allowed within the show site. Social distancing practices and protocols will be required.
URL:https://www.hudsonriver.com/hhrt/event/2022-spring-crafts-at-lyndhurst-in-tarrytown/
LOCATION:Lyndhurst Mansion\, 635 S Broadway\, Tarrytown\, NY\, 10591\, United States
CATEGORIES:Family Fun,Festivals, Fairs, and Parades
ATTACH;FMTTYPE=image/jpeg:https://www.hudsonriver.com/hhrt/wp-content/uploads/2022/04/CraftsAtLyndhurst-smaller.jpg
GEO:41.053629;-73.861134
X-APPLE-STRUCTURED-LOCATION;VALUE=URI;X-ADDRESS=Lyndhurst Mansion 635 S Broadway Tarrytown NY 10591 United States;X-APPLE-RADIUS=500;X-TITLE=635 S Broadway:geo:-73.861134,41.053629
END:VEVENT
END:VCALENDAR