BEGIN:VCALENDAR
VERSION:2.0
PRODID:-//Historic Hudson River Towns - ECPv6.15.20//NONSGML v1.0//EN
CALSCALE:GREGORIAN
METHOD:PUBLISH
X-WR-CALNAME:Historic Hudson River Towns
X-ORIGINAL-URL:https://www.hudsonriver.com/hhrt
X-WR-CALDESC:Events for Historic Hudson River Towns
REFRESH-INTERVAL;VALUE=DURATION:PT1H
X-Robots-Tag:noindex
X-PUBLISHED-TTL:PT1H
BEGIN:VTIMEZONE
TZID:America/New_York
BEGIN:DAYLIGHT
TZOFFSETFROM:-0500
TZOFFSETTO:-0400
TZNAME:EDT
DTSTART:20210314T070000
END:DAYLIGHT
BEGIN:STANDARD
TZOFFSETFROM:-0400
TZOFFSETTO:-0500
TZNAME:EST
DTSTART:20211107T060000
END:STANDARD
BEGIN:DAYLIGHT
TZOFFSETFROM:-0500
TZOFFSETTO:-0400
TZNAME:EDT
DTSTART:20220313T070000
END:DAYLIGHT
BEGIN:STANDARD
TZOFFSETFROM:-0400
TZOFFSETTO:-0500
TZNAME:EST
DTSTART:20221106T060000
END:STANDARD
BEGIN:DAYLIGHT
TZOFFSETFROM:-0500
TZOFFSETTO:-0400
TZNAME:EDT
DTSTART:20230312T070000
END:DAYLIGHT
BEGIN:STANDARD
TZOFFSETFROM:-0400
TZOFFSETTO:-0500
TZNAME:EST
DTSTART:20231105T060000
END:STANDARD
END:VTIMEZONE
BEGIN:VEVENT
DTSTART;TZID=America/New_York:20221105T103000
DTEND;TZID=America/New_York:20221105T153000
DTSTAMP:20260424T160119
CREATED:20221104T150237Z
LAST-MODIFIED:20221105T150610Z
UID:10004487-1667644200-1667662200@www.hudsonriver.com
SUMMARY:Union Church Tours
DESCRIPTION:The Union Church of Pocantico Hills is a repository of awe-inspiring art by Matisse & Chagall.\nStained-glass windows by European masters\, commissioned by the Rockefeller family\, adorn this unassuming country church. Henri Matisse’s last work\, the Rose Window\, and nine windows by Marc Chagall create a dramatic combination of light and color\, art and spirituality. Step inside and be inspired.\nUnion Church will be open May 6-November 13; Fridays-Sundays\, as well as holiday Mondays (May 30\, July 4\, September 5\, October 10) Guided tours are available between on Friday and Saturdays\, 10:30 AM-3:30 PM\, Sundays 12 PM-3:30 PM. Tours are subject to change due to church activities.
URL:https://www.hudsonriver.com/hhrt/event/union-church-tours-2/
LOCATION:Union Church of Pocantico Hills\, 555 Bedford Road\, Sleepy Hollow\, NY\, 10591\, United States
CATEGORIES:Historic House Tour
ATTACH;FMTTYPE=image/jpeg:https://www.hudsonriver.com/hhrt/wp-content/uploads/2022/11/JMartorano-12-scaled-sAq8tM.tmp_.jpg
END:VEVENT
BEGIN:VEVENT
DTSTART;TZID=America/New_York:20221105T110000
DTEND;TZID=America/New_York:20221105T120000
DTSTAMP:20260424T160119
CREATED:20221104T150213Z
LAST-MODIFIED:20221105T150610Z
UID:10004483-1667646000-1667649600@www.hudsonriver.com
SUMMARY:The Original Knickerbocker Tour
DESCRIPTION:The Original Knickerbocker: Washington Irving & “The Legend of Sleepy Hollow”.\nMeet the father of the American short story on this one-hour tour of Sleepy Hollow Cemetery! Learn all about Washington Irving\, his impact on American Literature and the enduring appeal of “The Legend of Sleepy Hollow”\, which recently celebrated its Bicentennial. Best of all\, you’ll find out why Irving is called the Original Knickerbocker!\nIt’s a fun way to spend an hour exploring the south end of the cemetery!\nDates: Saturdays and Sundays from 11:00 a.m.-12 noon and 1:00-2:00 p.m. through November 27th. In October\, every day from 1:00-2:00 p.m.
URL:https://www.hudsonriver.com/hhrt/event/the-original-knickerbocker-tour/
LOCATION:Sleepy Hollow Cemetery – South Gate\, 430 North Broadway\, Sleepy Hollow\, NY\, 10591\, United States
CATEGORIES:Outdoors,Walks and Tours
ATTACH;FMTTYPE=image/jpeg:https://www.hudsonriver.com/hhrt/wp-content/uploads/2022/11/chrstina-tour-scaled-9SCGe4.tmp_.jpg
END:VEVENT
BEGIN:VEVENT
DTSTART;TZID=America/New_York:20221105T111500
DTEND;TZID=America/New_York:20221105T143000
DTSTAMP:20260424T160119
CREATED:20221102T182005Z
LAST-MODIFIED:20221105T144451Z
UID:10004458-1667646900-1667658600@www.hudsonriver.com
SUMMARY:Classic Nyack Food & History Walking Tour
DESCRIPTION:Our classic Saturday lunchtime tour is a 3 hour excursion throughout the charming Village of Nyack\, NY. This is a family friendly tour which includes specially curated tastings at five Nyack “Culinary Landmarks”. The tour also includes historical stops along the route. Guests 21+ can add a wine/beer tasting for an additional fee.
URL:https://www.hudsonriver.com/hhrt/event/classic-nyack-food-history-walking-tour/
LOCATION:Creative Arts Workshop\, Nyack\, NY\, USA\,48 Burd St Suite 101\, Nyack\, NY 10960\, USA
CATEGORIES:enjoy-nyack,Fall-Fun,Family-Friendly,Restaurants/Food,Shopping
ATTACH;FMTTYPE=image/png:https://www.hudsonriver.com/hhrt/wp-content/uploads/2022/11/Screen-Shot-2022-11-02-at-12.15.24-PM-QUMQQt.tmp_.png
END:VEVENT
BEGIN:VEVENT
DTSTART;TZID=America/New_York:20221105T120000
DTEND;TZID=America/New_York:20221105T150000
DTSTAMP:20260424T160119
CREATED:20221018T225207Z
LAST-MODIFIED:20221020T161123Z
UID:10004420-1667649600-1667660400@www.hudsonriver.com
SUMMARY:Rivertown Public Market - Taste Local
DESCRIPTION:The Rivertown Public Market and The Rivertowns Chamber of Commerce are joining forces to bring you the first ever restaurant crawl through Ardsley\, Dobbs Ferry\, Hastings-on-Hudson\, and Irvington. \nAn afternoon of destination-worthy tastes as you stroll downtown streets on an epic food tour\, and ride from village to village on the Rivertowns Food Trolley. \nLearn more here:  https://rivertownschamber.com/tastenov2022/
URL:https://www.hudsonriver.com/hhrt/event/rivertown-public-market-taste-local/
CATEGORIES:Food & Beverage
ORGANIZER;CN="Rivertowns Public Market along with The Rivertowns Chamber of Commerce":MAILTO:info@rivertownschamber.com
END:VEVENT
BEGIN:VEVENT
DTSTART;TZID=America/New_York:20221105T120000
DTEND;TZID=America/New_York:20221105T170000
DTSTAMP:20260424T160119
CREATED:20230124T161911Z
LAST-MODIFIED:20230127T155416Z
UID:10005108-1667649600-1667667600@www.hudsonriver.com
SUMMARY:Edward Hopper's Hudson River Boyhood and Emerging Artistic Vision
DESCRIPTION:Curated by Carole Perry and Kathleen Motes Bennewitz\, with Lynne Z. Bassett\nThis exhibition investigates how the artistic vision of Edward Hopper (1882-1967) coalesced during his youth in Nyack until he moved away in 1908\, at age 26\, to pursue his career in New York City. It features selections of the artist’s early drawings and sketches on loan from the Whitney Museum of American Art\, private collections and the Arthayer R. Sanborn Hopper Collection Trust\, as well as school notebooks\, artmaking materials\, and costumes\, memorabilia\, and artworks by Hopper and family members from the Edward Hopper House Museum’s collection and its Sanborn-Hopper Family Archive. Together\, these objects provide a glimpse into Hopper’s early years\, the influence of his boyhood proximity to the busy waterfront and commercial district of his hometown\, and insights into his life at home and his family’s support of his developing talent and ambitions.\n$10 Non-Members\n$8 Seniors\nMembership checked at door\nExhibit runs from November 3\, 2022-March 26\, 2023 during the Hopper House’s regular hours\, which are as follows:\nThursdays 1pm-5pm\nFridays 1pm-5pm\nSaturdays 12pm-5pm\nSundays 12pm-5pm
URL:https://www.hudsonriver.com/hhrt/event/edward-hoppers-hudson-river-boyhood-and-emerging-artistic-vision-3/2022-11-05/
LOCATION:Edward Hopper House Art Center\, 82 N Broadway\, Nyack\, NY 10960\, USA
CATEGORIES:Art,enjoy-nyack,Fall-Fun,History,Holiday Fun,paintings,photographs,Visual-Art,Winter-Fun
ATTACH;FMTTYPE=image/jpeg:https://www.hudsonriver.com/hhrt/wp-content/uploads/2022/11/07-berman-ehopper-child_orig-scaled-Q2hmVm.tmp_.jpg
END:VEVENT
BEGIN:VEVENT
DTSTART;TZID=America/New_York:20221105T130000
DTEND;TZID=America/New_York:20221105T140000
DTSTAMP:20260424T160119
CREATED:20221104T150237Z
LAST-MODIFIED:20221105T150610Z
UID:10004485-1667653200-1667656800@www.hudsonriver.com
SUMMARY:The Original Knickerbocker Tour
DESCRIPTION:The Original Knickerbocker: Washington Irving & “The Legend of Sleepy Hollow”.\nMeet the father of the American short story on this one-hour tour of Sleepy Hollow Cemetery! Learn all about Washington Irving\, his impact on American Literature and the enduring appeal of “The Legend of Sleepy Hollow”\, which recently celebrated its Bicentennial. Best of all\, you’ll find out why Irving is called the Original Knickerbocker!\nIt’s a fun way to spend an hour exploring the south end of the cemetery!\nDates: Saturdays and Sundays from 11:00 a.m.-12 noon and 1:00-2:00 p.m. through November 27th. In October\, every day from 1:00-2:00 p.m.
URL:https://www.hudsonriver.com/hhrt/event/the-original-knickerbocker-tour-2/
LOCATION:Sleepy Hollow Cemetery – South Gate\, 430 North Broadway\, Sleepy Hollow\, NY\, 10591\, United States
CATEGORIES:Outdoors,Walks and Tours
ATTACH;FMTTYPE=image/jpeg:https://www.hudsonriver.com/hhrt/wp-content/uploads/2022/11/chrstina-tour-scaled-9SCGe4.tmp_.jpg
END:VEVENT
BEGIN:VEVENT
DTSTART;TZID=America/New_York:20221105T140000
DTEND;TZID=America/New_York:20221105T160000
DTSTAMP:20260424T160119
CREATED:20221104T150237Z
LAST-MODIFIED:20221105T150610Z
UID:10004484-1667656800-1667664000@www.hudsonriver.com
SUMMARY:Classic Daytime Cemetery Tour
DESCRIPTION:Soak up the beauty of this 173-year old cemetery while your guide regales you with stories of the fascinating people resting here in peace.\nThis two-hour daytime walk is the perfect way “to have a colloquy among the tombs” as Washington Irving\, famous author of “The Legend of Sleepy Hollow”\, did himself back in 1849.\nYou’ll pay homage to the great author\, stop by some of the most interesting monuments in the old section before heading north to visit the final resting places of two-term Chicago Mayor Walter Gurnee\, steel titan Andrew Carnegie\, oilman William Rockefeller\, two people vital to the success of Wells Fargo and American Express\, and much more. Admire beautiful art\, architecture and cool cemetery symbolism along the way.  This tour gives a great overview of why Sleepy Hollow Cemetery is so famous.\nPlease note that the Classic Daytime Tour is the same route as the Classic Evening Lantern tour. The content is exactly the same – it just starts in a different location.\nDates: Every Saturday and Sunday 2:00 – 4:00 p.m through November 27th.
URL:https://www.hudsonriver.com/hhrt/event/classic-daytime-cemetery-tour/
LOCATION:Sleepy Hollow Cemetery – South Gate\, 430 North Broadway\, Sleepy Hollow\, NY\, 10591\, United States
CATEGORIES:Outdoors,Walks and Tours
ATTACH;FMTTYPE=image/jpeg:https://www.hudsonriver.com/hhrt/wp-content/uploads/2022/11/Gurnee-o9cpEh.tmp_.jpg
END:VEVENT
BEGIN:VEVENT
DTSTART;TZID=America/New_York:20221105T170000
DTEND;TZID=America/New_York:20221105T200000
DTSTAMP:20260424T160119
CREATED:20221014T224737Z
LAST-MODIFIED:20221024T175015Z
UID:10004413-1667667600-1667678400@www.hudsonriver.com
SUMMARY:Rockland Fashion Week - Runway Show
DESCRIPTION:Hope Wade Designs is pleased to present the\n3rd annual Rockland Fashion Week 2022 “Your Bridge to Fashion” \nThe event takes place on November 5\, 2022 from 5pm to 8pm at the Palisades Center\, and promises to be BIGGER and BETTER than ever!\nBring a friend and enjoy VIP seating with special privileges including a gift bag\, priority front row seating and an exclusive cocktail hour prior to the show. Dress to show your style and be a fashionista!\n3 Ticket Types:\nVIP: Includes a cocktail hour prior to the show\, priority front row seating\, and a gift bag\nPreferred: Includes priority second row seating and a gift bag\nGeneral Admission: Includes seating to the event \nPictured above: 2021 Rockland Fashion Week\nTicket Information\nTicket Price\nRockland Fashion Week 2022 VIP\nUSD 125\nPreferred\nUSD 75\nGeneral Admission\nUSD 49\nGet Tickets\n \nRockland Fashion Week is committed to our community and has partnered with The Breast Center at Montefiore Nyack Hospital\, and ten fierce cancer survivors will be modeling in the show. Center for Safety and Change will also be presented with a donation.\n 
URL:https://www.hudsonriver.com/hhrt/event/rockland-fashion-week-runway-show/
LOCATION:Palisades Center\, 1000 Palisades Center Dr\, West Nyack\, NY 10994\, USA
ATTACH;FMTTYPE=image/png:https://www.hudsonriver.com/hhrt/wp-content/uploads/2022/10/rockland-fashion-week-2022-HEgG4l.tmp_.png
END:VEVENT
BEGIN:VEVENT
DTSTART;TZID=America/New_York:20221105T173000
DTEND;TZID=America/New_York:20221105T203000
DTSTAMP:20260424T160119
CREATED:20221025T175112Z
LAST-MODIFIED:20221105T144451Z
UID:10004441-1667669400-1667680200@www.hudsonriver.com
SUMMARY:Rockland Fashion Week - Runway Show
DESCRIPTION:Hope Wade Designs is pleased to present the\n3rd annual Rockland Fashion Week 2022 “Your Bridge to Fashion” \nThe event takes place on November 5\, 2022 from 5:30pm to 8:30pm at the Palisades Center\, and promises to be BIGGER and BETTER than ever!\nBring a friend and enjoy VIP seating with special privileges including a gift bag\, priority front row seating and an exclusive cocktail hour prior to the show. Dress to show your style and be a fashionista!\n3 Ticket Types:\nVIP: Includes a cocktail hour prior to the show\, priority front row seating\, and a gift bag\nPreferred: Includes priority second row seating and a gift bag\nGeneral Admission: Includes seating to the event \nPictured above: 2021 Rockland Fashion Week\nTicket Information\nTicket Price\nRockland Fashion Week 2022 VIP\nUSD 125\nPreferred\nUSD 75\nGeneral Admission\nUSD 49\nGet Tickets\n \nRockland Fashion Week is committed to our community and has partnered with The Breast Center at Montefiore Nyack Hospital\, and ten fierce cancer survivors will be modeling in the show. Center for Safety and Change will also be presented with a donation.\n 
URL:https://www.hudsonriver.com/hhrt/event/rockland-fashion-week-runway-show-3/
LOCATION:Palisades Center\, 1000 Palisades Center Dr\, West Nyack\, NY 10994\, USA
ATTACH;FMTTYPE=image/png:https://www.hudsonriver.com/hhrt/wp-content/uploads/2022/10/rockland-fashion-week-2022-HEgG4l.tmp_.png
END:VEVENT
BEGIN:VEVENT
DTSTART;TZID=America/New_York:20221105T173000
DTEND;TZID=America/New_York:20221105T203000
DTSTAMP:20260424T160119
CREATED:20221025T175112Z
LAST-MODIFIED:20221025T175112Z
UID:10004442-1667669400-1667680200@www.hudsonriver.com
SUMMARY:Rockland Fashion Week - Runway Show
DESCRIPTION:Hope Wade Designs is pleased to present the\n3rd annual Rockland Fashion Week 2022 “Your Bridge to Fashion” \nThe event takes place on November 5\, 2022 from 5:30pm to 8:30pm at the Palisades Center\, and promises to be BIGGER and BETTER than ever!\nBring a friend and enjoy VIP seating with special privileges including a gift bag\, priority front row seating and an exclusive cocktail hour prior to the show. Dress to show your style and be a fashionista!\n3 Ticket Types:\nVIP: Includes a cocktail hour prior to the show\, priority front row seating\, and a gift bag\nPreferred: Includes priority second row seating and a gift bag\nGeneral Admission: Includes seating to the event \nPictured above: 2021 Rockland Fashion Week\nTicket Information\nTicket Price\nRockland Fashion Week 2022 VIP\nUSD 125\nPreferred\nUSD 75\nGeneral Admission\nUSD 49\nGet Tickets\n \nRockland Fashion Week is committed to our community and has partnered with The Breast Center at Montefiore Nyack Hospital\, and ten fierce cancer survivors will be modeling in the show. Center for Safety and Change will also be presented with a donation.\n 
URL:https://www.hudsonriver.com/hhrt/event/rockland-fashion-week-runway-show-2/
LOCATION:Palisades Center\, 1000 Palisades Center Dr\, West Nyack\, NY 10994\, USA
ATTACH;FMTTYPE=image/png:https://www.hudsonriver.com/hhrt/wp-content/uploads/2022/10/rockland-fashion-week-2022-HEgG4l.tmp_.png
END:VEVENT
BEGIN:VEVENT
DTSTART;TZID=America/New_York:20221105T180000
DTEND;TZID=America/New_York:20221105T230000
DTSTAMP:20260424T160119
CREATED:20221104T150303Z
LAST-MODIFIED:20221105T150610Z
UID:10004491-1667671200-1667689200@www.hudsonriver.com
SUMMARY:The Great Jack  O'Lantern Blaze
DESCRIPTION:The Great Jack O’Lantern Blaze is the Hudson Valley’s most electrifying fall happening!\nMeander through the 18th-century landscape of Van Cortlandt Manor and discover a breathtaking display of more than 7\,000 illuminated jack o’ lanterns—all designed and hand-carved on site by a team of talented artisans. New for 2022\, watch the animated “Jack” Smith Shop in action and keep an eye out for glowing bees.\nComplete with synchronized lighting and an original soundtrack\, don’t miss this one-of-a-kind event!\nAdvance tickets only\, no tickets sold on site. Entry times vary by date.
URL:https://www.hudsonriver.com/hhrt/event/the-great-jack-olantern-blaze-2/
LOCATION:Van Cortlandt Manor\, 525 S Riverside Avenue\, Croton-on-Hudson\, NY\, 10591\, United States
CATEGORIES:Family Fun,Outdoors,Walks and Tours
ATTACH;FMTTYPE=image/jpeg:https://www.hudsonriver.com/hhrt/wp-content/uploads/2022/11/100816_HHV_Blaze2_015-1024x683-1dYp7k.tmp_.jpg
END:VEVENT
BEGIN:VEVENT
DTSTART;TZID=America/New_York:20221105T183000
DTEND;TZID=America/New_York:20221105T203000
DTSTAMP:20260424T160119
CREATED:20221104T150303Z
LAST-MODIFIED:20221105T150610Z
UID:10004492-1667673000-1667680200@www.hudsonriver.com
SUMMARY:Murder and Mayhem Walking Tour
DESCRIPTION:The true stories on this two-hour lantern tour are so grim\, you just might have nightmares!\nCurious to learn about a family that lost 5 children one terrible afternoon\, or a horrific murder that led police on a multi-state chase? Maybe you’d like to hear about a son who shot his father before turning the gun on himself\, and a daughter who poisoned her mother? If so\, then this is the tour for you!\nMurder and Mayhem is back and better than ever with a new route – visit a few old favorites and leave with new ones! The truth is always stranger than fiction.\nSubject matter is not suitable for children under 18. For the enjoyment of all tour goers\, thank you for respecting this policy.
URL:https://www.hudsonriver.com/hhrt/event/murder-and-mayhem-walking-tour/
LOCATION:Sleepy Hollow Cemetery – North Gate\, 540 North Broadway\, Sleepy Hollow\, NY\, 10591\, United States
CATEGORIES:Outdoors,Walks and Tours
ATTACH;FMTTYPE=image/jpeg:https://www.hudsonriver.com/hhrt/wp-content/uploads/2022/11/foggy-fence-cropped-N7GP1B.tmp_.jpg
END:VEVENT
BEGIN:VEVENT
DTSTART;TZID=America/New_York:20221105T190000
DTEND;TZID=America/New_York:20221105T203000
DTSTAMP:20260424T160119
CREATED:20221104T150304Z
LAST-MODIFIED:20221105T150610Z
UID:10004493-1667674800-1667680200@www.hudsonriver.com
SUMMARY:Tito Puente\, Jr. Latin Jazz Ensemble
DESCRIPTION:The comparison is inevitable. How could it be otherwise? Tito Puente Jr. carries his father with him – imprinted on his physical being and locked in his soul. It’s in his looks\, his joy\, and his music. Tito\, Jr. is on a passionate mission.\nThe younger Puente is determined to nurture the musical legacy left by his father. He refuses to let his father become a distant memory. “He was just too vibrant\, too exciting. There was magic in the music my father made. It made people happy all over the world.”
URL:https://www.hudsonriver.com/hhrt/event/tito-puente-jr-latin-jazz-ensemble-3/
LOCATION:Jazz Forum Club\, 1 Dixon Lane\, Tarrytown\, NY\, 10591\, United States
CATEGORIES:Music
ATTACH;FMTTYPE=image/png:https://www.hudsonriver.com/hhrt/wp-content/uploads/2022/11/Tito-Puente-Jr-76xoWv.tmp_.png
END:VEVENT
BEGIN:VEVENT
DTSTART;TZID=America/New_York:20221105T190000
DTEND;TZID=America/New_York:20221105T210000
DTSTAMP:20260424T160119
CREATED:20221104T150304Z
LAST-MODIFIED:20221105T150610Z
UID:10004494-1667674800-1667682000@www.hudsonriver.com
SUMMARY:Sleepy Hollow Cemetery Lantern Tour
DESCRIPTION:Soak up the history of this famous cemetery by the light of kerosene lanterns! It’s like stepping back in time as you visit some of the most impressive residents\, including William Rockefeller\, Andrew Carnegie\, John Dustin Archbold and others resting in peace in the cemetery’s north end. As this is only a one-hour tour\, you’ll need to visit during the day to see Washington Irving’s grave.\nDates: Friday and Saturday nights in September. Friday\, Saturday and Sunday nights in October. Select dates in November.
URL:https://www.hudsonriver.com/hhrt/event/sleepy-hollow-cemetery-lantern-tour-5/
LOCATION:Sleepy Hollow Cemetery – North Gate\, 540 North Broadway\, Sleepy Hollow\, NY\, 10591\, United States
CATEGORIES:Outdoors,Walks and Tours
ATTACH;FMTTYPE=image/jpeg:https://www.hudsonriver.com/hhrt/wp-content/uploads/2022/11/archbold-lantern-2-uGuV2R.tmp_.jpg
END:VEVENT
BEGIN:VEVENT
DTSTART;TZID=America/New_York:20221105T193000
DTEND;TZID=America/New_York:20221105T203000
DTSTAMP:20260424T160119
CREATED:20221104T150304Z
LAST-MODIFIED:20221105T150610Z
UID:10004495-1667676600-1667680200@www.hudsonriver.com
SUMMARY:American Aristocrats Cemetery Tour
DESCRIPTION:Short on time? Make the most of it and meet the crème de la crème on this one-hour lantern tour of Sleepy Hollow Cemetery!\nThe Gilded Age began after the Civil War and ended around 1900. It was a time of tremendous industrialization and rapid economic growth. Railroads were built to connect the East Coast with the West\, kerosene replaced whale oil and candles to light people’s homes\, and steel production changed city skylines forever.\nMeet some of the American Aristocrats who shaped our country with their ambitious visions and amassed sizable fortunes in the process. You’ll visit the beautiful monuments of Henry Villard\, William Rockefeller\, Andrew Carnegie\, and other interesting folks during this one-hour lantern tour in the north end of the cemetery.
URL:https://www.hudsonriver.com/hhrt/event/american-aristocrats-cemetery-tour-3/
LOCATION:Sleepy Hollow Cemetery – North Gate\, 540 North Broadway\, Sleepy Hollow\, NY\, 10591\, United States
CATEGORIES:Outdoors,Walks and Tours
ATTACH;FMTTYPE=image/jpeg:https://www.hudsonriver.com/hhrt/wp-content/uploads/2022/11/villard-lantern-3FPlMs.tmp_.jpg
END:VEVENT
BEGIN:VEVENT
DTSTART;TZID=America/New_York:20221105T213000
DTEND;TZID=America/New_York:20221105T223000
DTSTAMP:20260424T160120
CREATED:20221104T150304Z
LAST-MODIFIED:20221105T150610Z
UID:10004496-1667683800-1667687400@www.hudsonriver.com
SUMMARY:American Aristocrats Cemetery Tour
DESCRIPTION:Short on time? Make the most of it and meet the crème de la crème on this one-hour lantern tour of Sleepy Hollow Cemetery!\nThe Gilded Age began after the Civil War and ended around 1900. It was a time of tremendous industrialization and rapid economic growth. Railroads were built to connect the East Coast with the West\, kerosene replaced whale oil and candles to light people’s homes\, and steel production changed city skylines forever.\nMeet some of the American Aristocrats who shaped our country with their ambitious visions and amassed sizable fortunes in the process. You’ll visit the beautiful monuments of Henry Villard\, William Rockefeller\, Andrew Carnegie\, and other interesting folks during this one-hour lantern tour in the north end of the cemetery.
URL:https://www.hudsonriver.com/hhrt/event/american-aristocrats-cemetery-tour-4/
LOCATION:Sleepy Hollow Cemetery – North Gate\, 540 North Broadway\, Sleepy Hollow\, NY\, 10591\, United States
CATEGORIES:Outdoors,Walks and Tours
ATTACH;FMTTYPE=image/jpeg:https://www.hudsonriver.com/hhrt/wp-content/uploads/2022/11/villard-lantern-3FPlMs.tmp_.jpg
END:VEVENT
BEGIN:VEVENT
DTSTART;TZID=America/New_York:20221105T213000
DTEND;TZID=America/New_York:20221105T230000
DTSTAMP:20260424T160120
CREATED:20221104T150304Z
LAST-MODIFIED:20221105T150610Z
UID:10004497-1667683800-1667689200@www.hudsonriver.com
SUMMARY:Tito Puente\, Jr. Latin Jazz Ensemble
DESCRIPTION:The comparison is inevitable. How could it be otherwise? Tito Puente Jr. carries his father with him – imprinted on his physical being and locked in his soul. It’s in his looks\, his joy\, and his music. Tito\, Jr. is on a passionate mission.\nThe younger Puente is determined to nurture the musical legacy left by his father. He refuses to let his father become a distant memory. “He was just too vibrant\, too exciting. There was magic in the music my father made. It made people happy all over the world.”
URL:https://www.hudsonriver.com/hhrt/event/tito-puente-jr-latin-jazz-ensemble-4/
LOCATION:Jazz Forum Club\, 1 Dixon Lane\, Tarrytown\, NY\, 10591\, United States
CATEGORIES:Music
ATTACH;FMTTYPE=image/png:https://www.hudsonriver.com/hhrt/wp-content/uploads/2022/11/Tito-Puente-Jr-76xoWv.tmp_.png
END:VEVENT
BEGIN:VEVENT
DTSTART;TZID=America/New_York:20221105T213000
DTEND;TZID=America/New_York:20221105T233000
DTSTAMP:20260424T160120
CREATED:20221104T150304Z
LAST-MODIFIED:20221105T150610Z
UID:10004498-1667683800-1667691000@www.hudsonriver.com
SUMMARY:Murder and Mayhem Walking Tour
DESCRIPTION:The true stories on this two-hour lantern tour are so grim\, you just might have nightmares!\nCurious to learn about a family that lost 5 children one terrible afternoon\, or a horrific murder that led police on a multi-state chase? Maybe you’d like to hear about a son who shot his father before turning the gun on himself\, and a daughter who poisoned her mother? If so\, then this is the tour for you!\nMurder and Mayhem is back and better than ever with a new route – visit a few old favorites and leave with new ones! The truth is always stranger than fiction.\nSubject matter is not suitable for children under 18. For the enjoyment of all tour goers\, thank you for respecting this policy.
URL:https://www.hudsonriver.com/hhrt/event/murder-and-mayhem-walking-tour-2/
LOCATION:Sleepy Hollow Cemetery – North Gate\, 540 North Broadway\, Sleepy Hollow\, NY\, 10591\, United States
CATEGORIES:Outdoors,Walks and Tours
ATTACH;FMTTYPE=image/jpeg:https://www.hudsonriver.com/hhrt/wp-content/uploads/2022/11/foggy-fence-cropped-N7GP1B.tmp_.jpg
END:VEVENT
END:VCALENDAR