BEGIN:VCALENDAR
VERSION:2.0
PRODID:-//Historic Hudson River Towns - ECPv6.15.20//NONSGML v1.0//EN
CALSCALE:GREGORIAN
METHOD:PUBLISH
X-WR-CALNAME:Historic Hudson River Towns
X-ORIGINAL-URL:https://www.hudsonriver.com/hhrt
X-WR-CALDESC:Events for Historic Hudson River Towns
REFRESH-INTERVAL;VALUE=DURATION:PT1H
X-Robots-Tag:noindex
X-PUBLISHED-TTL:PT1H
BEGIN:VTIMEZONE
TZID:America/New_York
BEGIN:DAYLIGHT
TZOFFSETFROM:-0500
TZOFFSETTO:-0400
TZNAME:EDT
DTSTART:20210314T070000
END:DAYLIGHT
BEGIN:STANDARD
TZOFFSETFROM:-0400
TZOFFSETTO:-0500
TZNAME:EST
DTSTART:20211107T060000
END:STANDARD
BEGIN:DAYLIGHT
TZOFFSETFROM:-0500
TZOFFSETTO:-0400
TZNAME:EDT
DTSTART:20220313T070000
END:DAYLIGHT
BEGIN:STANDARD
TZOFFSETFROM:-0400
TZOFFSETTO:-0500
TZNAME:EST
DTSTART:20221106T060000
END:STANDARD
BEGIN:DAYLIGHT
TZOFFSETFROM:-0500
TZOFFSETTO:-0400
TZNAME:EDT
DTSTART:20230312T070000
END:DAYLIGHT
BEGIN:STANDARD
TZOFFSETFROM:-0400
TZOFFSETTO:-0500
TZNAME:EST
DTSTART:20231105T060000
END:STANDARD
END:VTIMEZONE
BEGIN:VEVENT
DTSTART;TZID=America/New_York:20221002T193000
DTEND;TZID=America/New_York:20221002T213000
DTSTAMP:20260423T194353
CREATED:20220913T125815Z
LAST-MODIFIED:20220913T125815Z
UID:10004245-1664739000-1664746200@www.hudsonriver.com
SUMMARY:THE LEGEND OF SLEEPY HOLLOW RIDES AGAIN IN THIS  CAN’T MISS CIRQUE PERFORMANCE STARTING SEPT. 23
DESCRIPTION:THE LEGEND OF SLEEPY HOLLOW RIDES AGAIN IN THIS  \nCAN’T MISS CIRQUE PERFORMANCE STARTING SEPT. 23 \nWashington Irving Narrates Story via Hologram to Commemorate 200 Year Anniversary \nSLEEPY HOLLOW\, N.Y. (Sept. 12\, 2022) Step back in time. It’s the 1800’s\, hear the clamoring metal horseshoes click across cobblestone roads in this dark Sleepy Hollow tale. The LEGEND is a simmering adaptation of Washington Irving’s iconic ghost story\, “The Legend of Sleepy Hollow.” Audiences will be treated to a cirque/theatre noir production with narration by Washington Irving himself – in hologram form\, commemorating the 200-year anniversary of\, “The Legend of Sleepy Hollow.” \nThe LEGEND is a new\, total immersive experience with the groundbreaking use of holograms combined with live action circus performers to tell the story. Two years ago\, Westchester Circus Arts began exploring the concept of holograms as part of the cirque performance with Montreal-based Neweb Labs to find out if the idea was possible.  \n“We invite people to come see the show as we make history Sept. 23. This is the first time that an American Circus will use a hologram to portray an ‘animal act’ in a circus tent. Come out\, buy tickets\, grab some popcorn and tell us if our concept has come alive\,” says Carlo Pellegrini of Westchester Circus Arts\, creator\, producer and writer of The LEGEND. \nTickets may be purchased in advance at www.SleepyHollowLegend.com. The show will run from Sept. 23 – Oct. 16\, 2022 in The LEGEND Circus Tent on the East Parcel at 60 Continental Street in Sleepy Hollow\, NY. Showtimes: Fridays\, 7 p.m.; Saturday\, 2 p.m. & 7 p.m.\, and Sundays\, 2 p.m. and 7:30 p.m. Shows run for an hour and a half and include an intermission. Tickets are $30 online and $40 at the door. Recommended for ages 10 years old and up. For more information\, contact Westchester Circus Arts at (914) 275-5711. \nProducing The LEGEND has been a years-long endeavor by The Village of Sleepy Hollow’s Administrator Anthony Giaccio and the Village’s grant writer Fiona Matthew. Cancelled several times due to the pandemic\, this project is supported by a grant awarded to the Village of Sleepy Hollow by New York State’s Empire State Development and the I ❤️ NY Division of Tourism under Governor Kathy Hochul’s Regional Economic Development Council Initiative. The Village re-engaged longtime collaborators Westchester Circus Arts to create a show that would celebrate the bicentennial publication of this story\, so unique to Sleepy Hollow. \nThis project could not have been completed without the kind and generous partnerships by: iloveny.com\, Headless Horseman Sponsors: EDGE-ON-HUDSON\, RELLA AND ASSOCIATES\, Katrina Van Tassel Sponsors: A1 COMPUTER SERVICES\, INC. Brom Bones Sponsors: BROWN & BROWN\, INC.\, \nCAPITAL MARKETS ADVISORS\, LLC.\, HARRIS BEACH ATTORNEYS AT LAW\, LAMB & BARNOSKY LLP\, PFK O’CONNER DAVIES LLP\, PLANNING & DEVELOPMENT ADVISORS\, SLEEPY HOLLOW ANIMAL HOSPITAL\, In-Kind Sponsors: AMSTERLAND: BRAND UTOPIA\, SLEEPY HOLLOW TARRYTOWN CHAMBER OF COMMERCE\, VILLAGE OF SLEEPY HOLLOW. \nFor more information\, contact Westchester Circus Arts at (914) 275-5711 or email carlo@WestchesterCircusArts.com.
URL:https://www.hudsonriver.com/hhrt/event/the-legend-of-sleepy-hollow-rides-again-in-this-cant-miss-cirque-performance-starting-sept-23/2022-10-02/2/
LOCATION:60 Continental Street  Sleepy Hollow\, NY 10591\, 60 Continental Street\, Sleepy Hollow\, 10591
CATEGORIES:Family Fun,Performing Arts
ATTACH;FMTTYPE=image/jpeg:https://www.hudsonriver.com/hhrt/wp-content/uploads/2022/09/Zoe-Heywood_4th-generation-circus-artist.jpg
GEO:41.0873504;-73.8645846
X-APPLE-STRUCTURED-LOCATION;VALUE=URI;X-ADDRESS=60 Continental Street  Sleepy Hollow NY 10591 60 Continental Street Sleepy Hollow 10591;X-APPLE-RADIUS=500;X-TITLE=60 Continental Street:geo:-73.8645846,41.0873504
END:VEVENT
BEGIN:VEVENT
DTSTART;TZID=America/New_York:20221003T100000
DTEND;TZID=America/New_York:20221003T160000
DTSTAMP:20260423T194353
CREATED:20220930T220043Z
LAST-MODIFIED:20221001T125905Z
UID:10004291-1664791200-1664812800@www.hudsonriver.com
SUMMARY:Myths and Mysteries of the Armour Stiner Octagon House
DESCRIPTION:18 miles north of New York City\, high on a bank along The Hudson River sits The Armour-Stiner (Octagon) House. Built in 1860\, this enigmatic\, eight-sided\, domed landmark is the pride of the Village of Irvington\, in the heart of “Sleepy Hollow Country.” During the month of October\, The Octagon House is pleased to announce a special ‘Myths and Mysteries’ tour to celebrate the Halloween season. \nFor years\, local rumors have swirled around The Octagon House\, implying its connection to the spirit world. Join us as we delve into the myths and mysteries of the house — from its unique dome shape resembling an ancient Roman temple\, to its octagonal floor plan rooted in 19th century Phrenology\, to speculations of a resident ghost\, we’ll share stories from the current owners who have described their experiences of the house as something otherworldly. Come hear tales of the unexplained and uncanny events that have occurred in this magical house while experiencing the delight of this meticulously restored architectural wonder.
URL:https://www.hudsonriver.com/hhrt/event/myths-and-mysteries-of-the-armour-stiner-octagon-house/2022-10-03/
LOCATION:The Armour Stiner Octagon House
CATEGORIES:Tours
END:VEVENT
END:VCALENDAR