BEGIN:VCALENDAR
VERSION:2.0
PRODID:-//Historic Hudson River Towns - ECPv6.15.20//NONSGML v1.0//EN
CALSCALE:GREGORIAN
METHOD:PUBLISH
X-WR-CALNAME:Historic Hudson River Towns
X-ORIGINAL-URL:https://www.hudsonriver.com/hhrt
X-WR-CALDESC:Events for Historic Hudson River Towns
REFRESH-INTERVAL;VALUE=DURATION:PT1H
X-Robots-Tag:noindex
X-PUBLISHED-TTL:PT1H
BEGIN:VTIMEZONE
TZID:America/New_York
BEGIN:DAYLIGHT
TZOFFSETFROM:-0500
TZOFFSETTO:-0400
TZNAME:EDT
DTSTART:20210314T070000
END:DAYLIGHT
BEGIN:STANDARD
TZOFFSETFROM:-0400
TZOFFSETTO:-0500
TZNAME:EST
DTSTART:20211107T060000
END:STANDARD
BEGIN:DAYLIGHT
TZOFFSETFROM:-0500
TZOFFSETTO:-0400
TZNAME:EDT
DTSTART:20220313T070000
END:DAYLIGHT
BEGIN:STANDARD
TZOFFSETFROM:-0400
TZOFFSETTO:-0500
TZNAME:EST
DTSTART:20221106T060000
END:STANDARD
BEGIN:DAYLIGHT
TZOFFSETFROM:-0500
TZOFFSETTO:-0400
TZNAME:EDT
DTSTART:20230312T070000
END:DAYLIGHT
BEGIN:STANDARD
TZOFFSETFROM:-0400
TZOFFSETTO:-0500
TZNAME:EST
DTSTART:20231105T060000
END:STANDARD
END:VTIMEZONE
BEGIN:VEVENT
DTSTART;TZID=America/New_York:20220917T100000
DTEND;TZID=America/New_York:20220917T153000
DTSTAMP:20260424T003654
CREATED:20220803T160359Z
LAST-MODIFIED:20221102T183421Z
UID:10004165-1663408800-1663428600@www.hudsonriver.com
SUMMARY:Home of the 'Legend'
DESCRIPTION:Explore “The Legend of Sleepy Hollow”\nAt this family-friendly happening\, visitors can tour Washington Irving’s house—decorated for the season—watch an original shadow puppet short film\, and enjoy games on the lawn. A special exhibit highlights how the Legend has lived in the imagination of popular culture through the centuries since its publication.
URL:https://www.hudsonriver.com/hhrt/event/home-of-the-legend/2022-09-17/
LOCATION:Washington Irving’s Sunnyside\, 3 West Sunnyside Lane\, Irvington\, NY\, United States
CATEGORIES:Family Fun,Film,Outdoor,Performing Arts
ATTACH;FMTTYPE=image/jpeg:https://www.hudsonriver.com/hhrt/wp-content/uploads/2022/08/newsnet-photo-fid-1292043.jpg
GEO:41.0478448;-73.8687143
X-APPLE-STRUCTURED-LOCATION;VALUE=URI;X-ADDRESS=Washington Irving’s Sunnyside 3 West Sunnyside Lane Irvington NY United States;X-APPLE-RADIUS=500;X-TITLE=3 West Sunnyside Lane:geo:-73.8687143,41.0478448
END:VEVENT
BEGIN:VEVENT
DTSTART;TZID=America/New_York:20220917T100000
DTEND;TZID=America/New_York:20220917T160000
DTSTAMP:20260424T003654
CREATED:20220930T220043Z
LAST-MODIFIED:20221001T125905Z
UID:10004279-1663408800-1663430400@www.hudsonriver.com
SUMMARY:Myths and Mysteries of the Armour Stiner Octagon House
DESCRIPTION:18 miles north of New York City\, high on a bank along The Hudson River sits The Armour-Stiner (Octagon) House. Built in 1860\, this enigmatic\, eight-sided\, domed landmark is the pride of the Village of Irvington\, in the heart of “Sleepy Hollow Country.” During the month of October\, The Octagon House is pleased to announce a special ‘Myths and Mysteries’ tour to celebrate the Halloween season. \nFor years\, local rumors have swirled around The Octagon House\, implying its connection to the spirit world. Join us as we delve into the myths and mysteries of the house — from its unique dome shape resembling an ancient Roman temple\, to its octagonal floor plan rooted in 19th century Phrenology\, to speculations of a resident ghost\, we’ll share stories from the current owners who have described their experiences of the house as something otherworldly. Come hear tales of the unexplained and uncanny events that have occurred in this magical house while experiencing the delight of this meticulously restored architectural wonder.
URL:https://www.hudsonriver.com/hhrt/event/myths-and-mysteries-of-the-armour-stiner-octagon-house/2022-09-17/
LOCATION:The Armour Stiner Octagon House
CATEGORIES:Tours
END:VEVENT
BEGIN:VEVENT
DTSTART;TZID=America/New_York:20220917T140000
DTEND;TZID=America/New_York:20220917T160000
DTSTAMP:20260424T003654
CREATED:20220930T214657Z
LAST-MODIFIED:20220930T214657Z
UID:10004270-1663423200-1663430400@www.hudsonriver.com
SUMMARY:The Importance of Being Earnest
DESCRIPTION:Oscar Wilde’s scintillating comedy presented by NYC’s PHOENIX THEATRE ENSEMBLE outdoors at beautiful and lush Marydell as the season is changing. Formidable Lady Augusta Bracknell presides over her family arranging courtships for her renegade nephew\, avoiding scandal and requesting cucumber sandwiches.  Performances are Sat. 9/17\, Friday\,9/23\, Saturday 9/24 and Sunday 9/25 all at 2:00 pm.
URL:https://www.hudsonriver.com/hhrt/event/the-importance-of-being-earnest/2022-09-17/
CATEGORIES:Outdoor,Performing Arts
ATTACH;FMTTYPE=image/jpeg:https://www.hudsonriver.com/hhrt/wp-content/uploads/2022/08/300885806_10228817542763620_7474547589482582919_n.jpg
ORGANIZER;CN="Phoenix Theatre Ensemble":MAILTO:Craig@PhoenixTheatreEnsemble.org
END:VEVENT
BEGIN:VEVENT
DTSTART;TZID=America/New_York:20220917T180000
DTEND;TZID=America/New_York:20220917T190000
DTSTAMP:20260424T003654
CREATED:20220905T200602Z
LAST-MODIFIED:20220905T200602Z
UID:10004233-1663437600-1663441200@www.hudsonriver.com
SUMMARY:This Man's A Spy!
DESCRIPTION:“This Man’s a Spy!” is a concert of songs inspired by the fateful encounter between two of the American Revolution’s most intriguing characters: American General Benedict Arnold and British Major John André. \nComposed and performed by Carla Lynne Hall and Jim Keyes\, “This Man’s A Spy!” offers an updated musical version of the classic Revolutionary War tale. The songs tell the story of the treasonous plot to deliver West Point to the British. Had Arnold and André’s plan succeeded\, the British could have won the Revolutionary War. \nCarla and Keyes will perform the songs live in costume\, and will be available afterwards for questions\, discussion and photographs. \nDate & Time: Saturday\, September 17th at 6:00 p.m.
URL:https://www.hudsonriver.com/hhrt/event/this-mans-a-spy/
LOCATION:Sleepy Hollow Cemetery – South Gate\, 430 North Broadway\, Sleepy Hollow\, 10591
CATEGORIES:Performing Arts
ATTACH;FMTTYPE=image/jpeg:https://www.hudsonriver.com/hhrt/wp-content/uploads/2022/09/IMG_0377.jpg
ORGANIZER;CN="Sleepy Hollow Cemetery":MAILTO:info@sleepyhollowcemetery.org
GEO:41.0904182;-73.8619118
X-APPLE-STRUCTURED-LOCATION;VALUE=URI;X-ADDRESS=Sleepy Hollow Cemetery – South Gate 430 North Broadway Sleepy Hollow 10591;X-APPLE-RADIUS=500;X-TITLE=430 North Broadway:geo:-73.8619118,41.0904182
END:VEVENT
BEGIN:VEVENT
DTSTART;TZID=America/New_York:20220917T190000
DTEND;TZID=America/New_York:20220917T190000
DTSTAMP:20260424T003654
CREATED:20220802T185115Z
LAST-MODIFIED:20220802T185859Z
UID:10004053-1663441200-1663441200@www.hudsonriver.com
SUMMARY:Rock The Hall
DESCRIPTION:Presented by The Music Hall\nCommunity Showcase\nPerformers TBA\, Submissions are open through midnight on July 31\, 2022\nEmcee: WFUV-FM \n\nSave the date and secure your tickets now! Come celebrate and support your local musicians and bands as they bring the house down while competing to be this year’s winner of our fourth annual Rock The Hall! \nThis will be a good-natured\, fun-filled evening of fantastic music\, camaraderie\, and community-building. With an esteemed panel of judges and industry-related prizes we are offering the winning artists an opportunity to perform in front of a live audience and showcase their talent and skill. \nRock The Hall is an annual fundraiser to support our local historic nonprofit theater. Your support will enable The Music Hall fulfill its mission\, continue presenting local musicians\, and to be culturally\, educationally\, and economically relevant. \nSponsored by Webster Bank\, Boulevard Pro\, and WFUV-FM. \nStay tuned for more info – Purchase your tickets early!
URL:https://www.hudsonriver.com/hhrt/event/rock-the-hall/
LOCATION:Tarrytown Music Hall\, 13 Main Street\, Tarrytown\, 10591
CATEGORIES:Performing Arts
ATTACH;FMTTYPE=image/jpeg:https://www.hudsonriver.com/hhrt/wp-content/uploads/2022/08/RTH22fb.jpg
ORGANIZER;CN="Tarrytown Music Hall":MAILTO:tickets@tarrytownmusichall.org
GEO:41.0766387;-73.8587686
X-APPLE-STRUCTURED-LOCATION;VALUE=URI;X-ADDRESS=Tarrytown Music Hall 13 Main Street Tarrytown 10591;X-APPLE-RADIUS=500;X-TITLE=13 Main Street:geo:-73.8587686,41.0766387
END:VEVENT
BEGIN:VEVENT
DTSTART;TZID=America/New_York:20220918T100000
DTEND;TZID=America/New_York:20220918T153000
DTSTAMP:20260424T003654
CREATED:20220803T160359Z
LAST-MODIFIED:20221102T183421Z
UID:10004166-1663495200-1663515000@www.hudsonriver.com
SUMMARY:Home of the 'Legend'
DESCRIPTION:Explore “The Legend of Sleepy Hollow”\nAt this family-friendly happening\, visitors can tour Washington Irving’s house—decorated for the season—watch an original shadow puppet short film\, and enjoy games on the lawn. A special exhibit highlights how the Legend has lived in the imagination of popular culture through the centuries since its publication.
URL:https://www.hudsonriver.com/hhrt/event/home-of-the-legend/2022-09-18/
LOCATION:Washington Irving’s Sunnyside\, 3 West Sunnyside Lane\, Irvington\, NY\, United States
CATEGORIES:Family Fun,Film,Outdoor,Performing Arts
ATTACH;FMTTYPE=image/jpeg:https://www.hudsonriver.com/hhrt/wp-content/uploads/2022/08/newsnet-photo-fid-1292043.jpg
GEO:41.0478448;-73.8687143
X-APPLE-STRUCTURED-LOCATION;VALUE=URI;X-ADDRESS=Washington Irving’s Sunnyside 3 West Sunnyside Lane Irvington NY United States;X-APPLE-RADIUS=500;X-TITLE=3 West Sunnyside Lane:geo:-73.8687143,41.0478448
END:VEVENT
BEGIN:VEVENT
DTSTART;TZID=America/New_York:20220918T100000
DTEND;TZID=America/New_York:20220918T160000
DTSTAMP:20260424T003654
CREATED:20220930T220043Z
LAST-MODIFIED:20221001T125905Z
UID:10004280-1663495200-1663516800@www.hudsonriver.com
SUMMARY:Myths and Mysteries of the Armour Stiner Octagon House
DESCRIPTION:18 miles north of New York City\, high on a bank along The Hudson River sits The Armour-Stiner (Octagon) House. Built in 1860\, this enigmatic\, eight-sided\, domed landmark is the pride of the Village of Irvington\, in the heart of “Sleepy Hollow Country.” During the month of October\, The Octagon House is pleased to announce a special ‘Myths and Mysteries’ tour to celebrate the Halloween season. \nFor years\, local rumors have swirled around The Octagon House\, implying its connection to the spirit world. Join us as we delve into the myths and mysteries of the house — from its unique dome shape resembling an ancient Roman temple\, to its octagonal floor plan rooted in 19th century Phrenology\, to speculations of a resident ghost\, we’ll share stories from the current owners who have described their experiences of the house as something otherworldly. Come hear tales of the unexplained and uncanny events that have occurred in this magical house while experiencing the delight of this meticulously restored architectural wonder.
URL:https://www.hudsonriver.com/hhrt/event/myths-and-mysteries-of-the-armour-stiner-octagon-house/2022-09-18/
LOCATION:The Armour Stiner Octagon House
CATEGORIES:Tours
END:VEVENT
BEGIN:VEVENT
DTSTART;TZID=America/New_York:20220918T120000
DTEND;TZID=America/New_York:20220918T160000
DTSTAMP:20260424T003654
CREATED:20220803T150711Z
LAST-MODIFIED:20220803T150711Z
UID:10004131-1663502400-1663516800@www.hudsonriver.com
SUMMARY:Brunch•ish & Beats at The Greek•ish
DESCRIPTION:Join The Greek•ish for Brunch•ish & Beats Every Sunday from 12:00 PM to 4:00 PM. \nListen to tunes provided by Joe Davids Events as you enjoy a two-course menu featuring specials like Poached Egg Spanakopita\, Greek Honey French Toast & Fruit\, or Sausage Spetsofai & Sunny Egg. Plus\, Bottomless Mimosas\, Bloody Marys\, and Rosé on tap. \n$35 per person \nReserve your spot now: 845-353-1200
URL:https://www.hudsonriver.com/hhrt/event/brunchish-beats-at-the-greekish/2022-09-18/
LOCATION:The Greek•ish\, 8 North Broadway\, Nyack\, NY\, 10960\, United States
CATEGORIES:Food & Beverage,Performing Arts
ATTACH;FMTTYPE=image/jpeg:https://www.hudsonriver.com/hhrt/wp-content/uploads/2022/08/greekish-brunchish-beats-2021-1024x1024-1.jpg
GEO:41.0913552;-73.9183234
X-APPLE-STRUCTURED-LOCATION;VALUE=URI;X-ADDRESS=The Greek•ish 8 North Broadway Nyack NY 10960 United States;X-APPLE-RADIUS=500;X-TITLE=8 North Broadway:geo:-73.9183234,41.0913552
END:VEVENT
BEGIN:VEVENT
DTSTART;TZID=America/New_York:20220918T130000
DTEND;TZID=America/New_York:20220918T160000
DTSTAMP:20260424T003654
CREATED:20220817T175327Z
LAST-MODIFIED:20220817T175327Z
UID:10004229-1663506000-1663516800@www.hudsonriver.com
SUMMARY:Dobbs Ferry Road to Freedom Walk
DESCRIPTION:The Dobbs Ferry Road to Freedom Walk begins at 1:00pm at Gould Park\, Dobbs Ferry. It commemorates a turning point in the Revolutionary War when on August 19\, 1781\, the Continental Army under George Washington departed their encampment in our area to march 400 miles to attack the British army at Yorktown\, Virginia. The program continues at 2:00pm at the Mead House\, 12 Elm Street\, Dobbs Ferry. The Road to Freedom Walk is a program of the Dobbs Ferry Historical Society. We thank the principal sponsors of the event\, Tensor Foundation and the Maurice D. Hinchey Hudson River Valley National Heritage Area.
URL:https://www.hudsonriver.com/hhrt/event/dobbs-ferry-road-to-freedom-walk/
LOCATION:Gould Park\, Washington Avenue and Ashford Avenue\, Dobbs Ferry\, 10522
CATEGORIES:Community Walk,Educational,Family Fun,Festivals, Fairs, and Parades
ATTACH;FMTTYPE=image/png:https://www.hudsonriver.com/hhrt/wp-content/uploads/2022/08/RTF-Flyer_2022_V2.png
ORGANIZER;CN="Dobbs Ferry Historical Society":MAILTO:dfhistory@optimum.net
GEO:41.0138466;-73.8574062
X-APPLE-STRUCTURED-LOCATION;VALUE=URI;X-ADDRESS=Gould Park Washington Avenue and Ashford Avenue Dobbs Ferry 10522;X-APPLE-RADIUS=500;X-TITLE=Washington Avenue and Ashford Avenue:geo:-73.8574062,41.0138466
END:VEVENT
BEGIN:VEVENT
DTSTART;TZID=America/New_York:20220918T130000
DTEND;TZID=America/New_York:20220918T170000
DTSTAMP:20260424T003654
CREATED:20220810T171701Z
LAST-MODIFIED:20220810T171701Z
UID:10004224-1663506000-1663520400@www.hudsonriver.com
SUMMARY:Flavors of Haverstraw Food Crawl & Beer Garden
DESCRIPTION:Taste Ecuador\, Peru\, Puerto Rico\, The Dominican Republic\, Mexico\, BBQ\, seafood\, craft beer brittle & more at the Flavors of Haverstraw Food Crawl. Sunday\, 9/18 -1-5pm. Main St. in Downtown Haverstraw. Sip NY craft beer on West St.\, alongside Fat Boi’s Brass Band\, JLP and the Very Bad Ideas and more. www.HaverstrawFoodCrawl.com \nThe NY Waterway Ferry will operate during the Crawl from Ossining to Haverstraw. A free shuttle will pick up guests and drop them off 6 blocks away at 40 New Main St.
URL:https://www.hudsonriver.com/hhrt/event/flavors-of-haverstraw-food-crawl-beer-garden/
LOCATION:New Main St. Haverstraw\, NY\, 38 New Main St\, Haverstraw\, 10927
CATEGORIES:Festivals, Fairs, and Parades,Food & Beverage
ATTACH;FMTTYPE=image/jpeg:https://www.hudsonriver.com/hhrt/wp-content/uploads/2022/08/750x750-FoodCrawl_Social_Wave1_-01.jpg
ORGANIZER;CN="Haverstraw riverwide arts":MAILTO:haverstrawriverarts@gmail.com
GEO:41.1965148;-73.9659674
X-APPLE-STRUCTURED-LOCATION;VALUE=URI;X-ADDRESS=New Main St. Haverstraw NY 38 New Main St Haverstraw 10927;X-APPLE-RADIUS=500;X-TITLE=38 New Main St:geo:-73.9659674,41.1965148
END:VEVENT
BEGIN:VEVENT
DTSTART;TZID=America/New_York:20220918T190000
DTEND;TZID=America/New_York:20220918T230000
DTSTAMP:20260424T003654
CREATED:20220802T185312Z
LAST-MODIFIED:20220802T185829Z
UID:10004054-1663527600-1663542000@www.hudsonriver.com
SUMMARY:Chris Distefano: Right Intention\, Wrong Move
DESCRIPTION:Presented by AM Productions\nChris Distefano is one of today’s biggest and most beloved names in comedy. Chris quickly rose to success after being named the funniest person on MTV for his show-stopping performances on the Guy Code/Girl Code series. From there\, he went on to star in IFC’s Benders\, co-host the Netflix gameshow Ultimate Beastmaster\, and even had his own CBS sitcom. Outside of television\, Chris has also become one of the most respected and flat-out funniest comedians in the standup world. Fresh off his appearances on The Late Show with David Letterman and Late Night with Seth Meyers\, Chris released his Comedy Central special 38 Waist\, which perfectly encompassed both his Brooklyn-born edge and nice-guy charm. \n\n\nWhen Chris isn’t on stage delivering his gut-busting jokes\, you can catch him in his element in the comfort of his own couch where he records his wildly successful podcasts\, “Chrissy Chaos” and “Hey Babe”\, alongside Impractical Jokers’ Sal Vulcano. Both podcasts are among the most popular on all streaming platforms and have massive followings on Patreon. A big sports fan\, Chris has been fortunate to host episodes of shows including MLB’s Off The Bat and MSG’s The Brackets\, and was invited by the New York Mets to throw the first game pitch in 2021. Chris has a fearless\, yet endearing stage presence\, and his natural ability to connect with audiences around the world has made him a household name in not just comedy\, but all of entertainment. Since selling out the world-famous Beacon Theater in New York City\, Chris continues to travel the country on a sold out comedy tour\, entertaining thousands by poking fun at the world—and himself—with his uniquely warm energy. Chris’ second full-length special\, Speshy Weshy\, premiered on Netflix this past May. \nLIMITED AVAILABILITY $50 Post-Show Meet n’ Greet Add On\nDoes not include ticket to performance\, must be purchased separately 
URL:https://www.hudsonriver.com/hhrt/event/chris-distefano-right-intention-wrong-move/
LOCATION:Tarrytown Music Hall\, 13 Main Street\, Tarrytown\, 10591
CATEGORIES:Performing Arts
ATTACH;FMTTYPE=image/jpeg:https://www.hudsonriver.com/hhrt/wp-content/uploads/2022/08/ChrisDiStefano22fb.jpg
ORGANIZER;CN="Tarrytown Music Hall":MAILTO:tickets@tarrytownmusichall.org
GEO:41.0766387;-73.8587686
X-APPLE-STRUCTURED-LOCATION;VALUE=URI;X-ADDRESS=Tarrytown Music Hall 13 Main Street Tarrytown 10591;X-APPLE-RADIUS=500;X-TITLE=13 Main Street:geo:-73.8587686,41.0766387
END:VEVENT
END:VCALENDAR