BEGIN:VCALENDAR
VERSION:2.0
PRODID:-//Historic Hudson River Towns - ECPv6.15.20//NONSGML v1.0//EN
CALSCALE:GREGORIAN
METHOD:PUBLISH
X-WR-CALNAME:Historic Hudson River Towns
X-ORIGINAL-URL:https://www.hudsonriver.com/hhrt
X-WR-CALDESC:Events for Historic Hudson River Towns
REFRESH-INTERVAL;VALUE=DURATION:PT1H
X-Robots-Tag:noindex
X-PUBLISHED-TTL:PT1H
BEGIN:VTIMEZONE
TZID:America/New_York
BEGIN:DAYLIGHT
TZOFFSETFROM:-0500
TZOFFSETTO:-0400
TZNAME:EDT
DTSTART:20210314T070000
END:DAYLIGHT
BEGIN:STANDARD
TZOFFSETFROM:-0400
TZOFFSETTO:-0500
TZNAME:EST
DTSTART:20211107T060000
END:STANDARD
BEGIN:DAYLIGHT
TZOFFSETFROM:-0500
TZOFFSETTO:-0400
TZNAME:EDT
DTSTART:20220313T070000
END:DAYLIGHT
BEGIN:STANDARD
TZOFFSETFROM:-0400
TZOFFSETTO:-0500
TZNAME:EST
DTSTART:20221106T060000
END:STANDARD
BEGIN:DAYLIGHT
TZOFFSETFROM:-0500
TZOFFSETTO:-0400
TZNAME:EDT
DTSTART:20230312T070000
END:DAYLIGHT
BEGIN:STANDARD
TZOFFSETFROM:-0400
TZOFFSETTO:-0500
TZNAME:EST
DTSTART:20231105T060000
END:STANDARD
END:VTIMEZONE
BEGIN:VEVENT
DTSTART;TZID=America/New_York:20220910T200000
DTEND;TZID=America/New_York:20220910T200000
DTSTAMP:20260423T171528
CREATED:20220802T182637Z
LAST-MODIFIED:20220802T190021Z
UID:10004049-1662840000-1662840000@www.hudsonriver.com
SUMMARY:EagleMania: The World's Greatest Eagles Tribute
DESCRIPTION:Presented by The Music Hall\nEagleMania has been dazzling audiences for over a decade by spectacularly reproducing the music of The Eagles. EagleMania thrills internationally sold-out audiences with their stunning five part harmony\, virtuoso guitar work and uncanny ability to emulate the distinct sound of The Eagles. The EagleMania show consists of the Eagles’ greatest hits\, as well as select Don Henley\, Glenn Frey\, and Joe Walsh solo efforts. \n\nIf you like The Eagles you simply must experience the world’s greatest Eagles Tribute\, EagleMania!
URL:https://www.hudsonriver.com/hhrt/event/eaglemania-the-worlds-greatest-eagles-tribute/
LOCATION:Tarrytown Music Hall\, 13 Main Street\, Tarrytown\, 10591
CATEGORIES:Performing Arts
ATTACH;FMTTYPE=image/jpeg:https://www.hudsonriver.com/hhrt/wp-content/uploads/2022/08/Eaglemania22fb.jpg
ORGANIZER;CN="Tarrytown Music Hall":MAILTO:tickets@tarrytownmusichall.org
GEO:41.0766387;-73.8587686
X-APPLE-STRUCTURED-LOCATION;VALUE=URI;X-ADDRESS=Tarrytown Music Hall 13 Main Street Tarrytown 10591;X-APPLE-RADIUS=500;X-TITLE=13 Main Street:geo:-73.8587686,41.0766387
END:VEVENT
BEGIN:VEVENT
DTSTART;TZID=America/New_York:20220911T100000
DTEND;TZID=America/New_York:20220911T160000
DTSTAMP:20260423T171528
CREATED:20220930T220043Z
LAST-MODIFIED:20221001T125905Z
UID:10004275-1662890400-1662912000@www.hudsonriver.com
SUMMARY:Myths and Mysteries of the Armour Stiner Octagon House
DESCRIPTION:18 miles north of New York City\, high on a bank along The Hudson River sits The Armour-Stiner (Octagon) House. Built in 1860\, this enigmatic\, eight-sided\, domed landmark is the pride of the Village of Irvington\, in the heart of “Sleepy Hollow Country.” During the month of October\, The Octagon House is pleased to announce a special ‘Myths and Mysteries’ tour to celebrate the Halloween season. \nFor years\, local rumors have swirled around The Octagon House\, implying its connection to the spirit world. Join us as we delve into the myths and mysteries of the house — from its unique dome shape resembling an ancient Roman temple\, to its octagonal floor plan rooted in 19th century Phrenology\, to speculations of a resident ghost\, we’ll share stories from the current owners who have described their experiences of the house as something otherworldly. Come hear tales of the unexplained and uncanny events that have occurred in this magical house while experiencing the delight of this meticulously restored architectural wonder.
URL:https://www.hudsonriver.com/hhrt/event/myths-and-mysteries-of-the-armour-stiner-octagon-house/2022-09-11/
LOCATION:The Armour Stiner Octagon House
CATEGORIES:Tours
END:VEVENT
BEGIN:VEVENT
DTSTART;TZID=America/New_York:20220911T120000
DTEND;TZID=America/New_York:20220911T160000
DTSTAMP:20260423T171528
CREATED:20220803T150711Z
LAST-MODIFIED:20220803T150711Z
UID:10004130-1662897600-1662912000@www.hudsonriver.com
SUMMARY:Brunch•ish & Beats at The Greek•ish
DESCRIPTION:Join The Greek•ish for Brunch•ish & Beats Every Sunday from 12:00 PM to 4:00 PM. \nListen to tunes provided by Joe Davids Events as you enjoy a two-course menu featuring specials like Poached Egg Spanakopita\, Greek Honey French Toast & Fruit\, or Sausage Spetsofai & Sunny Egg. Plus\, Bottomless Mimosas\, Bloody Marys\, and Rosé on tap. \n$35 per person \nReserve your spot now: 845-353-1200
URL:https://www.hudsonriver.com/hhrt/event/brunchish-beats-at-the-greekish/2022-09-11/
LOCATION:The Greek•ish\, 8 North Broadway\, Nyack\, NY\, 10960\, United States
CATEGORIES:Food & Beverage,Performing Arts
ATTACH;FMTTYPE=image/jpeg:https://www.hudsonriver.com/hhrt/wp-content/uploads/2022/08/greekish-brunchish-beats-2021-1024x1024-1.jpg
GEO:41.0913552;-73.9183234
X-APPLE-STRUCTURED-LOCATION;VALUE=URI;X-ADDRESS=The Greek•ish 8 North Broadway Nyack NY 10960 United States;X-APPLE-RADIUS=500;X-TITLE=8 North Broadway:geo:-73.9183234,41.0913552
END:VEVENT
BEGIN:VEVENT
DTSTART;TZID=America/New_York:20220911T190000
DTEND;TZID=America/New_York:20220911T190000
DTSTAMP:20260423T171528
CREATED:20220802T183438Z
LAST-MODIFIED:20220802T190000Z
UID:10004050-1662922800-1662922800@www.hudsonriver.com
SUMMARY:Dionne Warwick
DESCRIPTION:Presented by The Tarrytown Music Hall\nDionne Warwick is a six-time Grammy Award-winning music legend who has earned more than 75 charted hit songs and sold over 100 millionrecords. She was discovered by Burt Bacharach and Hal David in 1961\, and went on to record 18 consecutive Top 100 singles (“Don’t Make Me Over\,” Walk on By\,” “Say a Little Prayer\,” “A House is Not a Home\,” “Alfie\,” “Heartbreaker\,” “Déjà Vu\,” among countless others). She received her first Grammy in 1968 for “Do You Know the Way to San Jose?”. \n\nMs. Warwick became the first African-American solo female artist of her generation to win the prestigious award for Best Contemporary Female Vocalist Performance. In 1985\, she participated in the recording of “That’s What Friends Are For\,” which became a number-one hit worldwide and raised awareness and major funds for AIDS research\, which she continues to support\, among other causes such as The Starlight Foundation\, children’s hospitals\, world hunger\, disaster relief\, and music education for which she has been honored and has raised millions of dollars. Ms. Warwick also participated in the all-star charity single\, “We Are the World” and performed at “Live Aid.” Ms. Warwick has been honored by AMFAR\, the Desert Aids Project\, and Clive Davis at his pre-Grammy party. Ms. Warwick was also inducted into The Grammy Museum where a special 50th Anniversary career exhibit was unveiled. Most recently\, Ms. Warwick released a star-studded duets album entitled\, “Feels So Good\,” featuring collaborations with some of today’s greatest artists. Most recently\, Warwick was the recipient of the coveted and prestigious 2017 Marian Anderson Award for her career accomplishments and philanthropy. She was honored in a 2018 PBS Television Special\, “Then Came You\,” was named 2019 Ambassador to the Smithonian Institute’s Year in Music and is a 2019 Grammy Lifetime Achievement Award recipient.
URL:https://www.hudsonriver.com/hhrt/event/dionne-warwick/
LOCATION:Tarrytown Music Hall\, 13 Main Street\, Tarrytown\, 10591
CATEGORIES:Performing Arts
ATTACH;FMTTYPE=image/jpeg:https://www.hudsonriver.com/hhrt/wp-content/uploads/2022/08/DionneWarwick22fb.jpg
ORGANIZER;CN="Tarrytown Music Hall":MAILTO:tickets@tarrytownmusichall.org
GEO:41.0766387;-73.8587686
X-APPLE-STRUCTURED-LOCATION;VALUE=URI;X-ADDRESS=Tarrytown Music Hall 13 Main Street Tarrytown 10591;X-APPLE-RADIUS=500;X-TITLE=13 Main Street:geo:-73.8587686,41.0766387
END:VEVENT
BEGIN:VEVENT
DTSTART;TZID=America/New_York:20220912T100000
DTEND;TZID=America/New_York:20220912T160000
DTSTAMP:20260423T171528
CREATED:20220930T220043Z
LAST-MODIFIED:20221001T125905Z
UID:10004276-1662976800-1662998400@www.hudsonriver.com
SUMMARY:Myths and Mysteries of the Armour Stiner Octagon House
DESCRIPTION:18 miles north of New York City\, high on a bank along The Hudson River sits The Armour-Stiner (Octagon) House. Built in 1860\, this enigmatic\, eight-sided\, domed landmark is the pride of the Village of Irvington\, in the heart of “Sleepy Hollow Country.” During the month of October\, The Octagon House is pleased to announce a special ‘Myths and Mysteries’ tour to celebrate the Halloween season. \nFor years\, local rumors have swirled around The Octagon House\, implying its connection to the spirit world. Join us as we delve into the myths and mysteries of the house — from its unique dome shape resembling an ancient Roman temple\, to its octagonal floor plan rooted in 19th century Phrenology\, to speculations of a resident ghost\, we’ll share stories from the current owners who have described their experiences of the house as something otherworldly. Come hear tales of the unexplained and uncanny events that have occurred in this magical house while experiencing the delight of this meticulously restored architectural wonder.
URL:https://www.hudsonriver.com/hhrt/event/myths-and-mysteries-of-the-armour-stiner-octagon-house/2022-09-12/
LOCATION:The Armour Stiner Octagon House
CATEGORIES:Tours
END:VEVENT
END:VCALENDAR