BEGIN:VCALENDAR
VERSION:2.0
PRODID:-//Historic Hudson River Towns - ECPv6.15.20//NONSGML v1.0//EN
CALSCALE:GREGORIAN
METHOD:PUBLISH
X-WR-CALNAME:Historic Hudson River Towns
X-ORIGINAL-URL:https://www.hudsonriver.com/hhrt
X-WR-CALDESC:Events for Historic Hudson River Towns
REFRESH-INTERVAL;VALUE=DURATION:PT1H
X-Robots-Tag:noindex
X-PUBLISHED-TTL:PT1H
BEGIN:VTIMEZONE
TZID:America/New_York
BEGIN:DAYLIGHT
TZOFFSETFROM:-0500
TZOFFSETTO:-0400
TZNAME:EDT
DTSTART:20210314T070000
END:DAYLIGHT
BEGIN:STANDARD
TZOFFSETFROM:-0400
TZOFFSETTO:-0500
TZNAME:EST
DTSTART:20211107T060000
END:STANDARD
BEGIN:DAYLIGHT
TZOFFSETFROM:-0500
TZOFFSETTO:-0400
TZNAME:EDT
DTSTART:20220313T070000
END:DAYLIGHT
BEGIN:STANDARD
TZOFFSETFROM:-0400
TZOFFSETTO:-0500
TZNAME:EST
DTSTART:20221106T060000
END:STANDARD
BEGIN:DAYLIGHT
TZOFFSETFROM:-0500
TZOFFSETTO:-0400
TZNAME:EDT
DTSTART:20230312T070000
END:DAYLIGHT
BEGIN:STANDARD
TZOFFSETFROM:-0400
TZOFFSETTO:-0500
TZNAME:EST
DTSTART:20231105T060000
END:STANDARD
END:VTIMEZONE
BEGIN:VEVENT
DTSTART;TZID=America/New_York:20220918T130000
DTEND;TZID=America/New_York:20220918T170000
DTSTAMP:20260425T153540
CREATED:20220810T171701Z
LAST-MODIFIED:20220810T171701Z
UID:10004224-1663506000-1663520400@www.hudsonriver.com
SUMMARY:Flavors of Haverstraw Food Crawl & Beer Garden
DESCRIPTION:Taste Ecuador\, Peru\, Puerto Rico\, The Dominican Republic\, Mexico\, BBQ\, seafood\, craft beer brittle & more at the Flavors of Haverstraw Food Crawl. Sunday\, 9/18 -1-5pm. Main St. in Downtown Haverstraw. Sip NY craft beer on West St.\, alongside Fat Boi’s Brass Band\, JLP and the Very Bad Ideas and more. www.HaverstrawFoodCrawl.com \nThe NY Waterway Ferry will operate during the Crawl from Ossining to Haverstraw. A free shuttle will pick up guests and drop them off 6 blocks away at 40 New Main St.
URL:https://www.hudsonriver.com/hhrt/event/flavors-of-haverstraw-food-crawl-beer-garden/
LOCATION:New Main St. Haverstraw\, NY\, 38 New Main St\, Haverstraw\, 10927
CATEGORIES:Festivals, Fairs, and Parades,Food & Beverage
ATTACH;FMTTYPE=image/jpeg:https://www.hudsonriver.com/hhrt/wp-content/uploads/2022/08/750x750-FoodCrawl_Social_Wave1_-01.jpg
ORGANIZER;CN="Haverstraw riverwide arts":MAILTO:haverstrawriverarts@gmail.com
GEO:41.1965148;-73.9659674
X-APPLE-STRUCTURED-LOCATION;VALUE=URI;X-ADDRESS=New Main St. Haverstraw NY 38 New Main St Haverstraw 10927;X-APPLE-RADIUS=500;X-TITLE=38 New Main St:geo:-73.9659674,41.1965148
END:VEVENT
BEGIN:VEVENT
DTSTART;TZID=America/New_York:20220918T190000
DTEND;TZID=America/New_York:20220918T230000
DTSTAMP:20260425T153540
CREATED:20220802T185312Z
LAST-MODIFIED:20220802T185829Z
UID:10004054-1663527600-1663542000@www.hudsonriver.com
SUMMARY:Chris Distefano: Right Intention\, Wrong Move
DESCRIPTION:Presented by AM Productions\nChris Distefano is one of today’s biggest and most beloved names in comedy. Chris quickly rose to success after being named the funniest person on MTV for his show-stopping performances on the Guy Code/Girl Code series. From there\, he went on to star in IFC’s Benders\, co-host the Netflix gameshow Ultimate Beastmaster\, and even had his own CBS sitcom. Outside of television\, Chris has also become one of the most respected and flat-out funniest comedians in the standup world. Fresh off his appearances on The Late Show with David Letterman and Late Night with Seth Meyers\, Chris released his Comedy Central special 38 Waist\, which perfectly encompassed both his Brooklyn-born edge and nice-guy charm. \n\n\nWhen Chris isn’t on stage delivering his gut-busting jokes\, you can catch him in his element in the comfort of his own couch where he records his wildly successful podcasts\, “Chrissy Chaos” and “Hey Babe”\, alongside Impractical Jokers’ Sal Vulcano. Both podcasts are among the most popular on all streaming platforms and have massive followings on Patreon. A big sports fan\, Chris has been fortunate to host episodes of shows including MLB’s Off The Bat and MSG’s The Brackets\, and was invited by the New York Mets to throw the first game pitch in 2021. Chris has a fearless\, yet endearing stage presence\, and his natural ability to connect with audiences around the world has made him a household name in not just comedy\, but all of entertainment. Since selling out the world-famous Beacon Theater in New York City\, Chris continues to travel the country on a sold out comedy tour\, entertaining thousands by poking fun at the world—and himself—with his uniquely warm energy. Chris’ second full-length special\, Speshy Weshy\, premiered on Netflix this past May. \nLIMITED AVAILABILITY $50 Post-Show Meet n’ Greet Add On\nDoes not include ticket to performance\, must be purchased separately 
URL:https://www.hudsonriver.com/hhrt/event/chris-distefano-right-intention-wrong-move/
LOCATION:Tarrytown Music Hall\, 13 Main Street\, Tarrytown\, 10591
CATEGORIES:Performing Arts
ATTACH;FMTTYPE=image/jpeg:https://www.hudsonriver.com/hhrt/wp-content/uploads/2022/08/ChrisDiStefano22fb.jpg
ORGANIZER;CN="Tarrytown Music Hall":MAILTO:tickets@tarrytownmusichall.org
GEO:41.0766387;-73.8587686
X-APPLE-STRUCTURED-LOCATION;VALUE=URI;X-ADDRESS=Tarrytown Music Hall 13 Main Street Tarrytown 10591;X-APPLE-RADIUS=500;X-TITLE=13 Main Street:geo:-73.8587686,41.0766387
END:VEVENT
BEGIN:VEVENT
DTSTART;TZID=America/New_York:20220919T100000
DTEND;TZID=America/New_York:20220919T160000
DTSTAMP:20260425T153540
CREATED:20220930T220043Z
LAST-MODIFIED:20221001T125905Z
UID:10004281-1663581600-1663603200@www.hudsonriver.com
SUMMARY:Myths and Mysteries of the Armour Stiner Octagon House
DESCRIPTION:18 miles north of New York City\, high on a bank along The Hudson River sits The Armour-Stiner (Octagon) House. Built in 1860\, this enigmatic\, eight-sided\, domed landmark is the pride of the Village of Irvington\, in the heart of “Sleepy Hollow Country.” During the month of October\, The Octagon House is pleased to announce a special ‘Myths and Mysteries’ tour to celebrate the Halloween season. \nFor years\, local rumors have swirled around The Octagon House\, implying its connection to the spirit world. Join us as we delve into the myths and mysteries of the house — from its unique dome shape resembling an ancient Roman temple\, to its octagonal floor plan rooted in 19th century Phrenology\, to speculations of a resident ghost\, we’ll share stories from the current owners who have described their experiences of the house as something otherworldly. Come hear tales of the unexplained and uncanny events that have occurred in this magical house while experiencing the delight of this meticulously restored architectural wonder.
URL:https://www.hudsonriver.com/hhrt/event/myths-and-mysteries-of-the-armour-stiner-octagon-house/2022-09-19/
LOCATION:The Armour Stiner Octagon House
CATEGORIES:Tours
END:VEVENT
END:VCALENDAR