BEGIN:VCALENDAR
VERSION:2.0
PRODID:-//Historic Hudson River Towns - ECPv6.15.20//NONSGML v1.0//EN
CALSCALE:GREGORIAN
METHOD:PUBLISH
X-WR-CALNAME:Historic Hudson River Towns
X-ORIGINAL-URL:https://www.hudsonriver.com/hhrt
X-WR-CALDESC:Events for Historic Hudson River Towns
REFRESH-INTERVAL;VALUE=DURATION:PT1H
X-Robots-Tag:noindex
X-PUBLISHED-TTL:PT1H
BEGIN:VTIMEZONE
TZID:America/New_York
BEGIN:DAYLIGHT
TZOFFSETFROM:-0500
TZOFFSETTO:-0400
TZNAME:EDT
DTSTART:20210314T070000
END:DAYLIGHT
BEGIN:STANDARD
TZOFFSETFROM:-0400
TZOFFSETTO:-0500
TZNAME:EST
DTSTART:20211107T060000
END:STANDARD
BEGIN:DAYLIGHT
TZOFFSETFROM:-0500
TZOFFSETTO:-0400
TZNAME:EDT
DTSTART:20220313T070000
END:DAYLIGHT
BEGIN:STANDARD
TZOFFSETFROM:-0400
TZOFFSETTO:-0500
TZNAME:EST
DTSTART:20221106T060000
END:STANDARD
BEGIN:DAYLIGHT
TZOFFSETFROM:-0500
TZOFFSETTO:-0400
TZNAME:EDT
DTSTART:20230312T070000
END:DAYLIGHT
BEGIN:STANDARD
TZOFFSETFROM:-0400
TZOFFSETTO:-0500
TZNAME:EST
DTSTART:20231105T060000
END:STANDARD
END:VTIMEZONE
BEGIN:VEVENT
DTSTART;TZID=America/New_York:20220911T120000
DTEND;TZID=America/New_York:20220911T160000
DTSTAMP:20260424T204914
CREATED:20220803T150711Z
LAST-MODIFIED:20220803T150711Z
UID:10004130-1662897600-1662912000@www.hudsonriver.com
SUMMARY:Brunch•ish & Beats at The Greek•ish
DESCRIPTION:Join The Greek•ish for Brunch•ish & Beats Every Sunday from 12:00 PM to 4:00 PM. \nListen to tunes provided by Joe Davids Events as you enjoy a two-course menu featuring specials like Poached Egg Spanakopita\, Greek Honey French Toast & Fruit\, or Sausage Spetsofai & Sunny Egg. Plus\, Bottomless Mimosas\, Bloody Marys\, and Rosé on tap. \n$35 per person \nReserve your spot now: 845-353-1200
URL:https://www.hudsonriver.com/hhrt/event/brunchish-beats-at-the-greekish/2022-09-11/
LOCATION:The Greek•ish\, 8 North Broadway\, Nyack\, NY\, 10960\, United States
CATEGORIES:Food & Beverage,Performing Arts
ATTACH;FMTTYPE=image/jpeg:https://www.hudsonriver.com/hhrt/wp-content/uploads/2022/08/greekish-brunchish-beats-2021-1024x1024-1.jpg
GEO:41.0913552;-73.9183234
X-APPLE-STRUCTURED-LOCATION;VALUE=URI;X-ADDRESS=The Greek•ish 8 North Broadway Nyack NY 10960 United States;X-APPLE-RADIUS=500;X-TITLE=8 North Broadway:geo:-73.9183234,41.0913552
END:VEVENT
BEGIN:VEVENT
DTSTART;TZID=America/New_York:20220911T190000
DTEND;TZID=America/New_York:20220911T190000
DTSTAMP:20260424T204914
CREATED:20220802T183438Z
LAST-MODIFIED:20220802T190000Z
UID:10004050-1662922800-1662922800@www.hudsonriver.com
SUMMARY:Dionne Warwick
DESCRIPTION:Presented by The Tarrytown Music Hall\nDionne Warwick is a six-time Grammy Award-winning music legend who has earned more than 75 charted hit songs and sold over 100 millionrecords. She was discovered by Burt Bacharach and Hal David in 1961\, and went on to record 18 consecutive Top 100 singles (“Don’t Make Me Over\,” Walk on By\,” “Say a Little Prayer\,” “A House is Not a Home\,” “Alfie\,” “Heartbreaker\,” “Déjà Vu\,” among countless others). She received her first Grammy in 1968 for “Do You Know the Way to San Jose?”. \n\nMs. Warwick became the first African-American solo female artist of her generation to win the prestigious award for Best Contemporary Female Vocalist Performance. In 1985\, she participated in the recording of “That’s What Friends Are For\,” which became a number-one hit worldwide and raised awareness and major funds for AIDS research\, which she continues to support\, among other causes such as The Starlight Foundation\, children’s hospitals\, world hunger\, disaster relief\, and music education for which she has been honored and has raised millions of dollars. Ms. Warwick also participated in the all-star charity single\, “We Are the World” and performed at “Live Aid.” Ms. Warwick has been honored by AMFAR\, the Desert Aids Project\, and Clive Davis at his pre-Grammy party. Ms. Warwick was also inducted into The Grammy Museum where a special 50th Anniversary career exhibit was unveiled. Most recently\, Ms. Warwick released a star-studded duets album entitled\, “Feels So Good\,” featuring collaborations with some of today’s greatest artists. Most recently\, Warwick was the recipient of the coveted and prestigious 2017 Marian Anderson Award for her career accomplishments and philanthropy. She was honored in a 2018 PBS Television Special\, “Then Came You\,” was named 2019 Ambassador to the Smithonian Institute’s Year in Music and is a 2019 Grammy Lifetime Achievement Award recipient.
URL:https://www.hudsonriver.com/hhrt/event/dionne-warwick/
LOCATION:Tarrytown Music Hall\, 13 Main Street\, Tarrytown\, 10591
CATEGORIES:Performing Arts
ATTACH;FMTTYPE=image/jpeg:https://www.hudsonriver.com/hhrt/wp-content/uploads/2022/08/DionneWarwick22fb.jpg
ORGANIZER;CN="Tarrytown Music Hall":MAILTO:tickets@tarrytownmusichall.org
GEO:41.0766387;-73.8587686
X-APPLE-STRUCTURED-LOCATION;VALUE=URI;X-ADDRESS=Tarrytown Music Hall 13 Main Street Tarrytown 10591;X-APPLE-RADIUS=500;X-TITLE=13 Main Street:geo:-73.8587686,41.0766387
END:VEVENT
BEGIN:VEVENT
DTSTART;TZID=America/New_York:20220912T100000
DTEND;TZID=America/New_York:20220912T160000
DTSTAMP:20260424T204914
CREATED:20220930T220043Z
LAST-MODIFIED:20221001T125905Z
UID:10004276-1662976800-1662998400@www.hudsonriver.com
SUMMARY:Myths and Mysteries of the Armour Stiner Octagon House
DESCRIPTION:18 miles north of New York City\, high on a bank along The Hudson River sits The Armour-Stiner (Octagon) House. Built in 1860\, this enigmatic\, eight-sided\, domed landmark is the pride of the Village of Irvington\, in the heart of “Sleepy Hollow Country.” During the month of October\, The Octagon House is pleased to announce a special ‘Myths and Mysteries’ tour to celebrate the Halloween season. \nFor years\, local rumors have swirled around The Octagon House\, implying its connection to the spirit world. Join us as we delve into the myths and mysteries of the house — from its unique dome shape resembling an ancient Roman temple\, to its octagonal floor plan rooted in 19th century Phrenology\, to speculations of a resident ghost\, we’ll share stories from the current owners who have described their experiences of the house as something otherworldly. Come hear tales of the unexplained and uncanny events that have occurred in this magical house while experiencing the delight of this meticulously restored architectural wonder.
URL:https://www.hudsonriver.com/hhrt/event/myths-and-mysteries-of-the-armour-stiner-octagon-house/2022-09-12/
LOCATION:The Armour Stiner Octagon House
CATEGORIES:Tours
END:VEVENT
BEGIN:VEVENT
DTSTART;TZID=America/New_York:20220914T200000
DTEND;TZID=America/New_York:20220914T200000
DTSTAMP:20260424T204914
CREATED:20220802T183724Z
LAST-MODIFIED:20220802T185950Z
UID:10004051-1663185600-1663185600@www.hudsonriver.com
SUMMARY:Henry Rollins - Good to See You 2022
DESCRIPTION:Presented by The Music Hall\nOn the Good To See You 2022 tour Henry will faithfully recount the events of his life in the brief pre-COVID period since the last tour and when things got even stranger over the last several months. It’s been an interesting time to say the least and he’s got some great stories to tell. \n\nIn describing Henry Rollins\, the tendency is to try to squeeze as many labels as possible into a single sentence. “Rollins is many things\,” says The Washington Post\, “diatribist\, confessor\, provocateur\, humorist\, even motivational speaker…his is an enthusiastic and engaging chatter.” Entertainment Weekly’s list includes “Punk Rock icon. Spoken word poet. Actor. Author. DJ. Is there anything this guy can’t do?” TV Guide has more concisely called him a “Renaissance Man” but if Henry Rollins could be reduced to a single word\, that word would undoubtedly be “workaholic.” When he’s not traveling\, Rollins prefers a to keep a relentless schedule full of work\, with gigs as an actor\, author\, DJ\, voice-over artist and TV show host to name a few of the roles that keep his schedule full. Rollins has toured the world as a spoken word artist\, as frontman for both Rollins Band and Black Flag and as a solitary traveler with insatiable curiosity\, favoring road-less-traveled locales in places such as Nepal\, Sri Lan
URL:https://www.hudsonriver.com/hhrt/event/henry-rollins-good-to-see-you-2022/
LOCATION:Tarrytown Music Hall\, 13 Main Street\, Tarrytown\, 10591
CATEGORIES:Performing Arts
ATTACH;FMTTYPE=image/jpeg:https://www.hudsonriver.com/hhrt/wp-content/uploads/2022/08/HenryRollins22newdatefb.jpg
ORGANIZER;CN="Tarrytown Music Hall":MAILTO:tickets@tarrytownmusichall.org
GEO:41.0766387;-73.8587686
X-APPLE-STRUCTURED-LOCATION;VALUE=URI;X-ADDRESS=Tarrytown Music Hall 13 Main Street Tarrytown 10591;X-APPLE-RADIUS=500;X-TITLE=13 Main Street:geo:-73.8587686,41.0766387
END:VEVENT
BEGIN:VEVENT
DTSTART;TZID=America/New_York:20220915T080000
DTEND;TZID=America/New_York:20220915T140000
DTSTAMP:20260424T204914
CREATED:20220802T191521Z
LAST-MODIFIED:20221001T133007Z
UID:10004064-1663228800-1663250400@www.hudsonriver.com
SUMMARY:Nyack Farmers Market
DESCRIPTION:Nyack Farmers Market – A Four Season Outdoor Farmers Market \nThe Market offers a cornucopia of the best local produce\, grass-fed meat\, fresh seafood\, beautiful baked goods\, perfectly prepared foods\, and handcrafted goods ready to fill your tables and gift baskets.
URL:https://www.hudsonriver.com/hhrt/event/nyack-farmers-market/2022-09-15/
LOCATION:Main Street Parking Lot\, 119 Main Street\, Nyack\, NY\, 10960\, United States
CATEGORIES:Family Fun,Farmers Market,Food & Beverage,Outdoor,Shopping
ATTACH;FMTTYPE=image/png:https://www.hudsonriver.com/hhrt/wp-content/uploads/2022/08/Nyack-Farmers-Market-Spring-2022-Profile-1024x1024-1.png
ORGANIZER;CN="Nyack Chamber of Commerce":MAILTO:info@nyackchamber.org
GEO:41.091068;-73.920167
X-APPLE-STRUCTURED-LOCATION;VALUE=URI;X-ADDRESS=Main Street Parking Lot 119 Main Street Nyack NY 10960 United States;X-APPLE-RADIUS=500;X-TITLE=119 Main Street:geo:-73.920167,41.091068
END:VEVENT
BEGIN:VEVENT
DTSTART;TZID=America/New_York:20220915T100000
DTEND;TZID=America/New_York:20220915T160000
DTSTAMP:20260424T204914
CREATED:20220930T220043Z
LAST-MODIFIED:20221001T125905Z
UID:10004277-1663236000-1663257600@www.hudsonriver.com
SUMMARY:Myths and Mysteries of the Armour Stiner Octagon House
DESCRIPTION:18 miles north of New York City\, high on a bank along The Hudson River sits The Armour-Stiner (Octagon) House. Built in 1860\, this enigmatic\, eight-sided\, domed landmark is the pride of the Village of Irvington\, in the heart of “Sleepy Hollow Country.” During the month of October\, The Octagon House is pleased to announce a special ‘Myths and Mysteries’ tour to celebrate the Halloween season. \nFor years\, local rumors have swirled around The Octagon House\, implying its connection to the spirit world. Join us as we delve into the myths and mysteries of the house — from its unique dome shape resembling an ancient Roman temple\, to its octagonal floor plan rooted in 19th century Phrenology\, to speculations of a resident ghost\, we’ll share stories from the current owners who have described their experiences of the house as something otherworldly. Come hear tales of the unexplained and uncanny events that have occurred in this magical house while experiencing the delight of this meticulously restored architectural wonder.
URL:https://www.hudsonriver.com/hhrt/event/myths-and-mysteries-of-the-armour-stiner-octagon-house/2022-09-15/
LOCATION:The Armour Stiner Octagon House
CATEGORIES:Tours
END:VEVENT
BEGIN:VEVENT
DTSTART;TZID=America/New_York:20220915T183000
DTEND;TZID=America/New_York:20220915T183000
DTSTAMP:20260424T204914
CREATED:20220930T220137Z
LAST-MODIFIED:20221001T130245Z
UID:10004362-1663266600-1663266600@www.hudsonriver.com
SUMMARY:Summer Sunset Jazz at Lyndhurst Mansion
DESCRIPTION:Relax on Lyndhurst’s great lawn and enjoy the beautiful sunset with cool music by hot jazz artists! \nSunset Jazz is back for the 2022 season! Presented by Jazz Forum Arts\, the 12th year of this concert series kicks off July 7th and runs through August 25th on the Lyndhurst Bowling Alley Lawn. \nWe recommend reserving a grounds access ticket in advance to reserve your parking space\, for expedited entry\, and advance notice of any cancellations. \nJazz attendees can enter the property starting at 4 pm\, the concert begins at 6:30 pm and ends by 8 pm. \nPicnicking is encouraged!
URL:https://www.hudsonriver.com/hhrt/event/summer-sunset-jazz-at-lyndhurst-mansion/2022-09-15/
LOCATION:Lyndhurst Mansion\, 635 S Broadway\, Tarrytown\, NY\, 10591\, United States
CATEGORIES:Performing Arts
ORGANIZER;CN="Lyndhurst":MAILTO:lyndhurst@savingplaces.org
GEO:41.053629;-73.861134
X-APPLE-STRUCTURED-LOCATION;VALUE=URI;X-ADDRESS=Lyndhurst Mansion 635 S Broadway Tarrytown NY 10591 United States;X-APPLE-RADIUS=500;X-TITLE=635 S Broadway:geo:-73.861134,41.053629
END:VEVENT
BEGIN:VEVENT
DTSTART;TZID=America/New_York:20220916T100000
DTEND;TZID=America/New_York:20220916T153000
DTSTAMP:20260424T204914
CREATED:20220803T160359Z
LAST-MODIFIED:20221102T183421Z
UID:10004164-1663322400-1663342200@www.hudsonriver.com
SUMMARY:Home of the 'Legend'
DESCRIPTION:Explore “The Legend of Sleepy Hollow”\nAt this family-friendly happening\, visitors can tour Washington Irving’s house—decorated for the season—watch an original shadow puppet short film\, and enjoy games on the lawn. A special exhibit highlights how the Legend has lived in the imagination of popular culture through the centuries since its publication.
URL:https://www.hudsonriver.com/hhrt/event/home-of-the-legend/2022-09-16/
LOCATION:Washington Irving’s Sunnyside\, 3 West Sunnyside Lane\, Irvington\, NY\, United States
CATEGORIES:Family Fun,Film,Outdoor,Performing Arts
ATTACH;FMTTYPE=image/jpeg:https://www.hudsonriver.com/hhrt/wp-content/uploads/2022/08/newsnet-photo-fid-1292043.jpg
GEO:41.0478448;-73.8687143
X-APPLE-STRUCTURED-LOCATION;VALUE=URI;X-ADDRESS=Washington Irving’s Sunnyside 3 West Sunnyside Lane Irvington NY United States;X-APPLE-RADIUS=500;X-TITLE=3 West Sunnyside Lane:geo:-73.8687143,41.0478448
END:VEVENT
BEGIN:VEVENT
DTSTART;TZID=America/New_York:20220916T100000
DTEND;TZID=America/New_York:20220916T160000
DTSTAMP:20260424T204914
CREATED:20220930T220043Z
LAST-MODIFIED:20221001T125905Z
UID:10004278-1663322400-1663344000@www.hudsonriver.com
SUMMARY:Myths and Mysteries of the Armour Stiner Octagon House
DESCRIPTION:18 miles north of New York City\, high on a bank along The Hudson River sits The Armour-Stiner (Octagon) House. Built in 1860\, this enigmatic\, eight-sided\, domed landmark is the pride of the Village of Irvington\, in the heart of “Sleepy Hollow Country.” During the month of October\, The Octagon House is pleased to announce a special ‘Myths and Mysteries’ tour to celebrate the Halloween season. \nFor years\, local rumors have swirled around The Octagon House\, implying its connection to the spirit world. Join us as we delve into the myths and mysteries of the house — from its unique dome shape resembling an ancient Roman temple\, to its octagonal floor plan rooted in 19th century Phrenology\, to speculations of a resident ghost\, we’ll share stories from the current owners who have described their experiences of the house as something otherworldly. Come hear tales of the unexplained and uncanny events that have occurred in this magical house while experiencing the delight of this meticulously restored architectural wonder.
URL:https://www.hudsonriver.com/hhrt/event/myths-and-mysteries-of-the-armour-stiner-octagon-house/2022-09-16/
LOCATION:The Armour Stiner Octagon House
CATEGORIES:Tours
END:VEVENT
BEGIN:VEVENT
DTSTART;TZID=America/New_York:20220916T200000
DTEND;TZID=America/New_York:20220916T200000
DTSTAMP:20260424T204914
CREATED:20220802T184943Z
LAST-MODIFIED:20220802T185938Z
UID:10004052-1663358400-1663358400@www.hudsonriver.com
SUMMARY:Reelin' in the Years - Celebrating the Music of Steely Dan
DESCRIPTION:Presented by The Music Hall\nReelin’ in the Years celebrates the timeless music of Steely Dan. Comprised of world class touring and recording session musicians that reads like a who’s who in the music industry\, including bandleader and drummer Jerry Marotta. \n\nBased in Woodstock\, NY\, Reelin’ have sold out all of the major venues they’ve performed in for the last few years. Don’t miss your chance to see this legendary group of musicians live in concert.
URL:https://www.hudsonriver.com/hhrt/event/reelin-in-the-years-celebrating-the-music-of-steely-dan/
LOCATION:Tarrytown Music Hall\, 13 Main Street\, Tarrytown\, 10591
CATEGORIES:Performing Arts
ATTACH;FMTTYPE=image/jpeg:https://www.hudsonriver.com/hhrt/wp-content/uploads/2022/08/ReelinIn22fb.jpg
ORGANIZER;CN="Tarrytown Music Hall":MAILTO:tickets@tarrytownmusichall.org
GEO:41.0766387;-73.8587686
X-APPLE-STRUCTURED-LOCATION;VALUE=URI;X-ADDRESS=Tarrytown Music Hall 13 Main Street Tarrytown 10591;X-APPLE-RADIUS=500;X-TITLE=13 Main Street:geo:-73.8587686,41.0766387
END:VEVENT
END:VCALENDAR