BEGIN:VCALENDAR
VERSION:2.0
PRODID:-//Historic Hudson River Towns - ECPv6.15.20//NONSGML v1.0//EN
CALSCALE:GREGORIAN
METHOD:PUBLISH
X-WR-CALNAME:Historic Hudson River Towns
X-ORIGINAL-URL:https://www.hudsonriver.com/hhrt
X-WR-CALDESC:Events for Historic Hudson River Towns
REFRESH-INTERVAL;VALUE=DURATION:PT1H
X-Robots-Tag:noindex
X-PUBLISHED-TTL:PT1H
BEGIN:VTIMEZONE
TZID:America/New_York
BEGIN:DAYLIGHT
TZOFFSETFROM:-0500
TZOFFSETTO:-0400
TZNAME:EDT
DTSTART:20210314T070000
END:DAYLIGHT
BEGIN:STANDARD
TZOFFSETFROM:-0400
TZOFFSETTO:-0500
TZNAME:EST
DTSTART:20211107T060000
END:STANDARD
BEGIN:DAYLIGHT
TZOFFSETFROM:-0500
TZOFFSETTO:-0400
TZNAME:EDT
DTSTART:20220313T070000
END:DAYLIGHT
BEGIN:STANDARD
TZOFFSETFROM:-0400
TZOFFSETTO:-0500
TZNAME:EST
DTSTART:20221106T060000
END:STANDARD
BEGIN:DAYLIGHT
TZOFFSETFROM:-0500
TZOFFSETTO:-0400
TZNAME:EDT
DTSTART:20230312T070000
END:DAYLIGHT
BEGIN:STANDARD
TZOFFSETFROM:-0400
TZOFFSETTO:-0500
TZNAME:EST
DTSTART:20231105T060000
END:STANDARD
END:VTIMEZONE
BEGIN:VEVENT
DTSTART;TZID=America/New_York:20220825T193000
DTEND;TZID=America/New_York:20220825T213000
DTSTAMP:20260424T100607
CREATED:20220708T140412Z
LAST-MODIFIED:20220708T140430Z
UID:10004040-1661455800-1661463000@www.hudsonriver.com
SUMMARY:Bored Teachers Summer Comedy Tour
DESCRIPTION:The Ultimate Teacher Comedy Lineup! Don’t miss out on the funniest night of your life. You deserve it after this past school year!\nThe biggest entertainment platform for teachers in the world Bored Teachers presents its first-ever comedy tour with all your favorite teacher-comedians from the Bored Teachers videos and beyond! Their hilarious skits have amassed HUNDREDS OF MILLIONS of views on the internet\, and they’re all joining comic forces on the stage for a night of laughter you DO NOT want to miss… Don’t live with FOMO for the rest of your life. Put that red pen down\, pause that Netflix series you’ve been bingeing\, throw on your comfiest teacher tee\, call your teacher besties\, and come burn off some of that stress this school year has been dumping all over you.
URL:https://www.hudsonriver.com/hhrt/event/bored-teachers-summer-comedy-tour/
LOCATION:Paramount Hudson Valley Theater\, 1008 Brown St\, Peekskill\, NY\, 10566\, United States
CATEGORIES:Performing Arts
ATTACH;FMTTYPE=image/png:https://www.hudsonriver.com/hhrt/wp-content/uploads/2022/07/Bored-Teachers-banner.png
ORGANIZER;CN="Paramount Hudson Valley Theater":MAILTO:boxoffice@paramounthudsonvalley.com
GEO:41.2902344;-73.9196783
X-APPLE-STRUCTURED-LOCATION;VALUE=URI;X-ADDRESS=Paramount Hudson Valley Theater 1008 Brown St Peekskill NY 10566 United States;X-APPLE-RADIUS=500;X-TITLE=1008 Brown St:geo:-73.9196783,41.2902344
END:VEVENT
BEGIN:VEVENT
DTSTART;TZID=America/New_York:20220826T183000
DTEND;TZID=America/New_York:20220826T200000
DTSTAMP:20260424T100607
CREATED:20220803T144929Z
LAST-MODIFIED:20220803T145653Z
UID:10004122-1661538600-1661544000@www.hudsonriver.com
SUMMARY:A Journey Through The Stars & Signs: 4-Part Astrology Series
DESCRIPTION:Class 1: During this introduction to the cosmos\, we will be diving into what a natal chart is\, what a “Big Three” is\, characteristics of the 12 Zodiac Signs\, and 10 of the Planets/Luminaries that make up your chart! We will use examples from my chart to better understand how these placements may show up for someone. \nClass 2: On this journey into the stars\, we will look further into the natal chart\, discussing the 4 angles that split up the chart\, along with the descriptions of the first 6 houses! \nClass 3: We will blast off again into the last 6 houses of the natal chart\, completing all 12 houses of the zodiacal wheel. These last 6 houses get very deep\, so we will spend a lot of time discussing what they all mean\, and how they affect us. \nClass 4: Lastly\, we will dive into the North Node and South Node\, Chiron\, and astrology words and phrases that may help you understand the Astrological jargon better! During this session\, we will also be clearing up any questions you may have about the prior sessions. \n$40 Per Class. Save $40 and sign up for all 4 classes for only $120! \nClasses 1 + 2 are prerequisites for Classes 3 + 4  \nRead more about this class series at https://modern-druid.com/upcoming-events
URL:https://www.hudsonriver.com/hhrt/event/a-journey-through-the-stars-signs-4-part-astrology-series/2022-08-26/
LOCATION:Modern Druid\, 60 S Broadway\, Nyack\, NY\, 10960\, United States
CATEGORIES:Educational
ATTACH;FMTTYPE=image/png:https://www.hudsonriver.com/hhrt/wp-content/uploads/2022/08/Screen-Shot-2022-06-26-at-1.30.07-PM-1536x633-1.png
ORGANIZER;CN="Modern Druid":MAILTO:hello@modern-druid.com
GEO:41.0884392;-73.9190844
X-APPLE-STRUCTURED-LOCATION;VALUE=URI;X-ADDRESS=Modern Druid 60 S Broadway Nyack NY 10960 United States;X-APPLE-RADIUS=500;X-TITLE=60 S Broadway:geo:-73.9190844,41.0884392
END:VEVENT
BEGIN:VEVENT
DTSTART;TZID=America/New_York:20220826T193000
DTEND;TZID=America/New_York:20220826T193000
DTSTAMP:20260424T100607
CREATED:20220804T141213Z
LAST-MODIFIED:20220804T141213Z
UID:10004210-1661542200-1661542200@www.hudsonriver.com
SUMMARY:Mayor Spano's Summer Films: Jungle Cruise
DESCRIPTION:
URL:https://www.hudsonriver.com/hhrt/event/mayor-spanos-summer-films-jungle-cruise/
LOCATION:Conor Park\, McLean and Central Park Ave.\, Yonkers\, NY\, 10701\, United States
CATEGORIES:Family Fun,Film,Outdoor
ATTACH;FMTTYPE=image/jpeg:https://www.hudsonriver.com/hhrt/wp-content/uploads/2022/08/637943501862930000.jpg
GEO:40.9088138;-73.8778891
X-APPLE-STRUCTURED-LOCATION;VALUE=URI;X-ADDRESS=Conor Park McLean and Central Park Ave. Yonkers NY 10701 United States;X-APPLE-RADIUS=500;X-TITLE=McLean and Central Park Ave.:geo:-73.8778891,40.9088138
END:VEVENT
BEGIN:VEVENT
DTSTART;TZID=America/New_York:20220827T111500
DTEND;TZID=America/New_York:20220827T124500
DTSTAMP:20260424T100607
CREATED:20220803T153708Z
LAST-MODIFIED:20220803T153708Z
UID:10004147-1661598900-1661604300@www.hudsonriver.com
SUMMARY:Joey G’s Nyack Food Tours
DESCRIPTION:Join Joey G. for a classic Saturday lunchtime tour\, a 2.5-3 hour excursion throughout the charming Village of Nyack\, NY. This is a family-friendly tour which includes specially curated tastings at five Nyack “Culinary Landmarks.” The tour also includes historical stops along the route. \nGuests 21 & up can add a wine/beer tasting for an additional fee. \nThe tour is indoor/outdoor and walks up and down hill for 1.5 mile total. \n$50 per guest \nPrivate tours also available! Contact Joe for details. Check out the full schedule here:
URL:https://www.hudsonriver.com/hhrt/event/joey-gs-nyack-food-tours/2022-08-27/
LOCATION:Downtown Nyack\, Broadway & Main Street\, Nyack\, 10960
CATEGORIES:Family Fun,Food & Beverage
ATTACH;FMTTYPE=image/jpeg:https://www.hudsonriver.com/hhrt/wp-content/uploads/2022/08/JoeyG-Food-Tours-MyFathersHouse-scaled-e1652117880888.jpeg
GEO:41.0909771;-73.9182411
X-APPLE-STRUCTURED-LOCATION;VALUE=URI;X-ADDRESS=Downtown Nyack Broadway & Main Street Nyack 10960;X-APPLE-RADIUS=500;X-TITLE=Broadway & Main Street:geo:-73.9182411,41.0909771
END:VEVENT
BEGIN:VEVENT
DTSTART;TZID=America/New_York:20220827T113000
DTEND;TZID=America/New_York:20220827T123000
DTSTAMP:20260424T100607
CREATED:20220427T191058Z
LAST-MODIFIED:20220505T161612Z
UID:10004004-1661599800-1661603400@www.hudsonriver.com
SUMMARY:Sleepy Hollow Cemetery – Original Knickerbocker Tour
DESCRIPTION:The Original Knickerbocker: Washington Irving & “The Legend of Sleepy Hollow”. \nMeet the father of the American short story on this one-hour tour of Sleepy Hollow Cemetery! Learn all about Washington Irving\, his impact on American Literature and the enduring appeal of “The Legend of Sleepy Hollow”\, which recently celebrated its Bicentennial. Best of all\, you’ll find out why Irving is called the Original Knickerbocker! \nIt’s a fun way to spend an hour exploring the south end of the cemetery! \nDates: Saturdays and Sundays from 11:30 a.m. – 12:30 p.m. and 2:00 – 3:00 p.m. through August. Fall dates will be posted later in the summer.
URL:https://www.hudsonriver.com/hhrt/event/sleepy-hollow-cemetery-original-knickerbocker-tour/2022-08-27/
LOCATION:Sleepy Hollow Cemetery – South Gate\, 430 North Broadway\, Sleepy Hollow\, 10591
CATEGORIES:Tours
ATTACH;FMTTYPE=image/jpeg:https://www.hudsonriver.com/hhrt/wp-content/uploads/2022/04/sleepy-hollow-cemetery-tour-scaled-1.jpg
GEO:41.0904182;-73.8619118
X-APPLE-STRUCTURED-LOCATION;VALUE=URI;X-ADDRESS=Sleepy Hollow Cemetery – South Gate 430 North Broadway Sleepy Hollow 10591;X-APPLE-RADIUS=500;X-TITLE=430 North Broadway:geo:-73.8619118,41.0904182
END:VEVENT
BEGIN:VEVENT
DTSTART;TZID=America/New_York:20220828T113000
DTEND;TZID=America/New_York:20220828T123000
DTSTAMP:20260424T100607
CREATED:20220427T191058Z
LAST-MODIFIED:20220505T161612Z
UID:10004005-1661686200-1661689800@www.hudsonriver.com
SUMMARY:Sleepy Hollow Cemetery – Original Knickerbocker Tour
DESCRIPTION:The Original Knickerbocker: Washington Irving & “The Legend of Sleepy Hollow”. \nMeet the father of the American short story on this one-hour tour of Sleepy Hollow Cemetery! Learn all about Washington Irving\, his impact on American Literature and the enduring appeal of “The Legend of Sleepy Hollow”\, which recently celebrated its Bicentennial. Best of all\, you’ll find out why Irving is called the Original Knickerbocker! \nIt’s a fun way to spend an hour exploring the south end of the cemetery! \nDates: Saturdays and Sundays from 11:30 a.m. – 12:30 p.m. and 2:00 – 3:00 p.m. through August. Fall dates will be posted later in the summer.
URL:https://www.hudsonriver.com/hhrt/event/sleepy-hollow-cemetery-original-knickerbocker-tour/2022-08-28/
LOCATION:Sleepy Hollow Cemetery – South Gate\, 430 North Broadway\, Sleepy Hollow\, 10591
CATEGORIES:Tours
ATTACH;FMTTYPE=image/jpeg:https://www.hudsonriver.com/hhrt/wp-content/uploads/2022/04/sleepy-hollow-cemetery-tour-scaled-1.jpg
GEO:41.0904182;-73.8619118
X-APPLE-STRUCTURED-LOCATION;VALUE=URI;X-ADDRESS=Sleepy Hollow Cemetery – South Gate 430 North Broadway Sleepy Hollow 10591;X-APPLE-RADIUS=500;X-TITLE=430 North Broadway:geo:-73.8619118,41.0904182
END:VEVENT
BEGIN:VEVENT
DTSTART;TZID=America/New_York:20220828T120000
DTEND;TZID=America/New_York:20220828T160000
DTSTAMP:20260424T100607
CREATED:20220803T150711Z
LAST-MODIFIED:20220803T150711Z
UID:10004128-1661688000-1661702400@www.hudsonriver.com
SUMMARY:Brunch•ish & Beats at The Greek•ish
DESCRIPTION:Join The Greek•ish for Brunch•ish & Beats Every Sunday from 12:00 PM to 4:00 PM. \nListen to tunes provided by Joe Davids Events as you enjoy a two-course menu featuring specials like Poached Egg Spanakopita\, Greek Honey French Toast & Fruit\, or Sausage Spetsofai & Sunny Egg. Plus\, Bottomless Mimosas\, Bloody Marys\, and Rosé on tap. \n$35 per person \nReserve your spot now: 845-353-1200
URL:https://www.hudsonriver.com/hhrt/event/brunchish-beats-at-the-greekish/2022-08-28/
LOCATION:The Greek•ish\, 8 North Broadway\, Nyack\, NY\, 10960\, United States
CATEGORIES:Food & Beverage,Performing Arts
ATTACH;FMTTYPE=image/jpeg:https://www.hudsonriver.com/hhrt/wp-content/uploads/2022/08/greekish-brunchish-beats-2021-1024x1024-1.jpg
GEO:41.0913552;-73.9183234
X-APPLE-STRUCTURED-LOCATION;VALUE=URI;X-ADDRESS=The Greek•ish 8 North Broadway Nyack NY 10960 United States;X-APPLE-RADIUS=500;X-TITLE=8 North Broadway:geo:-73.9183234,41.0913552
END:VEVENT
BEGIN:VEVENT
DTSTART;TZID=America/New_York:20220828T150000
DTEND;TZID=America/New_York:20220828T170000
DTSTAMP:20260424T100607
CREATED:20220805T152035Z
LAST-MODIFIED:20220805T153330Z
UID:10004221-1661698800-1661706000@www.hudsonriver.com
SUMMARY:Hastings on Jazz -  Sunday Afternoons - June 12 thru September 4th
DESCRIPTION:
URL:https://www.hudsonriver.com/hhrt/event/hastings-on-jazz-sunday-afternoons-june-12-thru-september-4th/2022-08-28/
LOCATION:VFW Plaza\, 7 Maple Ave\, Hastings-on-Hudson\, NY\, 10706\, United States
CATEGORIES:Family Fun,Performing Arts
ATTACH;FMTTYPE=image/jpeg:https://www.hudsonriver.com/hhrt/wp-content/uploads/2022/08/hastingsonjazz-5-12-22-550x850-1.jpg
GEO:40.9953665;-73.8837363
X-APPLE-STRUCTURED-LOCATION;VALUE=URI;X-ADDRESS=VFW Plaza 7 Maple Ave Hastings-on-Hudson NY 10706 United States;X-APPLE-RADIUS=500;X-TITLE=7 Maple Ave:geo:-73.8837363,40.9953665
END:VEVENT
BEGIN:VEVENT
DTSTART;TZID=America/New_York:20220830T183000
DTEND;TZID=America/New_York:20220830T200000
DTSTAMP:20260424T100607
CREATED:20220803T162128Z
LAST-MODIFIED:20220803T162128Z
UID:10004198-1661884200-1661889600@www.hudsonriver.com
SUMMARY:Jazz at Horan’s Landing
DESCRIPTION:Enjoy four free Tuesday evenings of Jazz at Sleepy Hollow’s waterfront Horan’s Landing Park with Mark Morganelli & The Jazz Forum All-Stars! Flugelhornist Mark Morganelli\, with featured artists Eddie Monteiro and Nanny Assis\, presents contemporary interpretations of Brazilian classics. \nBring a picnic dinner or enjoy local food truck fare while watching the sun set over the Hudson River. \n2022 Schedule: Tuesdays\, August 2\, 9\, 16 & 23. \nThis series of free concerts is presented by Jazz Forum Arts\, a 501©3\, not-for-profit arts presenting organization whose mission is to present top-quality events to the public at little or no cost\, while enhancing the appreciation of Jazz\, America’s preeminent indigenous musical art form.
URL:https://www.hudsonriver.com/hhrt/event/jazz-at-horans-landing/2022-08-30/
LOCATION:Horan’s Landing Park\, 57 River Street\, Sleepy Hollow\, NY\, 10591\, United States
CATEGORIES:Family Fun,Outdoor,Performing Arts
ATTACH;FMTTYPE=image/webp:https://www.hudsonriver.com/hhrt/wp-content/uploads/2022/08/Horans-landing.webp
ORGANIZER;CN="Jazz Forum Arts":MAILTO:info@jazzforumarts.org
GEO:41.08111;-73.8682569
X-APPLE-STRUCTURED-LOCATION;VALUE=URI;X-ADDRESS=Horan’s Landing Park 57 River Street Sleepy Hollow NY 10591 United States;X-APPLE-RADIUS=500;X-TITLE=57 River Street:geo:-73.8682569,41.08111
END:VEVENT
BEGIN:VEVENT
DTSTART;TZID=America/New_York:20220901T080000
DTEND;TZID=America/New_York:20220901T140000
DTSTAMP:20260424T100607
CREATED:20220802T191521Z
LAST-MODIFIED:20221001T133007Z
UID:10004062-1662019200-1662040800@www.hudsonriver.com
SUMMARY:Nyack Farmers Market
DESCRIPTION:Nyack Farmers Market – A Four Season Outdoor Farmers Market \nThe Market offers a cornucopia of the best local produce\, grass-fed meat\, fresh seafood\, beautiful baked goods\, perfectly prepared foods\, and handcrafted goods ready to fill your tables and gift baskets.
URL:https://www.hudsonriver.com/hhrt/event/nyack-farmers-market/2022-09-01/
LOCATION:Main Street Parking Lot\, 119 Main Street\, Nyack\, NY\, 10960\, United States
CATEGORIES:Family Fun,Farmers Market,Food & Beverage,Outdoor,Shopping
ATTACH;FMTTYPE=image/png:https://www.hudsonriver.com/hhrt/wp-content/uploads/2022/08/Nyack-Farmers-Market-Spring-2022-Profile-1024x1024-1.png
ORGANIZER;CN="Nyack Chamber of Commerce":MAILTO:info@nyackchamber.org
GEO:41.091068;-73.920167
X-APPLE-STRUCTURED-LOCATION;VALUE=URI;X-ADDRESS=Main Street Parking Lot 119 Main Street Nyack NY 10960 United States;X-APPLE-RADIUS=500;X-TITLE=119 Main Street:geo:-73.920167,41.091068
END:VEVENT
BEGIN:VEVENT
DTSTART;TZID=America/New_York:20220901T183000
DTEND;TZID=America/New_York:20220901T183000
DTSTAMP:20260424T100607
CREATED:20220930T220137Z
LAST-MODIFIED:20221001T130245Z
UID:10004360-1662057000-1662057000@www.hudsonriver.com
SUMMARY:Summer Sunset Jazz at Lyndhurst Mansion
DESCRIPTION:Relax on Lyndhurst’s great lawn and enjoy the beautiful sunset with cool music by hot jazz artists! \nSunset Jazz is back for the 2022 season! Presented by Jazz Forum Arts\, the 12th year of this concert series kicks off July 7th and runs through August 25th on the Lyndhurst Bowling Alley Lawn. \nWe recommend reserving a grounds access ticket in advance to reserve your parking space\, for expedited entry\, and advance notice of any cancellations. \nJazz attendees can enter the property starting at 4 pm\, the concert begins at 6:30 pm and ends by 8 pm. \nPicnicking is encouraged!
URL:https://www.hudsonriver.com/hhrt/event/summer-sunset-jazz-at-lyndhurst-mansion/2022-09-01/
LOCATION:Lyndhurst Mansion\, 635 S Broadway\, Tarrytown\, NY\, 10591\, United States
CATEGORIES:Performing Arts
ORGANIZER;CN="Lyndhurst":MAILTO:lyndhurst@savingplaces.org
GEO:41.053629;-73.861134
X-APPLE-STRUCTURED-LOCATION;VALUE=URI;X-ADDRESS=Lyndhurst Mansion 635 S Broadway Tarrytown NY 10591 United States;X-APPLE-RADIUS=500;X-TITLE=635 S Broadway:geo:-73.861134,41.053629
END:VEVENT
BEGIN:VEVENT
DTSTART;TZID=America/New_York:20220903T200000
DTEND;TZID=America/New_York:20220903T220000
DTSTAMP:20260424T100607
CREATED:20220711T162625Z
LAST-MODIFIED:20220711T162625Z
UID:10004041-1662235200-1662242400@www.hudsonriver.com
SUMMARY:John Cafferty and The Beaver Brown Band
DESCRIPTION:Loaded Concerts and WPDH presents John Cafferty and The Beaver Brown Band! \nThe legendary multi-platinum “East Coast Rock’n’Roll” group John Cafferty & The Beaver Brown Band began their career in 1972 and achieved mainstream success in the 1980s with the “Eddie & The Cruisers – Motion Picture Soundtrack”.  The hit single “On the Dark Side” held the “Number-One” position on the Billboard Rock charts and the MTV video charts for “five” consecutive weeks.  The album sold over 3 million copies and was certified triple Platinum by the RIAA. \nThe title track from the group’s 1985 follow-up album “Tough All Over” became their second “Number-One” single on the Billboard Rock charts and the song “C-I-T-Y” reached the Billboard Top 20.  John Cafferty’s solo track “Hearts on Fire” was featured in the Sylvester Stallone film “Rocky IV” and he received his second double Platinum soundtrack award.  Over the years John has placed 35 songs in major motion pictures. \nToday John Cafferty and the Beaver Brown Band continue to tour and bring their exciting live shows to fans around the world.  In 2012 they were inducted into the Rhode Island Music Hall Of Fame.
URL:https://www.hudsonriver.com/hhrt/event/john-cafferty-and-the-beaver-brown-band/
LOCATION:Paramount Hudson Valley Theater\, 1008 Brown St\, Peekskill\, NY\, 10566\, United States
CATEGORIES:Performing Arts
ATTACH;FMTTYPE=image/jpeg:https://www.hudsonriver.com/hhrt/wp-content/uploads/2022/07/John-Cafferty-web-banner.jpg
ORGANIZER;CN="Paramount Hudson Valley Theater":MAILTO:boxoffice@paramounthudsonvalley.com
GEO:41.2902344;-73.9196783
X-APPLE-STRUCTURED-LOCATION;VALUE=URI;X-ADDRESS=Paramount Hudson Valley Theater 1008 Brown St Peekskill NY 10566 United States;X-APPLE-RADIUS=500;X-TITLE=1008 Brown St:geo:-73.9196783,41.2902344
END:VEVENT
BEGIN:VEVENT
DTSTART;TZID=America/New_York:20220904T120000
DTEND;TZID=America/New_York:20220904T160000
DTSTAMP:20260424T100607
CREATED:20220803T150711Z
LAST-MODIFIED:20220803T150711Z
UID:10004129-1662292800-1662307200@www.hudsonriver.com
SUMMARY:Brunch•ish & Beats at The Greek•ish
DESCRIPTION:Join The Greek•ish for Brunch•ish & Beats Every Sunday from 12:00 PM to 4:00 PM. \nListen to tunes provided by Joe Davids Events as you enjoy a two-course menu featuring specials like Poached Egg Spanakopita\, Greek Honey French Toast & Fruit\, or Sausage Spetsofai & Sunny Egg. Plus\, Bottomless Mimosas\, Bloody Marys\, and Rosé on tap. \n$35 per person \nReserve your spot now: 845-353-1200
URL:https://www.hudsonriver.com/hhrt/event/brunchish-beats-at-the-greekish/2022-09-04/
LOCATION:The Greek•ish\, 8 North Broadway\, Nyack\, NY\, 10960\, United States
CATEGORIES:Food & Beverage,Performing Arts
ATTACH;FMTTYPE=image/jpeg:https://www.hudsonriver.com/hhrt/wp-content/uploads/2022/08/greekish-brunchish-beats-2021-1024x1024-1.jpg
GEO:41.0913552;-73.9183234
X-APPLE-STRUCTURED-LOCATION;VALUE=URI;X-ADDRESS=The Greek•ish 8 North Broadway Nyack NY 10960 United States;X-APPLE-RADIUS=500;X-TITLE=8 North Broadway:geo:-73.9183234,41.0913552
END:VEVENT
BEGIN:VEVENT
DTSTART;TZID=America/New_York:20220904T150000
DTEND;TZID=America/New_York:20220904T170000
DTSTAMP:20260424T100607
CREATED:20220805T152035Z
LAST-MODIFIED:20220805T153330Z
UID:10004222-1662303600-1662310800@www.hudsonriver.com
SUMMARY:Hastings on Jazz -  Sunday Afternoons - June 12 thru September 4th
DESCRIPTION:
URL:https://www.hudsonriver.com/hhrt/event/hastings-on-jazz-sunday-afternoons-june-12-thru-september-4th/2022-09-04/
LOCATION:VFW Plaza\, 7 Maple Ave\, Hastings-on-Hudson\, NY\, 10706\, United States
CATEGORIES:Family Fun,Performing Arts
ATTACH;FMTTYPE=image/jpeg:https://www.hudsonriver.com/hhrt/wp-content/uploads/2022/08/hastingsonjazz-5-12-22-550x850-1.jpg
GEO:40.9953665;-73.8837363
X-APPLE-STRUCTURED-LOCATION;VALUE=URI;X-ADDRESS=VFW Plaza 7 Maple Ave Hastings-on-Hudson NY 10706 United States;X-APPLE-RADIUS=500;X-TITLE=7 Maple Ave:geo:-73.8837363,40.9953665
END:VEVENT
BEGIN:VEVENT
DTSTART;TZID=America/New_York:20220904T170000
DTEND;TZID=America/New_York:20220904T170000
DTSTAMP:20260424T100607
CREATED:20220804T145326Z
LAST-MODIFIED:20220804T145326Z
UID:10004215-1662310800-1662310800@www.hudsonriver.com
SUMMARY:Concerts and Performances: ​The 2022 Minnie Untermyer Concert Series
DESCRIPTION:The Untermyer Gardens Conservancy announces its second annual Minnie Untermyer Concert Series. Taking place from May 28 to September 4\, 2022 in the amphitheater in the magnificent Walled Garden and overlooking the length of this monumental Indo-Persian space\, eleven concerts have been scheduled. There will be classical orchestral and vocal music\, as well as three dance performances. Popular offerings will include both jazz and American songbook. A gospel choir from Brooklyn will be featured\, as well as Indian and Persian fare. \n​\n​Click the images below to purchase tickets to each performance.\nThe Athenians\, August 7\n\n \n\n\n\nEnjoy the Athenians in a superb vocal performance featuring the best of opera\, Broadway and the Great American Songbook. Seen at top venues and events in New York City including Carnegie Hall\, there will even be an appearance by a ballet dancer! \nIn case of inclement weather\, the performance will move indoors to the Community Room of the Cola Center at Untermyer Park and Gardens.\nTickets are $40 each. Click here or the image above to purchase tickets.\n\n\n\n\n\nVictor LaGamma Ensemble\, August 14\n\n \n\n\n\nA longstanding favorite at Untermyer Gardens\, the Yonkers-based quartet comprised of Victor LaGamma-piano\, Dylan LaGamma-bass\, Jon Doty-Drums\, and Matt Garrison-sax\, performs artistic and popular favorites of the jazz idiom\, with butterflies ascending and descending in the late summer splendor of the garden. \nIn case of inclement weather\, the performance will move indoors to the Community Room of the Cola Center at Untermyer Park and Gardens.\nTickets are $20 each. Click here or the image above to purchase tickets.\n\n\n\n\n\nLori Belilove and the Isadora Duncan Dance Company\, September 4\n\n \n\n\n\nThe world famous Isadora Dancers performed at Untermyer Gardens in 1922 and 1932. Experience groundbreaking modern dance of the early twentieth century set to beautiful classical music at this historic setting. \nRain Date Monday September 5 at 5:00 p.m.\nTickets are $50 each. Click here or the image above to purchase tickets.
URL:https://www.hudsonriver.com/hhrt/event/concerts-and-performances-the-2022-minnie-untermyer-concert-series/2022-09-04/
LOCATION:Untermyer Gardens\, 945 N Broadway\, Yonkers\, NY\, 10701\, United States
CATEGORIES:Garden,Outdoor,Performing Arts
ATTACH;FMTTYPE=image/jpeg:https://www.hudsonriver.com/hhrt/wp-content/uploads/2022/08/391864803_orig.jpg
GEO:40.9660181;-73.8859641
X-APPLE-STRUCTURED-LOCATION;VALUE=URI;X-ADDRESS=Untermyer Gardens 945 N Broadway Yonkers NY 10701 United States;X-APPLE-RADIUS=500;X-TITLE=945 N Broadway:geo:-73.8859641,40.9660181
END:VEVENT
END:VCALENDAR