BEGIN:VCALENDAR
VERSION:2.0
PRODID:-//Historic Hudson River Towns - ECPv6.15.20//NONSGML v1.0//EN
CALSCALE:GREGORIAN
METHOD:PUBLISH
X-WR-CALNAME:Historic Hudson River Towns
X-ORIGINAL-URL:https://www.hudsonriver.com/hhrt
X-WR-CALDESC:Events for Historic Hudson River Towns
REFRESH-INTERVAL;VALUE=DURATION:PT1H
X-Robots-Tag:noindex
X-PUBLISHED-TTL:PT1H
BEGIN:VTIMEZONE
TZID:America/New_York
BEGIN:DAYLIGHT
TZOFFSETFROM:-0500
TZOFFSETTO:-0400
TZNAME:EDT
DTSTART:20210314T070000
END:DAYLIGHT
BEGIN:STANDARD
TZOFFSETFROM:-0400
TZOFFSETTO:-0500
TZNAME:EST
DTSTART:20211107T060000
END:STANDARD
BEGIN:DAYLIGHT
TZOFFSETFROM:-0500
TZOFFSETTO:-0400
TZNAME:EDT
DTSTART:20220313T070000
END:DAYLIGHT
BEGIN:STANDARD
TZOFFSETFROM:-0400
TZOFFSETTO:-0500
TZNAME:EST
DTSTART:20221106T060000
END:STANDARD
BEGIN:DAYLIGHT
TZOFFSETFROM:-0500
TZOFFSETTO:-0400
TZNAME:EDT
DTSTART:20230312T070000
END:DAYLIGHT
BEGIN:STANDARD
TZOFFSETFROM:-0400
TZOFFSETTO:-0500
TZNAME:EST
DTSTART:20231105T060000
END:STANDARD
END:VTIMEZONE
BEGIN:VEVENT
DTSTART;TZID=America/New_York:20220825T193000
DTEND;TZID=America/New_York:20220825T213000
DTSTAMP:20260423T194520
CREATED:20220708T140412Z
LAST-MODIFIED:20220708T140430Z
UID:10004040-1661455800-1661463000@www.hudsonriver.com
SUMMARY:Bored Teachers Summer Comedy Tour
DESCRIPTION:The Ultimate Teacher Comedy Lineup! Don’t miss out on the funniest night of your life. You deserve it after this past school year!\nThe biggest entertainment platform for teachers in the world Bored Teachers presents its first-ever comedy tour with all your favorite teacher-comedians from the Bored Teachers videos and beyond! Their hilarious skits have amassed HUNDREDS OF MILLIONS of views on the internet\, and they’re all joining comic forces on the stage for a night of laughter you DO NOT want to miss… Don’t live with FOMO for the rest of your life. Put that red pen down\, pause that Netflix series you’ve been bingeing\, throw on your comfiest teacher tee\, call your teacher besties\, and come burn off some of that stress this school year has been dumping all over you.
URL:https://www.hudsonriver.com/hhrt/event/bored-teachers-summer-comedy-tour/
LOCATION:Paramount Hudson Valley Theater\, 1008 Brown St\, Peekskill\, NY\, 10566\, United States
CATEGORIES:Performing Arts
ATTACH;FMTTYPE=image/png:https://www.hudsonriver.com/hhrt/wp-content/uploads/2022/07/Bored-Teachers-banner.png
ORGANIZER;CN="Paramount Hudson Valley Theater":MAILTO:boxoffice@paramounthudsonvalley.com
GEO:41.2902344;-73.9196783
X-APPLE-STRUCTURED-LOCATION;VALUE=URI;X-ADDRESS=Paramount Hudson Valley Theater 1008 Brown St Peekskill NY 10566 United States;X-APPLE-RADIUS=500;X-TITLE=1008 Brown St:geo:-73.9196783,41.2902344
END:VEVENT
END:VCALENDAR