BEGIN:VCALENDAR
VERSION:2.0
PRODID:-//Historic Hudson River Towns - ECPv6.15.20//NONSGML v1.0//EN
CALSCALE:GREGORIAN
METHOD:PUBLISH
X-WR-CALNAME:Historic Hudson River Towns
X-ORIGINAL-URL:https://www.hudsonriver.com/hhrt
X-WR-CALDESC:Events for Historic Hudson River Towns
REFRESH-INTERVAL;VALUE=DURATION:PT1H
X-Robots-Tag:noindex
X-PUBLISHED-TTL:PT1H
BEGIN:VTIMEZONE
TZID:America/New_York
BEGIN:DAYLIGHT
TZOFFSETFROM:-0500
TZOFFSETTO:-0400
TZNAME:EDT
DTSTART:20210314T070000
END:DAYLIGHT
BEGIN:STANDARD
TZOFFSETFROM:-0400
TZOFFSETTO:-0500
TZNAME:EST
DTSTART:20211107T060000
END:STANDARD
BEGIN:DAYLIGHT
TZOFFSETFROM:-0500
TZOFFSETTO:-0400
TZNAME:EDT
DTSTART:20220313T070000
END:DAYLIGHT
BEGIN:STANDARD
TZOFFSETFROM:-0400
TZOFFSETTO:-0500
TZNAME:EST
DTSTART:20221106T060000
END:STANDARD
BEGIN:DAYLIGHT
TZOFFSETFROM:-0500
TZOFFSETTO:-0400
TZNAME:EDT
DTSTART:20230312T070000
END:DAYLIGHT
BEGIN:STANDARD
TZOFFSETFROM:-0400
TZOFFSETTO:-0500
TZNAME:EST
DTSTART:20231105T060000
END:STANDARD
END:VTIMEZONE
BEGIN:VEVENT
DTSTART;TZID=America/New_York:20220806T190000
DTEND;TZID=America/New_York:20220806T230000
DTSTAMP:20260421T132556
CREATED:20220803T145256Z
LAST-MODIFIED:20220804T145413Z
UID:10004123-1659812400-1659826800@www.hudsonriver.com
SUMMARY:Havana Nights at Hotel Nyack
DESCRIPTION:Enjoy an evening of music\, cigars\, and great food at Hotel Nyack!
URL:https://www.hudsonriver.com/hhrt/event/havana-nights-at-hotel-nyack/
LOCATION:Hotel Nyack\, 400 High Ave\, Nyack\, NY\, 10960\, United States
CATEGORIES:Family Fun,Food & Beverage
ATTACH;FMTTYPE=image/jpeg:https://www.hudsonriver.com/hhrt/wp-content/uploads/2022/08/Havana-Nights-8.6.22-Flyer-1187x1536-1.jpg
GEO:41.0947917;-73.9309763
X-APPLE-STRUCTURED-LOCATION;VALUE=URI;X-ADDRESS=Hotel Nyack 400 High Ave Nyack NY 10960 United States;X-APPLE-RADIUS=500;X-TITLE=400 High Ave:geo:-73.9309763,41.0947917
END:VEVENT
BEGIN:VEVENT
DTSTART;TZID=America/New_York:20220806T200000
DTEND;TZID=America/New_York:20220806T220000
DTSTAMP:20260421T132556
CREATED:20220803T150041Z
LAST-MODIFIED:20220803T150145Z
UID:10004124-1659816000-1659823200@www.hudsonriver.com
SUMMARY:Film Screening: SUMMER OF SOUL
DESCRIPTION:SUMMER OF SOUL\, presented by Garner Arts Center and Rivertown Film \nShowing: Saturday\, August 6\, 8:00 PM\nTitle: Summer of Soul\nYear: 2021\nCountry: USA Genre: Documentary\,Music\nDirector: Amhir Thompson \nView Trailer \nPurchase Tickets Now \nSummer of Soul (… Or\, When The Revolution Could Not Be Televised) is a feature documentary about the 1969 Harlem Cultural Festival\, directed by Ahmir “Questlove” Thompson\, drummer for The Roots and bandleader for The Tonight Show Starring Jimmy Fallon. USA\, 2021\, 118 minutes\, documentary. \nThis film marks Thompson’s feature directorial debut and focuses on the outdoor festival in Harlem’s Mount Morris Park that took place the same summer as the famed Woodstock festival and boasted an attendance on par with that concert 100 miles away. It featured dozens of extraordinary performances by artists including Stevie Wonder\, Sly and the Family Stone\, Nina Simone\, B.B. King\, the Staple Singers\, the 5th Dimension\, David Ruffin\, Mahalia Jackson and Gladys Knight and the Pips. Over 300\,000 people attended\, yet it received virtually no coverage from the mainstream media. The 40 hours of never-seen-before footage was originally shot by the late television pioneer Hal Tulchin\, but has largely remained in storage for the past 50 years\, keeping this incredible event in America’s history lost – until last year. \nTickets on sale HERE. $10 general admission. $8 for members and tenants of Garner Arts Center\, seniors\, students\, veterans\, and members of Rivertown Film (Rivertown members\, use the discount code RIVMEM). \nWinner of the 2022 Academy Award for Documentary Film\, a Grammy for Best Music Film\, a Peabody Arts Award\, a BAFTA Award for Best Documetary\, an Independent Spirit Award for Best Documentary\, the Sundance Grand Jury Prize\, and was named Best Documentary of 2021 by the National Board of Review. \n“Watching Summer of Soul\, what you experience is nothing less than the sound of freedom.” – Variety \n“Best Film of the Year” – The New York Times \n“Summer of Soul is both a tribute to the artists and\, just as importantly\, their audience — which is what makes it not just a great concert film but a great documentary\, period.” – Rolling Stone \n“Some of the performances are breathtaking\, and all of them are valuable\, like the political and social context that surrounds them.” – Wall Street Journal
URL:https://www.hudsonriver.com/hhrt/event/film-screening-summer-of-soul/
LOCATION:GARNER Arts Center\, 55 West Railroad Ave\, Garnerville\, NY\, 10923\, United States
CATEGORIES:Family Fun,Film,Performing Arts
ATTACH;FMTTYPE=image/jpeg:https://www.hudsonriver.com/hhrt/wp-content/uploads/2022/08/SummerOfSoul_rivertown-film-2022.jpg
GEO:41.2076131;-73.9895684
X-APPLE-STRUCTURED-LOCATION;VALUE=URI;X-ADDRESS=GARNER Arts Center 55 West Railroad Ave Garnerville NY 10923 United States;X-APPLE-RADIUS=500;X-TITLE=55 West Railroad Ave:geo:-73.9895684,41.2076131
END:VEVENT
BEGIN:VEVENT
DTSTART;TZID=America/New_York:20220806T200000
DTEND;TZID=America/New_York:20220806T220000
DTSTAMP:20260421T132556
CREATED:20220523T153137Z
LAST-MODIFIED:20220523T153137Z
UID:10004024-1659816000-1659823200@www.hudsonriver.com
SUMMARY:The Felice Brothers
DESCRIPTION:Folk-rock legends the Felice Brothers and singer/songwriter Skullcrusher to perform at the Paramount for the first time EVER on Saturday\, August 6! \nHeadliners the Felice Brothers have toured across the United States and Europe for over a decade\, playing at festivals such as Bonnaroo\, Outside Lands\, Newport Folk\, and England’s End of the Road. They’re down-to-earth road warriors whose talent is matched only by their humility. \nHelen Ballentine – aka Skullcrusher – has spent a lifetime understanding that she looks neither tough nor intense. With wispy blond hair and a delicate frame\, people usually assume she’s sweet\, polite\, smart\, maybe even meek. Ballentine laughs when she recounts being flattened by a soccer ball in fifth grade or the family friends recently tickled by her band name\, Skullcrusher. How could someone so slight and soft\, they wondered\, wield something so heavy and aggressive? Her stinging songwriting belies any fragility of appearance.
URL:https://www.hudsonriver.com/hhrt/event/the-felice-brothers/
LOCATION:Paramount Hudson Valley Theater\, 1008 Brown St\, Peekskill\, NY\, 10566\, United States
CATEGORIES:Performing Arts
ATTACH;FMTTYPE=image/png:https://www.hudsonriver.com/hhrt/wp-content/uploads/2022/05/FeliceBrothers22-REV2.png
ORGANIZER;CN="Paramount Hudson Valley Theater":MAILTO:boxoffice@paramounthudsonvalley.com
GEO:41.2902344;-73.9196783
X-APPLE-STRUCTURED-LOCATION;VALUE=URI;X-ADDRESS=Paramount Hudson Valley Theater 1008 Brown St Peekskill NY 10566 United States;X-APPLE-RADIUS=500;X-TITLE=1008 Brown St:geo:-73.9196783,41.2902344
END:VEVENT
BEGIN:VEVENT
DTSTART;TZID=America/New_York:20220806T200000
DTEND;TZID=America/New_York:20220806T223000
DTSTAMP:20260421T132556
CREATED:20220803T143115Z
LAST-MODIFIED:20220803T143115Z
UID:10004118-1659816000-1659825000@www.hudsonriver.com
SUMMARY:A Doll’s House\, Part 2 at Elmwood Playhouse
DESCRIPTION:A Doll’s House\, Part 2 is set fifteen years after the end of Ibsen’s original play\, when Nora walked out of her house and her marriage. While her husband Torvald continued to work and raise their family\, Nora followed her own path. Now Nora has returned home to face what she left behind. Can she still justify her actions to leave and fulfill her dreams? After all that has happened\, will Torvald be willing to give her what she wants? A surprising and contemporary look at the lives we choose\, and the ones we leave behind. \nPresented by special arrangement with Dramatists Play Service\, Inc. \nPerformances now through August 6 \nVisit our website for tickets and more information.
URL:https://www.hudsonriver.com/hhrt/event/a-dolls-house-part-2-at-elmwood-playhouse/2022-08-06/
LOCATION:Elmwood Playhouse\, 10 Park St\, Nyack\, NY\, 10960\, United States
CATEGORIES:Film,Performing Arts
ATTACH;FMTTYPE=image/png:https://www.hudsonriver.com/hhrt/wp-content/uploads/2022/08/DH2addTN.png
ORGANIZER;CN="Elmwood Playhouse":MAILTO:info@elmwoodplayhouse.com
GEO:41.0918879;-73.9197701
X-APPLE-STRUCTURED-LOCATION;VALUE=URI;X-ADDRESS=Elmwood Playhouse 10 Park St Nyack NY 10960 United States;X-APPLE-RADIUS=500;X-TITLE=10 Park St:geo:-73.9197701,41.0918879
END:VEVENT
BEGIN:VEVENT
DTSTART;TZID=America/New_York:20220807T110000
DTEND;TZID=America/New_York:20220807T170000
DTSTAMP:20260421T132556
CREATED:20220415T203858Z
LAST-MODIFIED:20220415T203858Z
UID:10003934-1659870000-1659891600@www.hudsonriver.com
SUMMARY:Putnam County Wine & Food Fest in Cold Spring
DESCRIPTION:Michelle Cowans\nPhone: (845) 842-0575\nE-Mail: info@putnamcountywinefest.com\nWebsite: http://www.putnamcountywinefest.com\nTickets/Registration: https://www.squadup.com/hosts/6702488/events\nAdmission Fee: Tasting Ticket: 30 \nCome and celebrate with us at our 11th anniversary of Putnam County Wine & Food Fest on the majestic view of the Hudson Valley. The fest takes place Saturday\, August 6\, 11 am to 6 pm\, and Sunday\, August 7\, 2022 11 am to 5 pm\, at Mayor’s Park\, 61 Fair Street\, Cold Spring\, NY 10516.\nThis family fun-filled fest highlights the abundance of food and spirits available in the Hudson Valley and beyond. It provides an ideal day in the country for anyone who loves the farm to table and artisanal lifestyle. You can sip wine\, spirits\, cider\, and\, if you like what you have tasted\, you can purchase either by the bottle or the case. Listen to live music\, while you shop from additional vendors including honey\, olive oil\, fine crafts\, specialty foods\, food vendors including the beer tent which are available to purchase during the event. It also features cooking and mixology demonstrations and various activities for everyone including the kiddies. \nFood and beer are not included in the admission price. Tickets are Non-refundable. Rain or Shine.\nChildren age 12 and under are admitted free. \nGetting to the festival is a breeze; you can take the Metro-North Hudson Line to Cold Spring Station. Venue is within walking distance from the train\, take a short stroll through the beautiful Cold Spring and then a few blocks down Fair Street and you are at the festival! Click here for Metro-North’s schedule http://web.mta.info/mnr/html/planning/schedules/ You can also take the trolley from Beacon and around Cold Spring\, Garrison and the Highlands with stops at the venue. \nParking:\nFree parking is available at the Metro-North\, Cold Spring train station. Also\, at Route 9D parking lot near Northern Avenue. Free along the perimeter of Mayor’s Park and at Haldane High School\, 15 Craigside Drive\, Cold Spring\, NY with free shuttle to/from the venue. There is also metered parking at the Municipal Parking Lot just south of Mayor’s Park. \nTHERE IS LIMITED PARKING IN THE VILLAGE OF COLD SPRING. Shuttle buses run between Haldane High School and the festival area all day. All shuttle buses are handicapped accessible.
URL:https://www.hudsonriver.com/hhrt/event/putnam-county-wine-food-fest-in-cold-spring/2022-08-07/
LOCATION:Mayor’s Park\, 61 Fair Street\, Cold Spring\, NY\, 10516\, United States
CATEGORIES:Food & Beverage
ATTACH;FMTTYPE=image/jpeg:https://www.hudsonriver.com/hhrt/wp-content/uploads/2022/04/putnamcountywinefest.jpg
GEO:41.420153;-73.9607837
X-APPLE-STRUCTURED-LOCATION;VALUE=URI;X-ADDRESS=Mayor’s Park 61 Fair Street Cold Spring NY 10516 United States;X-APPLE-RADIUS=500;X-TITLE=61 Fair Street:geo:-73.9607837,41.420153
END:VEVENT
BEGIN:VEVENT
DTSTART;TZID=America/New_York:20220807T113000
DTEND;TZID=America/New_York:20220807T123000
DTSTAMP:20260421T132556
CREATED:20220427T191058Z
LAST-MODIFIED:20220505T161612Z
UID:10003999-1659871800-1659875400@www.hudsonriver.com
SUMMARY:Sleepy Hollow Cemetery – Original Knickerbocker Tour
DESCRIPTION:The Original Knickerbocker: Washington Irving & “The Legend of Sleepy Hollow”. \nMeet the father of the American short story on this one-hour tour of Sleepy Hollow Cemetery! Learn all about Washington Irving\, his impact on American Literature and the enduring appeal of “The Legend of Sleepy Hollow”\, which recently celebrated its Bicentennial. Best of all\, you’ll find out why Irving is called the Original Knickerbocker! \nIt’s a fun way to spend an hour exploring the south end of the cemetery! \nDates: Saturdays and Sundays from 11:30 a.m. – 12:30 p.m. and 2:00 – 3:00 p.m. through August. Fall dates will be posted later in the summer.
URL:https://www.hudsonriver.com/hhrt/event/sleepy-hollow-cemetery-original-knickerbocker-tour/2022-08-07/
LOCATION:Sleepy Hollow Cemetery – South Gate\, 430 North Broadway\, Sleepy Hollow\, 10591
CATEGORIES:Tours
ATTACH;FMTTYPE=image/jpeg:https://www.hudsonriver.com/hhrt/wp-content/uploads/2022/04/sleepy-hollow-cemetery-tour-scaled-1.jpg
GEO:41.0904182;-73.8619118
X-APPLE-STRUCTURED-LOCATION;VALUE=URI;X-ADDRESS=Sleepy Hollow Cemetery – South Gate 430 North Broadway Sleepy Hollow 10591;X-APPLE-RADIUS=500;X-TITLE=430 North Broadway:geo:-73.8619118,41.0904182
END:VEVENT
BEGIN:VEVENT
DTSTART;TZID=America/New_York:20220807T120000
DTEND;TZID=America/New_York:20220807T160000
DTSTAMP:20260421T132556
CREATED:20220803T150711Z
LAST-MODIFIED:20220803T150711Z
UID:10004125-1659873600-1659888000@www.hudsonriver.com
SUMMARY:Brunch•ish & Beats at The Greek•ish
DESCRIPTION:Join The Greek•ish for Brunch•ish & Beats Every Sunday from 12:00 PM to 4:00 PM. \nListen to tunes provided by Joe Davids Events as you enjoy a two-course menu featuring specials like Poached Egg Spanakopita\, Greek Honey French Toast & Fruit\, or Sausage Spetsofai & Sunny Egg. Plus\, Bottomless Mimosas\, Bloody Marys\, and Rosé on tap. \n$35 per person \nReserve your spot now: 845-353-1200
URL:https://www.hudsonriver.com/hhrt/event/brunchish-beats-at-the-greekish/2022-08-07/
LOCATION:The Greek•ish\, 8 North Broadway\, Nyack\, NY\, 10960\, United States
CATEGORIES:Food & Beverage,Performing Arts
ATTACH;FMTTYPE=image/jpeg:https://www.hudsonriver.com/hhrt/wp-content/uploads/2022/08/greekish-brunchish-beats-2021-1024x1024-1.jpg
GEO:41.0913552;-73.9183234
X-APPLE-STRUCTURED-LOCATION;VALUE=URI;X-ADDRESS=The Greek•ish 8 North Broadway Nyack NY 10960 United States;X-APPLE-RADIUS=500;X-TITLE=8 North Broadway:geo:-73.9183234,41.0913552
END:VEVENT
BEGIN:VEVENT
DTSTART;TZID=America/New_York:20220807T150000
DTEND;TZID=America/New_York:20220807T170000
DTSTAMP:20260421T132556
CREATED:20220805T152035Z
LAST-MODIFIED:20220805T153330Z
UID:10004218-1659884400-1659891600@www.hudsonriver.com
SUMMARY:Hastings on Jazz -  Sunday Afternoons - June 12 thru September 4th
DESCRIPTION:
URL:https://www.hudsonriver.com/hhrt/event/hastings-on-jazz-sunday-afternoons-june-12-thru-september-4th/2022-08-07/
LOCATION:VFW Plaza\, 7 Maple Ave\, Hastings-on-Hudson\, NY\, 10706\, United States
CATEGORIES:Family Fun,Performing Arts
ATTACH;FMTTYPE=image/jpeg:https://www.hudsonriver.com/hhrt/wp-content/uploads/2022/08/hastingsonjazz-5-12-22-550x850-1.jpg
GEO:40.9953665;-73.8837363
X-APPLE-STRUCTURED-LOCATION;VALUE=URI;X-ADDRESS=VFW Plaza 7 Maple Ave Hastings-on-Hudson NY 10706 United States;X-APPLE-RADIUS=500;X-TITLE=7 Maple Ave:geo:-73.8837363,40.9953665
END:VEVENT
BEGIN:VEVENT
DTSTART;TZID=America/New_York:20220807T170000
DTEND;TZID=America/New_York:20220807T170000
DTSTAMP:20260421T132556
CREATED:20220804T145326Z
LAST-MODIFIED:20220804T145326Z
UID:10004213-1659891600-1659891600@www.hudsonriver.com
SUMMARY:Concerts and Performances: ​The 2022 Minnie Untermyer Concert Series
DESCRIPTION:The Untermyer Gardens Conservancy announces its second annual Minnie Untermyer Concert Series. Taking place from May 28 to September 4\, 2022 in the amphitheater in the magnificent Walled Garden and overlooking the length of this monumental Indo-Persian space\, eleven concerts have been scheduled. There will be classical orchestral and vocal music\, as well as three dance performances. Popular offerings will include both jazz and American songbook. A gospel choir from Brooklyn will be featured\, as well as Indian and Persian fare. \n​\n​Click the images below to purchase tickets to each performance.\nThe Athenians\, August 7\n\n \n\n\n\nEnjoy the Athenians in a superb vocal performance featuring the best of opera\, Broadway and the Great American Songbook. Seen at top venues and events in New York City including Carnegie Hall\, there will even be an appearance by a ballet dancer! \nIn case of inclement weather\, the performance will move indoors to the Community Room of the Cola Center at Untermyer Park and Gardens.\nTickets are $40 each. Click here or the image above to purchase tickets.\n\n\n\n\n\nVictor LaGamma Ensemble\, August 14\n\n \n\n\n\nA longstanding favorite at Untermyer Gardens\, the Yonkers-based quartet comprised of Victor LaGamma-piano\, Dylan LaGamma-bass\, Jon Doty-Drums\, and Matt Garrison-sax\, performs artistic and popular favorites of the jazz idiom\, with butterflies ascending and descending in the late summer splendor of the garden. \nIn case of inclement weather\, the performance will move indoors to the Community Room of the Cola Center at Untermyer Park and Gardens.\nTickets are $20 each. Click here or the image above to purchase tickets.\n\n\n\n\n\nLori Belilove and the Isadora Duncan Dance Company\, September 4\n\n \n\n\n\nThe world famous Isadora Dancers performed at Untermyer Gardens in 1922 and 1932. Experience groundbreaking modern dance of the early twentieth century set to beautiful classical music at this historic setting. \nRain Date Monday September 5 at 5:00 p.m.\nTickets are $50 each. Click here or the image above to purchase tickets.
URL:https://www.hudsonriver.com/hhrt/event/concerts-and-performances-the-2022-minnie-untermyer-concert-series/2022-08-07/
LOCATION:Untermyer Gardens\, 945 N Broadway\, Yonkers\, NY\, 10701\, United States
CATEGORIES:Garden,Outdoor,Performing Arts
ATTACH;FMTTYPE=image/jpeg:https://www.hudsonriver.com/hhrt/wp-content/uploads/2022/08/391864803_orig.jpg
GEO:40.9660181;-73.8859641
X-APPLE-STRUCTURED-LOCATION;VALUE=URI;X-ADDRESS=Untermyer Gardens 945 N Broadway Yonkers NY 10701 United States;X-APPLE-RADIUS=500;X-TITLE=945 N Broadway:geo:-73.8859641,40.9660181
END:VEVENT
BEGIN:VEVENT
DTSTART;TZID=America/New_York:20220809T183000
DTEND;TZID=America/New_York:20220809T200000
DTSTAMP:20260421T132556
CREATED:20220803T162128Z
LAST-MODIFIED:20220803T162128Z
UID:10004195-1660069800-1660075200@www.hudsonriver.com
SUMMARY:Jazz at Horan’s Landing
DESCRIPTION:Enjoy four free Tuesday evenings of Jazz at Sleepy Hollow’s waterfront Horan’s Landing Park with Mark Morganelli & The Jazz Forum All-Stars! Flugelhornist Mark Morganelli\, with featured artists Eddie Monteiro and Nanny Assis\, presents contemporary interpretations of Brazilian classics. \nBring a picnic dinner or enjoy local food truck fare while watching the sun set over the Hudson River. \n2022 Schedule: Tuesdays\, August 2\, 9\, 16 & 23. \nThis series of free concerts is presented by Jazz Forum Arts\, a 501©3\, not-for-profit arts presenting organization whose mission is to present top-quality events to the public at little or no cost\, while enhancing the appreciation of Jazz\, America’s preeminent indigenous musical art form.
URL:https://www.hudsonriver.com/hhrt/event/jazz-at-horans-landing/2022-08-09/
LOCATION:Horan’s Landing Park\, 57 River Street\, Sleepy Hollow\, NY\, 10591\, United States
CATEGORIES:Family Fun,Outdoor,Performing Arts
ATTACH;FMTTYPE=image/webp:https://www.hudsonriver.com/hhrt/wp-content/uploads/2022/08/Horans-landing.webp
ORGANIZER;CN="Jazz Forum Arts":MAILTO:info@jazzforumarts.org
GEO:41.08111;-73.8682569
X-APPLE-STRUCTURED-LOCATION;VALUE=URI;X-ADDRESS=Horan’s Landing Park 57 River Street Sleepy Hollow NY 10591 United States;X-APPLE-RADIUS=500;X-TITLE=57 River Street:geo:-73.8682569,41.08111
END:VEVENT
BEGIN:VEVENT
DTSTART;TZID=America/New_York:20220809T190000
DTEND;TZID=America/New_York:20220809T210000
DTSTAMP:20260421T132556
CREATED:20220802T161554Z
LAST-MODIFIED:20220803T151433Z
UID:10004045-1660071600-1660078800@www.hudsonriver.com
SUMMARY:Music on the Hudson Outdoor Concert Series
DESCRIPTION:The Nyack Parks Conservancy is again bringing swinging sounds to the banks of the Hudson River with their Music on the Hudson Concert Series this summer. \nConcerts are Tuesdays at 7-9pm. \nLocation: Nyack Memorial Park\, lower level\, on the Hudson River \nAll concerts are free to the public and are for all ages. Bring a blanket\, chairs and a picnic dinner and enjoy live music under the stars. Concessions and food will be available for purchase! \n2022 Summer Concert Lineup: \nJuly 5th – Sign of the 4 \nJuly 12th – Bulletproof Heart \nJuly 19th – The Very Bad Ideas \nJuly 26th – Fat Boi’s Brass Band \nAugust 2nd – Dead Meat \nAugust 9th – The Peek ‘80s New Wave Dance Party \n(Concert lineup subject to change – follow Nyack Parks Conservancy’s Facebook page for weather updates.)
URL:https://www.hudsonriver.com/hhrt/event/music-on-the-hudson-outdoor-concert-series/2022-08-09/
LOCATION:Village of Nyack Memorial Park\, 4 Depew Avenue\, Nyack\, NY\, 10960\, United States
CATEGORIES:Family Fun,Performing Arts
ATTACH;FMTTYPE=image/jpeg:https://www.hudsonriver.com/hhrt/wp-content/uploads/2022/08/NPC-Music-on-the-hudson-2019.jpg
ORGANIZER;CN="Nyack Parks Conservancy":MAILTO:info@nyackparks.org
GEO:41.0889325;-73.91667
X-APPLE-STRUCTURED-LOCATION;VALUE=URI;X-ADDRESS=Village of Nyack Memorial Park 4 Depew Avenue Nyack NY 10960 United States;X-APPLE-RADIUS=500;X-TITLE=4 Depew Avenue:geo:-73.91667,41.0889325
END:VEVENT
END:VCALENDAR