BEGIN:VCALENDAR
VERSION:2.0
PRODID:-//Historic Hudson River Towns - ECPv6.15.20//NONSGML v1.0//EN
CALSCALE:GREGORIAN
METHOD:PUBLISH
X-WR-CALNAME:Historic Hudson River Towns
X-ORIGINAL-URL:https://www.hudsonriver.com/hhrt
X-WR-CALDESC:Events for Historic Hudson River Towns
REFRESH-INTERVAL;VALUE=DURATION:PT1H
X-Robots-Tag:noindex
X-PUBLISHED-TTL:PT1H
BEGIN:VTIMEZONE
TZID:America/New_York
BEGIN:DAYLIGHT
TZOFFSETFROM:-0500
TZOFFSETTO:-0400
TZNAME:EDT
DTSTART:20210314T070000
END:DAYLIGHT
BEGIN:STANDARD
TZOFFSETFROM:-0400
TZOFFSETTO:-0500
TZNAME:EST
DTSTART:20211107T060000
END:STANDARD
BEGIN:DAYLIGHT
TZOFFSETFROM:-0500
TZOFFSETTO:-0400
TZNAME:EDT
DTSTART:20220313T070000
END:DAYLIGHT
BEGIN:STANDARD
TZOFFSETFROM:-0400
TZOFFSETTO:-0500
TZNAME:EST
DTSTART:20221106T060000
END:STANDARD
BEGIN:DAYLIGHT
TZOFFSETFROM:-0500
TZOFFSETTO:-0400
TZNAME:EDT
DTSTART:20230312T070000
END:DAYLIGHT
BEGIN:STANDARD
TZOFFSETFROM:-0400
TZOFFSETTO:-0500
TZNAME:EST
DTSTART:20231105T060000
END:STANDARD
END:VTIMEZONE
BEGIN:VEVENT
DTSTART;TZID=America/New_York:20220804T183000
DTEND;TZID=America/New_York:20220804T183000
DTSTAMP:20260419T222814
CREATED:20220930T220137Z
LAST-MODIFIED:20221001T130245Z
UID:10004316-1659637800-1659637800@www.hudsonriver.com
SUMMARY:Summer Sunset Jazz at Lyndhurst Mansion
DESCRIPTION:Relax on Lyndhurst’s great lawn and enjoy the beautiful sunset with cool music by hot jazz artists! \nSunset Jazz is back for the 2022 season! Presented by Jazz Forum Arts\, the 12th year of this concert series kicks off July 7th and runs through August 25th on the Lyndhurst Bowling Alley Lawn. \nWe recommend reserving a grounds access ticket in advance to reserve your parking space\, for expedited entry\, and advance notice of any cancellations. \nJazz attendees can enter the property starting at 4 pm\, the concert begins at 6:30 pm and ends by 8 pm. \nPicnicking is encouraged!
URL:https://www.hudsonriver.com/hhrt/event/summer-sunset-jazz-at-lyndhurst-mansion/2022-08-04/
LOCATION:Lyndhurst Mansion\, 635 S Broadway\, Tarrytown\, NY\, 10591\, United States
CATEGORIES:Performing Arts
ORGANIZER;CN="Lyndhurst":MAILTO:lyndhurst@savingplaces.org
GEO:41.053629;-73.861134
X-APPLE-STRUCTURED-LOCATION;VALUE=URI;X-ADDRESS=Lyndhurst Mansion 635 S Broadway Tarrytown NY 10591 United States;X-APPLE-RADIUS=500;X-TITLE=635 S Broadway:geo:-73.861134,41.053629
END:VEVENT
BEGIN:VEVENT
DTSTART;TZID=America/New_York:20220804T183000
DTEND;TZID=America/New_York:20220804T200000
DTSTAMP:20260419T222814
CREATED:20220803T161706Z
LAST-MODIFIED:20220803T162713Z
UID:10004191-1659637800-1659643200@www.hudsonriver.com
SUMMARY:Sunset Jazz at Lyndhurst
DESCRIPTION:Enjoy eight free Thursday evenings of Jazz at Tarrytown’s Lyndhurst mansion while watching the sun set over the Hudson River. \nPicnicking is encouraged! Lyndhurst has also partnered with local caterer Geordane’s for preordered food and to-snacks during each show. Wine will be available to purchase ahead of time from  MySherry &more Inc ONLY alongside the purchase of food. Please let Geordane’s know that you have also ordered beverages when you place your picnic order. Jimmy’s Soft Serve will also be in attendance! \n2022 Schedule: Thursdays\, July 7 through August 25. \nJuly 7 – Fukushi Tainaka Organ Quartet\nJuly 14 – Peter Hand Quintet\nJuly 21 – Dave Schumacher & Cubeye\nJuly 28 – Mike Holober Quintet featuring Marvin Stamm\nAugust 4 – Hannah Marks – Outsider\, Outlier\nAugust 11 – Deborah Mia Shelton – Brazilian Group\nAugust 18 – Nat Reeves Quartet\nAugust 25 – Houston Person Quartet \nJazz attendees can enter the property starting at 4 pm\, the concert begins at 6:30 pm and ends by 8 pm. Please leave promptly when the concert is over. No cars will be allowed entry after 7 pm. \nThis series of free concerts is presented by Jazz Forum Arts\, a 501©3\, not-for-profit arts presenting organization whose mission is to present top-quality events to the public at little or no cost\, while enhancing the appreciation of Jazz\, America’s preeminent indigenous musical art form.
URL:https://www.hudsonriver.com/hhrt/event/sunset-jazz-at-lyndhurst/2022-08-04/
LOCATION:Lyndhurst\, 635 South Broadway\, Tarrytown\, NY\, 10591\, United States
CATEGORIES:Family Fun,Outdoor,Performing Arts
ORGANIZER;CN="Jazz Forum Arts":MAILTO:info@jazzforumarts.org
GEO:41.053629;-73.861134
X-APPLE-STRUCTURED-LOCATION;VALUE=URI;X-ADDRESS=Lyndhurst 635 South Broadway Tarrytown NY 10591 United States;X-APPLE-RADIUS=500;X-TITLE=635 South Broadway:geo:-73.861134,41.053629
END:VEVENT
BEGIN:VEVENT
DTSTART;TZID=America/New_York:20220804T190000
DTEND;TZID=America/New_York:20220804T210000
DTSTAMP:20260419T222814
CREATED:20220802T222653Z
LAST-MODIFIED:20220802T223855Z
UID:10004111-1659639600-1659646800@www.hudsonriver.com
SUMMARY:Jazz in the Garden at Edward Hopper House
DESCRIPTION:Duration\n2 Hours \nVisit the Edward Hopper House Museum & Study Center before the concert! We are Open on Thursdays from 1-5pm. \nOn concert evenings\, the Garden will open at 6:30pm. Concerts begin at 7pm\, and go until 9pm (with intermission). \nBring your own chairs and blankets. You may also bring your own refreshments. We kindly ask that you carry away your trash and recyclables. \nIf there is inclement weather\, the concert will be held at the NYACK CENTER at 58 Depew Avenue\, Nyack; see our website\, emails\, and social media for “rain date” notification.
URL:https://www.hudsonriver.com/hhrt/event/jazz-in-the-garden-at-edward-hopper-house/2022-08-04/
LOCATION:Edward Hopper House Art Center\, 82 N Broadway\, Nyack\, NY\, 10960\, United States
CATEGORIES:Family Fun,Garden,Outdoor,Performing Arts
ATTACH;FMTTYPE=image/jpeg:https://www.hudsonriver.com/hhrt/wp-content/uploads/2022/08/jazz2022logo_orig.jpg
GEO:41.0932657;-73.9180019
X-APPLE-STRUCTURED-LOCATION;VALUE=URI;X-ADDRESS=Edward Hopper House Art Center 82 N Broadway Nyack NY 10960 United States;X-APPLE-RADIUS=500;X-TITLE=82 N Broadway:geo:-73.9180019,41.0932657
END:VEVENT
BEGIN:VEVENT
DTSTART;TZID=America/New_York:20220804T200000
DTEND;TZID=America/New_York:20220804T223000
DTSTAMP:20260419T222814
CREATED:20220803T143115Z
LAST-MODIFIED:20220803T143115Z
UID:10004116-1659643200-1659652200@www.hudsonriver.com
SUMMARY:A Doll’s House\, Part 2 at Elmwood Playhouse
DESCRIPTION:A Doll’s House\, Part 2 is set fifteen years after the end of Ibsen’s original play\, when Nora walked out of her house and her marriage. While her husband Torvald continued to work and raise their family\, Nora followed her own path. Now Nora has returned home to face what she left behind. Can she still justify her actions to leave and fulfill her dreams? After all that has happened\, will Torvald be willing to give her what she wants? A surprising and contemporary look at the lives we choose\, and the ones we leave behind. \nPresented by special arrangement with Dramatists Play Service\, Inc. \nPerformances now through August 6 \nVisit our website for tickets and more information.
URL:https://www.hudsonriver.com/hhrt/event/a-dolls-house-part-2-at-elmwood-playhouse/2022-08-04/
LOCATION:Elmwood Playhouse\, 10 Park St\, Nyack\, NY\, 10960\, United States
CATEGORIES:Film,Performing Arts
ATTACH;FMTTYPE=image/png:https://www.hudsonriver.com/hhrt/wp-content/uploads/2022/08/DH2addTN.png
ORGANIZER;CN="Elmwood Playhouse":MAILTO:info@elmwoodplayhouse.com
GEO:41.0918879;-73.9197701
X-APPLE-STRUCTURED-LOCATION;VALUE=URI;X-ADDRESS=Elmwood Playhouse 10 Park St Nyack NY 10960 United States;X-APPLE-RADIUS=500;X-TITLE=10 Park St:geo:-73.9197701,41.0918879
END:VEVENT
BEGIN:VEVENT
DTSTART;TZID=America/New_York:20220805T140000
DTEND;TZID=America/New_York:20220805T140000
DTSTAMP:20260419T222814
CREATED:20220802T180423Z
LAST-MODIFIED:20220802T180706Z
UID:10004046-1659708000-1659708000@www.hudsonriver.com
SUMMARY:Sound of Music Jr Workshop 2022
DESCRIPTION:Presented by The Music Hall Academy\nA tuneful\, heartwarming story\, The Sound of Music is based on the real life story of the Von Trapp Family singers\, one of the world’s best-known concert groups in the era immediately preceding World War II. Maria\, the tomboyish postulant at an Austrian abbey\, becomes a governess in the home of a widowed naval captain with seven children\, and brings a new love of life and music into the home. \n\nPerformed by 1st – 8th graders.
URL:https://www.hudsonriver.com/hhrt/event/sound-of-music-jr-workshop-2022/
LOCATION:Tarrytown Music Hall\, 13 Main Street\, Tarrytown\, 10591
CATEGORIES:Performing Arts
ATTACH;FMTTYPE=image/jpeg:https://www.hudsonriver.com/hhrt/wp-content/uploads/2022/08/SoundOfMusicACAD22fb.jpg
ORGANIZER;CN="Tarrytown Music Hall":MAILTO:tickets@tarrytownmusichall.org
GEO:41.0766387;-73.8587686
X-APPLE-STRUCTURED-LOCATION;VALUE=URI;X-ADDRESS=Tarrytown Music Hall 13 Main Street Tarrytown 10591;X-APPLE-RADIUS=500;X-TITLE=13 Main Street:geo:-73.8587686,41.0766387
END:VEVENT
BEGIN:VEVENT
DTSTART;TZID=America/New_York:20220805T183000
DTEND;TZID=America/New_York:20220805T200000
DTSTAMP:20260419T222814
CREATED:20220803T144929Z
LAST-MODIFIED:20220803T145653Z
UID:10004119-1659724200-1659729600@www.hudsonriver.com
SUMMARY:A Journey Through The Stars & Signs: 4-Part Astrology Series
DESCRIPTION:Class 1: During this introduction to the cosmos\, we will be diving into what a natal chart is\, what a “Big Three” is\, characteristics of the 12 Zodiac Signs\, and 10 of the Planets/Luminaries that make up your chart! We will use examples from my chart to better understand how these placements may show up for someone. \nClass 2: On this journey into the stars\, we will look further into the natal chart\, discussing the 4 angles that split up the chart\, along with the descriptions of the first 6 houses! \nClass 3: We will blast off again into the last 6 houses of the natal chart\, completing all 12 houses of the zodiacal wheel. These last 6 houses get very deep\, so we will spend a lot of time discussing what they all mean\, and how they affect us. \nClass 4: Lastly\, we will dive into the North Node and South Node\, Chiron\, and astrology words and phrases that may help you understand the Astrological jargon better! During this session\, we will also be clearing up any questions you may have about the prior sessions. \n$40 Per Class. Save $40 and sign up for all 4 classes for only $120! \nClasses 1 + 2 are prerequisites for Classes 3 + 4  \nRead more about this class series at https://modern-druid.com/upcoming-events
URL:https://www.hudsonriver.com/hhrt/event/a-journey-through-the-stars-signs-4-part-astrology-series/2022-08-05/
LOCATION:Modern Druid\, 60 S Broadway\, Nyack\, NY\, 10960\, United States
CATEGORIES:Educational
ATTACH;FMTTYPE=image/png:https://www.hudsonriver.com/hhrt/wp-content/uploads/2022/08/Screen-Shot-2022-06-26-at-1.30.07-PM-1536x633-1.png
ORGANIZER;CN="Modern Druid":MAILTO:hello@modern-druid.com
GEO:41.0884392;-73.9190844
X-APPLE-STRUCTURED-LOCATION;VALUE=URI;X-ADDRESS=Modern Druid 60 S Broadway Nyack NY 10960 United States;X-APPLE-RADIUS=500;X-TITLE=60 S Broadway:geo:-73.9190844,41.0884392
END:VEVENT
BEGIN:VEVENT
DTSTART;TZID=America/New_York:20220805T183000
DTEND;TZID=America/New_York:20220805T220000
DTSTAMP:20260419T222814
CREATED:20220805T151254Z
LAST-MODIFIED:20220805T151254Z
UID:10004217-1659724200-1659736800@www.hudsonriver.com
SUMMARY:Sinatra Night August 2022
DESCRIPTION:Join us for a Special Evening filled with Sinatra Classics by Steven Maglio! \nEnjoy a night filled with dancing and singing along to your favorite Sinatra songs. \nIndulge in our Passed Hor D’Oeuvres\, Cocktail Hour\, Antipasti Display and a 3 course Dinner! Wine included. \nGet your Tickets now for a Night you wont Forget!
URL:https://www.hudsonriver.com/hhrt/event/sinatra-night-august-2022/
LOCATION:The Briarcliff Manor\, 25 Studio Hill Rd\, Briarcliff Manor\, NY\, 10510\, United States
CATEGORIES:Food & Beverage,Performing Arts
ATTACH;FMTTYPE=image/png:https://www.hudsonriver.com/hhrt/wp-content/uploads/2022/08/SInatra-Night-Poster-7-791x1024-1.png
GEO:41.1657696;-73.8323952
X-APPLE-STRUCTURED-LOCATION;VALUE=URI;X-ADDRESS=The Briarcliff Manor 25 Studio Hill Rd Briarcliff Manor NY 10510 United States;X-APPLE-RADIUS=500;X-TITLE=25 Studio Hill Rd:geo:-73.8323952,41.1657696
END:VEVENT
BEGIN:VEVENT
DTSTART;TZID=America/New_York:20220805T193000
DTEND;TZID=America/New_York:20220805T193000
DTSTAMP:20260419T222814
CREATED:20220804T135035Z
LAST-MODIFIED:20220804T135503Z
UID:10004204-1659727800-1659727800@www.hudsonriver.com
SUMMARY:Mayor Spano's Summer Films: In The Heights
DESCRIPTION:
URL:https://www.hudsonriver.com/hhrt/event/mayor-spanos-summer-films/
LOCATION:Sutherland Park\, 35 Overcliff St\, Yonkers\, NY\, 10705\, United States
CATEGORIES:Film,Outdoor
ATTACH;FMTTYPE=image/jpeg:https://www.hudsonriver.com/hhrt/wp-content/uploads/2022/08/637943493635130000.jpg
GEO:40.921493;-73.894546
X-APPLE-STRUCTURED-LOCATION;VALUE=URI;X-ADDRESS=Sutherland Park 35 Overcliff St Yonkers NY 10705 United States;X-APPLE-RADIUS=500;X-TITLE=35 Overcliff St:geo:-73.894546,40.921493
END:VEVENT
BEGIN:VEVENT
DTSTART;TZID=America/New_York:20220805T200000
DTEND;TZID=America/New_York:20220805T223000
DTSTAMP:20260419T222814
CREATED:20220803T143115Z
LAST-MODIFIED:20220803T143115Z
UID:10004117-1659729600-1659738600@www.hudsonriver.com
SUMMARY:A Doll’s House\, Part 2 at Elmwood Playhouse
DESCRIPTION:A Doll’s House\, Part 2 is set fifteen years after the end of Ibsen’s original play\, when Nora walked out of her house and her marriage. While her husband Torvald continued to work and raise their family\, Nora followed her own path. Now Nora has returned home to face what she left behind. Can she still justify her actions to leave and fulfill her dreams? After all that has happened\, will Torvald be willing to give her what she wants? A surprising and contemporary look at the lives we choose\, and the ones we leave behind. \nPresented by special arrangement with Dramatists Play Service\, Inc. \nPerformances now through August 6 \nVisit our website for tickets and more information.
URL:https://www.hudsonriver.com/hhrt/event/a-dolls-house-part-2-at-elmwood-playhouse/2022-08-05/
LOCATION:Elmwood Playhouse\, 10 Park St\, Nyack\, NY\, 10960\, United States
CATEGORIES:Film,Performing Arts
ATTACH;FMTTYPE=image/png:https://www.hudsonriver.com/hhrt/wp-content/uploads/2022/08/DH2addTN.png
ORGANIZER;CN="Elmwood Playhouse":MAILTO:info@elmwoodplayhouse.com
GEO:41.0918879;-73.9197701
X-APPLE-STRUCTURED-LOCATION;VALUE=URI;X-ADDRESS=Elmwood Playhouse 10 Park St Nyack NY 10960 United States;X-APPLE-RADIUS=500;X-TITLE=10 Park St:geo:-73.9197701,41.0918879
END:VEVENT
END:VCALENDAR