BEGIN:VCALENDAR
VERSION:2.0
PRODID:-//Historic Hudson River Towns - ECPv6.15.20//NONSGML v1.0//EN
CALSCALE:GREGORIAN
METHOD:PUBLISH
X-ORIGINAL-URL:https://www.hudsonriver.com/hhrt
X-WR-CALDESC:Events for Historic Hudson River Towns
REFRESH-INTERVAL;VALUE=DURATION:PT1H
X-Robots-Tag:noindex
X-PUBLISHED-TTL:PT1H
BEGIN:VTIMEZONE
TZID:America/New_York
BEGIN:DAYLIGHT
TZOFFSETFROM:-0500
TZOFFSETTO:-0400
TZNAME:EDT
DTSTART:20210314T070000
END:DAYLIGHT
BEGIN:STANDARD
TZOFFSETFROM:-0400
TZOFFSETTO:-0500
TZNAME:EST
DTSTART:20211107T060000
END:STANDARD
BEGIN:DAYLIGHT
TZOFFSETFROM:-0500
TZOFFSETTO:-0400
TZNAME:EDT
DTSTART:20220313T070000
END:DAYLIGHT
BEGIN:STANDARD
TZOFFSETFROM:-0400
TZOFFSETTO:-0500
TZNAME:EST
DTSTART:20221106T060000
END:STANDARD
BEGIN:DAYLIGHT
TZOFFSETFROM:-0500
TZOFFSETTO:-0400
TZNAME:EDT
DTSTART:20230312T070000
END:DAYLIGHT
BEGIN:STANDARD
TZOFFSETFROM:-0400
TZOFFSETTO:-0500
TZNAME:EST
DTSTART:20231105T060000
END:STANDARD
END:VTIMEZONE
BEGIN:VEVENT
DTSTART;TZID=America/New_York:20221123T170000
DTEND;TZID=America/New_York:20221123T170000
DTSTAMP:20260425T082915
CREATED:20221122T152138Z
LAST-MODIFIED:20221123T152139Z
UID:10004698-1669222800-1669222800@www.hudsonriver.com
SUMMARY:Thanksgiving Eve Bash @ Punta Cana Latin Fusion
DESCRIPTION:Thanksgiving Eve Bash @ Punta Cana Latin Fusion\nMusic by DJ Woody\nPunta Cana Latin Fusion Restaurant & Bar\n125 Main Street\n845-480-5416
URL:https://www.hudsonriver.com/hhrt/event/thanksgiving-eve-bash-punta-cana-latin-fusion/
LOCATION:Punta Cana Latin Fusion Restaurant & Bar\, 125 Main Street\, Nyack\, NY\, 10960\, United States
CATEGORIES:enjoy-nyack,Fall-Fun,Holiday Fun,Live-Music,Music,Nightlife,Restaurants/Food,Seasonal
ATTACH;FMTTYPE=image/png:https://www.hudsonriver.com/hhrt/wp-content/uploads/2022/11/unnamed-1-1-dZEs44.tmp_.png
END:VEVENT
BEGIN:VEVENT
DTSTART;TZID=America/New_York:20221122T183000
DTEND;TZID=America/New_York:20221122T203000
DTSTAMP:20260425T082915
CREATED:20221122T152136Z
LAST-MODIFIED:20221122T152137Z
UID:10004697-1669141800-1669149000@www.hudsonriver.com
SUMMARY:Love the Wine You're With
DESCRIPTION:Love The Wine You’re With\n \nJoin us at Punta Cana Latin Fusion Wine Tasting Event\nTuesday\, November 22\, 6:30-8:30pm\nFeaturing Spanish wines from La Rioja Alta\, S.A. the world’s fourth most admired brands.\nRSVP 845-480-5416
URL:https://www.hudsonriver.com/hhrt/event/love-the-wine-youre-with/
LOCATION:Punta Cana Latin Fusion Restaurant & Bar\, 125 Main Street\, Nyack\, NY\, 10960\, United States
CATEGORIES:enjoy-nyack,Fall-Fun,Nightlife,Restaurants/Food,Seasonal
ATTACH;FMTTYPE=image/png:https://www.hudsonriver.com/hhrt/wp-content/uploads/2022/11/unnamed-3-CUT9fr.tmp_.png
END:VEVENT
BEGIN:VEVENT
DTSTART;TZID=America/New_York:20221117T183000
DTEND;TZID=America/New_York:20221117T210000
DTSTAMP:20260425T082915
CREATED:20221111T145255Z
LAST-MODIFIED:20221117T145050Z
UID:10004575-1668709800-1668718800@www.hudsonriver.com
SUMMARY:Food Enthusiasts Class: Vegan Baking
DESCRIPTION:It’s vegan cookie night! Learn to make vegan and gluten-free peanut butter cookies\, vegan and gluten-free coconut oatmeal cookies and vegan chocolate chip cookie cake with Chef Larisa Schukle\, the owner of Glitter Thicket\, a vegan cafe in Nyack. All recipes are purely vegan\, with no animal products\, such as eggs or cow’s milk. Chef Larisa has been baking and cooking vegan foods professionally for many years. Before Larisa began baking\, she worked for a non-profit giving lectures educating people about the benefits of eating a plant-based diet\, for personal health\, for the planet\, and for non-human animals. All of the cookie recipes Larisa teaches are vegan\, they do not contain any animal products such as eggs or cow’s milk. Vegan foods are more environmentally friendly. Vegan options also contribute far less to health issues such as cardiovascular disease\, osteoporosis\, type 2 diabetes\, and certain cancer.\nLearn how to make these scrumptious recipes with Larisa:\nGluten Free Peanut Butter Cookies\nGluten Free Coconut Oatmeal Raisin Cookies\nVegan Chocolate Chip Cookie Cake\nSnacks are provided upon your arrival and you get to take the food you make home with you.
URL:https://www.hudsonriver.com/hhrt/event/food-enthusiasts-class-vegan-baking/
LOCATION:RCC Hospitality and Culinary Arts Center\, 70 Main St\, Nyack\, NY\, 10960\, United States
CATEGORIES:enjoy-nyack,Fall-Fun,Restaurants/Food,Seasonal
ATTACH;FMTTYPE=image/jpeg:https://www.hudsonriver.com/hhrt/wp-content/uploads/2022/11/IMG_6134-copy-scaled-e1668098846903-6NoQV8.tmp_.jpg
END:VEVENT
BEGIN:VEVENT
DTSTART;TZID=America/New_York:20221112T100000
DTEND;TZID=America/New_York:20221112T190000
DTSTAMP:20260425T082915
CREATED:20221106T144858Z
LAST-MODIFIED:20221112T145035Z
UID:10004521-1668247200-1668279600@www.hudsonriver.com
SUMMARY:Santa's Coming to The Henry!
DESCRIPTION:Santa’s Coming to The Henry!\nSaturday\, November 12th\n10am-7pm\nFamily-friendly event\n \nThe Henry\n100 Main Street\n2nd Floor\nNyack\, NY
URL:https://www.hudsonriver.com/hhrt/event/santas-coming-to-the-henry/
LOCATION:The Henry\, 100 Main Street\, Nyack\, NY\, 10960\, United States
CATEGORIES:Children,enjoy-nyack,Family-Friendly,Free-Admission,Restaurants/Food,Seasonal,Winter-Fun,Winter-Wanderland
ATTACH;FMTTYPE=image/jpeg:https://www.hudsonriver.com/hhrt/wp-content/uploads/2022/11/IMG_9691-scaled-e1667698812270-hjJwFi.tmp_.jpg
END:VEVENT
BEGIN:VEVENT
DTSTART;VALUE=DATE:20221111
DTEND;VALUE=DATE:20221205
DTSTAMP:20260425T082915
CREATED:20221115T144952Z
LAST-MODIFIED:20221203T155214Z
UID:10004632-1668124800-1670198399@www.hudsonriver.com
SUMMARY:Elmwood Playhouse Presents The Cake
DESCRIPTION:Elmwood Playhouse\n10 Park Street\, Nyack\, NY\nFriday\, Nov 11 – Saturday\, Dec 3\nWritten by Bekah Brunstetter and directed by Melinda Pinto\, Frosting will fly in this topical\, multilayered\, sweet comedy. Della\, a Christian conservative\, faces a crisis of conscience when asked to make a wedding cake for the same sex wedding of her late friend’s daughter. This charming and heartfelt play calls to mind the playwright’s Emmy nominated work on TV’s award-winning show “This Is Us.”\nFOR PRIDE CENTER EMAIL SUBSCRIBERS: Get $27 tickets for $20 when purchasing through the box office (845-353-1313) by using code: PRIDE\n 
URL:https://www.hudsonriver.com/hhrt/event/elmwood-playhouse-presents-the-cake/
LOCATION:Elmwood Playhouse\,10 Park St\, Nyack\, NY 10960\, USA
CATEGORIES:Art,diversity,enjoy-nyack,Family-Friendly,inclusion,Pride/LGBTQ+,Seasonal,Theater,Theater and Film
ATTACH;FMTTYPE=image/jpeg:https://www.hudsonriver.com/hhrt/wp-content/uploads/2022/11/unnamed-4-XXrDWI.tmp_.jpg
ORGANIZER;CN="Elmwood Playhouse":MAILTO:info@elmwoodplayhouse.com
END:VEVENT
END:VCALENDAR