BEGIN:VCALENDAR
VERSION:2.0
PRODID:-//Historic Hudson River Towns - ECPv6.15.20//NONSGML v1.0//EN
CALSCALE:GREGORIAN
METHOD:PUBLISH
X-WR-CALNAME:Historic Hudson River Towns
X-ORIGINAL-URL:https://www.hudsonriver.com/hhrt
X-WR-CALDESC:Events for Historic Hudson River Towns
REFRESH-INTERVAL;VALUE=DURATION:PT1H
X-Robots-Tag:noindex
X-PUBLISHED-TTL:PT1H
BEGIN:VTIMEZONE
TZID:America/New_York
BEGIN:DAYLIGHT
TZOFFSETFROM:-0500
TZOFFSETTO:-0400
TZNAME:EDT
DTSTART:20220313T070000
END:DAYLIGHT
BEGIN:STANDARD
TZOFFSETFROM:-0400
TZOFFSETTO:-0500
TZNAME:EST
DTSTART:20221106T060000
END:STANDARD
BEGIN:DAYLIGHT
TZOFFSETFROM:-0500
TZOFFSETTO:-0400
TZNAME:EDT
DTSTART:20230312T070000
END:DAYLIGHT
BEGIN:STANDARD
TZOFFSETFROM:-0400
TZOFFSETTO:-0500
TZNAME:EST
DTSTART:20231105T060000
END:STANDARD
BEGIN:DAYLIGHT
TZOFFSETFROM:-0500
TZOFFSETTO:-0400
TZNAME:EDT
DTSTART:20240310T070000
END:DAYLIGHT
BEGIN:STANDARD
TZOFFSETFROM:-0400
TZOFFSETTO:-0500
TZNAME:EST
DTSTART:20241103T060000
END:STANDARD
END:VTIMEZONE
BEGIN:VEVENT
DTSTART;VALUE=DATE:20230910
DTEND;VALUE=DATE:20230912
DTSTAMP:20260422T184905
CREATED:20230827T213848Z
LAST-MODIFIED:20230910T215351Z
UID:10009422-1694304000-1694476799@www.hudsonriver.com
SUMMARY:Pillars of Trust Wellness Retreat @ RoCA
DESCRIPTION:Join Tailored for Change LLC for a rejuvenating wellness retreat that will nourish your mind\, body\, and soul. It allows you a day away from the daily grind\, and places you in a space with nature\, art and a healing community. Discovering the Pillars of TRUST\, will support you on your path of self-awareness and personal growth.\nThis in-person journey will take place 9:00am – 5:30pm on\nSun\, Sep 10\, 2023 @ The Rockland Center for the Arts\n27 S Greenbush Rd\, West Nyack\, NY\nImmerse yourself in a day filled with transformative experiences\, guided by experts in various wellness practices. Indulge in yourself yoga\, meditation sessions\, mindfulness workshops\, art\, sound therapy\, and a nourishing meal and snacks.\nSelf-guided walking trails are available.\nDon’t miss this opportunity to prioritize your well-being and embrace a healthier\, more balanced lifestyle.\nReserve your spot now  and embark on a transformative journey.\n         For detail information on retreat.\nhttps://tailoredforchange.com/wellness-retreat
URL:https://www.hudsonriver.com/hhrt/event/pillars-of-trust-wellness-retreat-roca/
LOCATION:Rockland Center for the Arts\, 27 South Greenbush Road\, West Nyack\, 10994
CATEGORIES:Metaphysical,Visual-Art,Wellness,Workshop
ATTACH;FMTTYPE=image/png:https://www.hudsonriver.com/hhrt/wp-content/uploads/2023/08/Wellness-Retreat-Flyer-1-AjQcWj.tmp_.png
ORGANIZER;CN="Rockland Center for the Arts":MAILTO:info@rocklandartcenter.org
END:VEVENT
BEGIN:VEVENT
DTSTART;TZID=America/New_York:20230913T183000
DTEND;TZID=America/New_York:20230913T203000
DTSTAMP:20260422T184905
CREATED:20230912T215353Z
LAST-MODIFIED:20230913T220852Z
UID:10012455-1694629800-1694637000@www.hudsonriver.com
SUMMARY:SHADOW WORK WITH MEGHAN MCSWEENEY
DESCRIPTION:Shadow work facilitates a deep and intimate relationship with your core self\, your patterns. These are the woven structures our outward self is created from. It is here that we find the Key to unlock those pieces of ourselves\, but first we must find the Torch so we can reveal what is there waiting to be seen.\nThis two-part class will give you the tools to go deeper and explore your Shadow\, learn how to cut away what doesn’t serve you\, and how to adapt to the changes within.\nEach participant will work with at least one pattern\, and through meditation and visualization\, we will be able to observe\, acknowledge\, accept\, integrate\, and release a personal Shadow or pattern.\nDue to the intimate nature of this work\, there are only 6 places available… please reserve early.
URL:https://www.hudsonriver.com/hhrt/event/shadow-work-with-meghan-mcsweeney/
LOCATION:Modern Druid\,60 S Broadway\, Nyack\, NY 10960\, USA
CATEGORIES:Metaphysical
ATTACH;FMTTYPE=image/png:https://www.hudsonriver.com/hhrt/wp-content/uploads/2023/09/Screenshot-2023-09-07-at-11.53.16-AM-6fdEK0.tmp_.png
ORGANIZER;CN="Modern Druid":MAILTO:hello@modern-druid.com
END:VEVENT
BEGIN:VEVENT
DTSTART;TZID=America/New_York:20230914T183000
DTEND;TZID=America/New_York:20230914T200000
DTSTAMP:20260422T184905
CREATED:20230912T215358Z
LAST-MODIFIED:20230914T222357Z
UID:10012457-1694716200-1694721600@www.hudsonriver.com
SUMMARY:OGHAM WITH MORGANA
DESCRIPTION:Ogham\, the mysterious ancient Irish alphabet\, is based on a set of characters (feda) that are  associated with specific trees and/or plants and is considered to represent an ancient system of knowledge. Most often used today for divination\, each letter symbol has specific\, and often complicated and multi-faceted\, concepts associated with each one.  The 20 symbol-letters (‘feda’) are organized across 4 ‘families’ (aicme). Morgana will guide us in learning about each feda and its associated plant every other week over the course of a year. You can sign up for one class\, an Aicme (5) or all 20!\nWe will learn where Ogham originated\, how to pronounce and write the feda\, and utilize plant matter\, teas\, poetry\, art\, historical lore\, guided meditations and of course the Ogham Intention Oils\, to integrate us with each plant’s healing essence.\nFocusing on the 3rd Aicme\, Muine\, for the fall\, the following classes are offered:\n– Muin (M)\, Ivy: Love\, Self-Esteem\, Trickery – Sept 14th\n– Gort (G)\, Vine: Growth\, Blessings & Prosperity – Sept 28th\n– nGétal (nG)\, Fern: Healing (Emotionally & Physically) – Oct 12th\n– Straif (Sr)\, Blackthorn: Transformation\, Alchemy and Practical Magic – Oct 26th\n– Ruis (R)\, Elder: Passion and Sexuality – November 9th\n(20% discount for Students\, OAPs\, Veterans\, Persons with Disabilities\, call for details)\nSign up for all 5 classes and receive a $15 discount over the price of 5 individual classes: \nhttps://modern-druid.shoplightspeed.com/ogham-class-with-morgana-aicme-muine.html
URL:https://www.hudsonriver.com/hhrt/event/ogham-with-morgana-4/
LOCATION:Modern Druid\,60 S Broadway\, Nyack\, NY 10960\, USA
CATEGORIES:Metaphysical
ATTACH;FMTTYPE=image/png:https://www.hudsonriver.com/hhrt/wp-content/uploads/2023/09/Screenshot-2023-09-07-at-12.00.17-PM-BA9QaK.tmp_.png
ORGANIZER;CN="Modern Druid":MAILTO:hello@modern-druid.com
END:VEVENT
BEGIN:VEVENT
DTSTART;TZID=America/New_York:20230915T183000
DTEND;TZID=America/New_York:20230915T210000
DTSTAMP:20260422T184905
CREATED:20230912T215400Z
LAST-MODIFIED:20230915T222347Z
UID:10012458-1694802600-1694811600@www.hudsonriver.com
SUMMARY:CACAO CEREMONY WITH MASHA
DESCRIPTION:A Cacao Ceremony is a beautiful opportunity to gather in circle\, receive inner guidance\, and connect deeper to ourselves and each other. 100% Pure Ceremonial Grade Cacao is a sacred and ancient plant medicine for the heart that helps us open up\, heal gently\, and invite more creativity\, joy and love into our lives.\nDuring the ceremony we will join in circle\, connect with each other\, learn about the power of Ceremonial Cacao\, talk about the energies of this time\, set intentions and drink Cacao\, go through a guided Shamanic drum journey\, and then come back to a sharing circle of whatever may be opening up for us in that moment. (Sharing is very welcome\, but not mandatory).\nBy setting an intention and drinking Ceremonial Cacao\, participants can expect to receive guidance about whatever they are dealing with and/or receive messages they are ready for.\nLearn more about Masha Zolotarsky at www.freemasha.com
URL:https://www.hudsonriver.com/hhrt/event/cacao-ceremony-with-masha-2/
LOCATION:Modern Druid\,60 S Broadway\, Nyack\, NY 10960\, USA
CATEGORIES:Metaphysical
ATTACH;FMTTYPE=image/png:https://www.hudsonriver.com/hhrt/wp-content/uploads/2023/09/Screenshot-2023-09-07-at-12.02.16-PM-06OdU3.tmp_.png
ORGANIZER;CN="Modern Druid":MAILTO:hello@modern-druid.com
END:VEVENT
BEGIN:VEVENT
DTSTART;TZID=America/New_York:20230916T140000
DTEND;TZID=America/New_York:20230916T180000
DTSTAMP:20260422T184905
CREATED:20230914T222357Z
LAST-MODIFIED:20230915T222347Z
UID:10012463-1694872800-1694887200@www.hudsonriver.com
SUMMARY:AN AFTERNOON OF BEAUTY WITCHERY!
DESCRIPTION:Come meet Alise Marie\, aka The Beauty Witch®  and learn about the concept of beauty rituals for wellness\, confidence\, and igniting the passion within. Alise will share with us her work\, her book\, and information about her upcoming workshops at Modern Druid in the fall.\nTest out her beautiful products\, enjoy a mini-facial demonstration\, pick up a copy of ‘The Beauty Witch’s Secrets: Recipes and Rituals for the Modern Goddess’ and learn how to make your own\, and enjoy an afternoon of ‘meet and treat’!\nGuests will have the chance to open up to taking beauty and wellness into their own hands\, and use techniques and ingredients most effectively by working with the lunar cycles\, the planets\, the seasons\, and building their own magnetism and confidence.\n \nFREE EVENT\nNo sign up necessary\, simply come by the studio between 2pm and 6pm and meet The Beauty Witch®\nA wonderful event to enjoy with friends!
URL:https://www.hudsonriver.com/hhrt/event/an-afternoon-of-beauty-witchery/
LOCATION:Modern Druid\,60 S Broadway\, Nyack\, NY 10960\, USA
CATEGORIES:Metaphysical
ATTACH;FMTTYPE=image/png:https://www.hudsonriver.com/hhrt/wp-content/uploads/2023/09/Screenshot-2023-09-07-at-12.05.10-PM-dlNnEf.tmp_.png
ORGANIZER;CN="Modern Druid":MAILTO:hello@modern-druid.com
END:VEVENT
END:VCALENDAR