BEGIN:VCALENDAR
VERSION:2.0
PRODID:-//Historic Hudson River Towns - ECPv6.15.20//NONSGML v1.0//EN
CALSCALE:GREGORIAN
METHOD:PUBLISH
X-WR-CALNAME:Historic Hudson River Towns
X-ORIGINAL-URL:https://www.hudsonriver.com/hhrt
X-WR-CALDESC:Events for Historic Hudson River Towns
REFRESH-INTERVAL;VALUE=DURATION:PT1H
X-Robots-Tag:noindex
X-PUBLISHED-TTL:PT1H
BEGIN:VTIMEZONE
TZID:America/New_York
BEGIN:DAYLIGHT
TZOFFSETFROM:-0500
TZOFFSETTO:-0400
TZNAME:EDT
DTSTART:20220313T070000
END:DAYLIGHT
BEGIN:STANDARD
TZOFFSETFROM:-0400
TZOFFSETTO:-0500
TZNAME:EST
DTSTART:20221106T060000
END:STANDARD
BEGIN:DAYLIGHT
TZOFFSETFROM:-0500
TZOFFSETTO:-0400
TZNAME:EDT
DTSTART:20230312T070000
END:DAYLIGHT
BEGIN:STANDARD
TZOFFSETFROM:-0400
TZOFFSETTO:-0500
TZNAME:EST
DTSTART:20231105T060000
END:STANDARD
BEGIN:DAYLIGHT
TZOFFSETFROM:-0500
TZOFFSETTO:-0400
TZNAME:EDT
DTSTART:20240310T070000
END:DAYLIGHT
BEGIN:STANDARD
TZOFFSETFROM:-0400
TZOFFSETTO:-0500
TZNAME:EST
DTSTART:20241103T060000
END:STANDARD
END:VTIMEZONE
BEGIN:VEVENT
DTSTART;TZID=America/New_York:20230927T183000
DTEND;TZID=America/New_York:20230927T203000
DTSTAMP:20260422T180056
CREATED:20230917T223851Z
LAST-MODIFIED:20230920T223859Z
UID:10013640-1695839400-1695846600@www.hudsonriver.com
SUMMARY:SHADOW WORK WITH MEGHAN MCSWEENEY
DESCRIPTION:Shadow work facilitates a deep and intimate relationship with your core self\, your patterns. These are the woven structures our outward self is created from. It is here that we find the Key to unlock those pieces of ourselves\, but first we must find the Torch so we can reveal what is there waiting to be seen.\nThis two-part class will give you the tools to go deeper and explore your Shadow\, learn how to cut away what doesn’t serve you\, and how to adapt to the changes within.\nEach participant will work with at least one pattern\, and through meditation and visualization\, we will be able to observe\, acknowledge\, accept\, integrate\, and release a personal Shadow or pattern.\nDue to the intimate nature of this work\, there are only 6 places available… please reserve early.
URL:https://www.hudsonriver.com/hhrt/event/shadow-work-with-meghan-mcsweeney-2/
LOCATION:Modern Druid\,60 S Broadway\, Nyack\, NY 10960\, USA
CATEGORIES:Metaphysical
ATTACH;FMTTYPE=image/png:https://www.hudsonriver.com/hhrt/wp-content/uploads/2023/09/Screenshot-2023-09-07-at-11.53.16-AM-6fdEK0.tmp_.png
ORGANIZER;CN="Modern Druid":MAILTO:hello@modern-druid.com
END:VEVENT
BEGIN:VEVENT
DTSTART;TZID=America/New_York:20230928T183000
DTEND;TZID=America/New_York:20230928T200000
DTSTAMP:20260422T180056
CREATED:20230917T223852Z
LAST-MODIFIED:20230920T223859Z
UID:10013642-1695925800-1695931200@www.hudsonriver.com
SUMMARY:OGHAM WITH MORGANA
DESCRIPTION:Ogham\, the mysterious ancient Irish alphabet\, is based on a set of characters (feda) that are  associated with specific trees and/or plants and is considered to represent an ancient system of knowledge. Most often used today for divination\, each letter symbol has specific\, and often complicated and multi-faceted\, concepts associated with each one.  The 20 symbol-letters (‘feda’) are organized across 4 ‘families’ (aicme). Morgana will guide us in learning about each feda and its associated plant every other week over the course of a year. You can sign up for one class\, an Aicme (5) or all 20!\nWe will learn where Ogham originated\, how to pronounce and write the feda\, and utilize plant matter\, teas\, poetry\, art\, historical lore\, guided meditations and of course the Ogham Intention Oils\, to integrate us with each plant’s healing essence.\nFocusing on the 3rd Aicme\, Muine\, for the fall\, the following classes are offered:\n– Muin (M)\, Ivy: Love\, Self-Esteem\, Trickery – Sept 14th\n– Gort (G)\, Vine: Growth\, Blessings & Prosperity – Sept 28th\n– nGétal (nG)\, Fern: Healing (Emotionally & Physically) – Oct 12th\n– Straif (Sr)\, Blackthorn: Transformation\, Alchemy and Practical Magic – Oct 26th\n– Ruis (R)\, Elder: Passion and Sexuality – November 9th\n(20% discount for Students\, OAPs\, Veterans\, Persons with Disabilities\, call for details)\nSign up for all 5 classes and receive a $15 discount over the price of 5 individual classes: \nhttps://modern-druid.shoplightspeed.com/ogham-class-with-morgana-aicme-muine.html
URL:https://www.hudsonriver.com/hhrt/event/ogham-with-morgana-5/
LOCATION:Modern Druid\,60 S Broadway\, Nyack\, NY 10960\, USA
CATEGORIES:Metaphysical
ATTACH;FMTTYPE=image/png:https://www.hudsonriver.com/hhrt/wp-content/uploads/2023/09/Screenshot-2023-09-07-at-12.00.17-PM-BA9QaK.tmp_.png
ORGANIZER;CN="Modern Druid":MAILTO:hello@modern-druid.com
END:VEVENT
END:VCALENDAR