BEGIN:VCALENDAR
VERSION:2.0
PRODID:-//Historic Hudson River Towns - ECPv6.15.20//NONSGML v1.0//EN
CALSCALE:GREGORIAN
METHOD:PUBLISH
X-ORIGINAL-URL:https://www.hudsonriver.com/hhrt
X-WR-CALDESC:Events for Historic Hudson River Towns
REFRESH-INTERVAL;VALUE=DURATION:PT1H
X-Robots-Tag:noindex
X-PUBLISHED-TTL:PT1H
BEGIN:VTIMEZONE
TZID:America/New_York
BEGIN:DAYLIGHT
TZOFFSETFROM:-0500
TZOFFSETTO:-0400
TZNAME:EDT
DTSTART:20220313T070000
END:DAYLIGHT
BEGIN:STANDARD
TZOFFSETFROM:-0400
TZOFFSETTO:-0500
TZNAME:EST
DTSTART:20221106T060000
END:STANDARD
BEGIN:DAYLIGHT
TZOFFSETFROM:-0500
TZOFFSETTO:-0400
TZNAME:EDT
DTSTART:20230312T070000
END:DAYLIGHT
BEGIN:STANDARD
TZOFFSETFROM:-0400
TZOFFSETTO:-0500
TZNAME:EST
DTSTART:20231105T060000
END:STANDARD
BEGIN:DAYLIGHT
TZOFFSETFROM:-0500
TZOFFSETTO:-0400
TZNAME:EDT
DTSTART:20240310T070000
END:DAYLIGHT
BEGIN:STANDARD
TZOFFSETFROM:-0400
TZOFFSETTO:-0500
TZNAME:EST
DTSTART:20241103T060000
END:STANDARD
END:VTIMEZONE
BEGIN:VEVENT
DTSTART;TZID=America/New_York:20230920T183000
DTEND;TZID=America/New_York:20230920T200000
DTSTAMP:20260422T211728
CREATED:20230914T222405Z
LAST-MODIFIED:20230920T223858Z
UID:10012464-1695234600-1695240000@www.hudsonriver.com
SUMMARY:SIGIL MAGICK WITH MEGHAN
DESCRIPTION:A hands-on experience with sigil magick!\nMeghan will help us to create an intention\, then turn that intention into a sigil\, activate it and ready it for your use.\nShe will provide a brief history of sigils\, some examples of sigils in active use\, and ones that she has created and uses in her own practice.\nA guide and supplies for the workshop will be provided.\n$45 per person
URL:https://www.hudsonriver.com/hhrt/event/sigil-magick-with-meghan/
LOCATION:Modern Druid\,60 S Broadway\, Nyack\, NY 10960\, USA
CATEGORIES:Metaphysical
ATTACH;FMTTYPE=image/png:https://www.hudsonriver.com/hhrt/wp-content/uploads/2023/09/Screenshot-2023-09-07-at-12.09.55-PM-2jr6wt.tmp_.png
ORGANIZER;CN="Modern Druid":MAILTO:hello@modern-druid.com
END:VEVENT
END:VCALENDAR