BEGIN:VCALENDAR
VERSION:2.0
PRODID:-//Historic Hudson River Towns - ECPv6.15.20//NONSGML v1.0//EN
CALSCALE:GREGORIAN
METHOD:PUBLISH
X-ORIGINAL-URL:https://www.hudsonriver.com/hhrt
X-WR-CALDESC:Events for Historic Hudson River Towns
REFRESH-INTERVAL;VALUE=DURATION:PT1H
X-Robots-Tag:noindex
X-PUBLISHED-TTL:PT1H
BEGIN:VTIMEZONE
TZID:America/New_York
BEGIN:DAYLIGHT
TZOFFSETFROM:-0500
TZOFFSETTO:-0400
TZNAME:EDT
DTSTART:20220313T070000
END:DAYLIGHT
BEGIN:STANDARD
TZOFFSETFROM:-0400
TZOFFSETTO:-0500
TZNAME:EST
DTSTART:20221106T060000
END:STANDARD
BEGIN:DAYLIGHT
TZOFFSETFROM:-0500
TZOFFSETTO:-0400
TZNAME:EDT
DTSTART:20230312T070000
END:DAYLIGHT
BEGIN:STANDARD
TZOFFSETFROM:-0400
TZOFFSETTO:-0500
TZNAME:EST
DTSTART:20231105T060000
END:STANDARD
BEGIN:DAYLIGHT
TZOFFSETFROM:-0500
TZOFFSETTO:-0400
TZNAME:EDT
DTSTART:20240310T070000
END:DAYLIGHT
BEGIN:STANDARD
TZOFFSETFROM:-0400
TZOFFSETTO:-0500
TZNAME:EST
DTSTART:20241103T060000
END:STANDARD
END:VTIMEZONE
BEGIN:VEVENT
DTSTART;TZID=America/New_York:20230916T140000
DTEND;TZID=America/New_York:20230916T180000
DTSTAMP:20260422T044246
CREATED:20230914T222357Z
LAST-MODIFIED:20230915T222347Z
UID:10012463-1694872800-1694887200@www.hudsonriver.com
SUMMARY:AN AFTERNOON OF BEAUTY WITCHERY!
DESCRIPTION:Come meet Alise Marie\, aka The Beauty Witch®  and learn about the concept of beauty rituals for wellness\, confidence\, and igniting the passion within. Alise will share with us her work\, her book\, and information about her upcoming workshops at Modern Druid in the fall.\nTest out her beautiful products\, enjoy a mini-facial demonstration\, pick up a copy of ‘The Beauty Witch’s Secrets: Recipes and Rituals for the Modern Goddess’ and learn how to make your own\, and enjoy an afternoon of ‘meet and treat’!\nGuests will have the chance to open up to taking beauty and wellness into their own hands\, and use techniques and ingredients most effectively by working with the lunar cycles\, the planets\, the seasons\, and building their own magnetism and confidence.\n \nFREE EVENT\nNo sign up necessary\, simply come by the studio between 2pm and 6pm and meet The Beauty Witch®\nA wonderful event to enjoy with friends!
URL:https://www.hudsonriver.com/hhrt/event/an-afternoon-of-beauty-witchery/
LOCATION:Modern Druid\,60 S Broadway\, Nyack\, NY 10960\, USA
CATEGORIES:Metaphysical
ATTACH;FMTTYPE=image/png:https://www.hudsonriver.com/hhrt/wp-content/uploads/2023/09/Screenshot-2023-09-07-at-12.05.10-PM-dlNnEf.tmp_.png
ORGANIZER;CN="Modern Druid":MAILTO:hello@modern-druid.com
END:VEVENT
END:VCALENDAR