BEGIN:VCALENDAR
VERSION:2.0
PRODID:-//Historic Hudson River Towns - ECPv6.15.20//NONSGML v1.0//EN
CALSCALE:GREGORIAN
METHOD:PUBLISH
X-WR-CALNAME:Historic Hudson River Towns
X-ORIGINAL-URL:https://www.hudsonriver.com/hhrt
X-WR-CALDESC:Events for Historic Hudson River Towns
REFRESH-INTERVAL;VALUE=DURATION:PT1H
X-Robots-Tag:noindex
X-PUBLISHED-TTL:PT1H
BEGIN:VTIMEZONE
TZID:America/New_York
BEGIN:DAYLIGHT
TZOFFSETFROM:-0500
TZOFFSETTO:-0400
TZNAME:EDT
DTSTART:20220313T070000
END:DAYLIGHT
BEGIN:STANDARD
TZOFFSETFROM:-0400
TZOFFSETTO:-0500
TZNAME:EST
DTSTART:20221106T060000
END:STANDARD
BEGIN:DAYLIGHT
TZOFFSETFROM:-0500
TZOFFSETTO:-0400
TZNAME:EDT
DTSTART:20230312T070000
END:DAYLIGHT
BEGIN:STANDARD
TZOFFSETFROM:-0400
TZOFFSETTO:-0500
TZNAME:EST
DTSTART:20231105T060000
END:STANDARD
BEGIN:DAYLIGHT
TZOFFSETFROM:-0500
TZOFFSETTO:-0400
TZNAME:EDT
DTSTART:20240310T070000
END:DAYLIGHT
BEGIN:STANDARD
TZOFFSETFROM:-0400
TZOFFSETTO:-0500
TZNAME:EST
DTSTART:20241103T060000
END:STANDARD
END:VTIMEZONE
BEGIN:VEVENT
DTSTART;TZID=America/New_York:20230915T183000
DTEND;TZID=America/New_York:20230915T210000
DTSTAMP:20260422T100352
CREATED:20230912T215400Z
LAST-MODIFIED:20230915T222347Z
UID:10012458-1694802600-1694811600@www.hudsonriver.com
SUMMARY:CACAO CEREMONY WITH MASHA
DESCRIPTION:A Cacao Ceremony is a beautiful opportunity to gather in circle\, receive inner guidance\, and connect deeper to ourselves and each other. 100% Pure Ceremonial Grade Cacao is a sacred and ancient plant medicine for the heart that helps us open up\, heal gently\, and invite more creativity\, joy and love into our lives.\nDuring the ceremony we will join in circle\, connect with each other\, learn about the power of Ceremonial Cacao\, talk about the energies of this time\, set intentions and drink Cacao\, go through a guided Shamanic drum journey\, and then come back to a sharing circle of whatever may be opening up for us in that moment. (Sharing is very welcome\, but not mandatory).\nBy setting an intention and drinking Ceremonial Cacao\, participants can expect to receive guidance about whatever they are dealing with and/or receive messages they are ready for.\nLearn more about Masha Zolotarsky at www.freemasha.com
URL:https://www.hudsonriver.com/hhrt/event/cacao-ceremony-with-masha-2/
LOCATION:Modern Druid\,60 S Broadway\, Nyack\, NY 10960\, USA
CATEGORIES:Metaphysical
ATTACH;FMTTYPE=image/png:https://www.hudsonriver.com/hhrt/wp-content/uploads/2023/09/Screenshot-2023-09-07-at-12.02.16-PM-06OdU3.tmp_.png
ORGANIZER;CN="Modern Druid":MAILTO:hello@modern-druid.com
END:VEVENT
END:VCALENDAR