BEGIN:VCALENDAR
VERSION:2.0
PRODID:-//Historic Hudson River Towns - ECPv6.15.20//NONSGML v1.0//EN
CALSCALE:GREGORIAN
METHOD:PUBLISH
X-WR-CALNAME:Historic Hudson River Towns
X-ORIGINAL-URL:https://www.hudsonriver.com/hhrt
X-WR-CALDESC:Events for Historic Hudson River Towns
REFRESH-INTERVAL;VALUE=DURATION:PT1H
X-Robots-Tag:noindex
X-PUBLISHED-TTL:PT1H
BEGIN:VTIMEZONE
TZID:America/New_York
BEGIN:DAYLIGHT
TZOFFSETFROM:-0500
TZOFFSETTO:-0400
TZNAME:EDT
DTSTART:20220313T070000
END:DAYLIGHT
BEGIN:STANDARD
TZOFFSETFROM:-0400
TZOFFSETTO:-0500
TZNAME:EST
DTSTART:20221106T060000
END:STANDARD
BEGIN:DAYLIGHT
TZOFFSETFROM:-0500
TZOFFSETTO:-0400
TZNAME:EDT
DTSTART:20230312T070000
END:DAYLIGHT
BEGIN:STANDARD
TZOFFSETFROM:-0400
TZOFFSETTO:-0500
TZNAME:EST
DTSTART:20231105T060000
END:STANDARD
BEGIN:DAYLIGHT
TZOFFSETFROM:-0500
TZOFFSETTO:-0400
TZNAME:EDT
DTSTART:20240310T070000
END:DAYLIGHT
BEGIN:STANDARD
TZOFFSETFROM:-0400
TZOFFSETTO:-0500
TZNAME:EST
DTSTART:20241103T060000
END:STANDARD
END:VTIMEZONE
BEGIN:VEVENT
DTSTART;TZID=America/New_York:20230625T173000
DTEND;TZID=America/New_York:20230625T190000
DTSTAMP:20260422T044132
CREATED:20230623T224003Z
LAST-MODIFIED:20230625T223847Z
UID:10008144-1687714200-1687719600@www.hudsonriver.com
SUMMARY:AN EVENING OF YIN MYSTICISM WITH BRYNJA
DESCRIPTION:Join us for a fascinating evening of conversation with Brynja Magnusson\, mystic\, writer and illustrator\, to discuss her latest book and deck on ‘Yin Mysticism’. Learn about this fascinating subject firsthand! We  have her latest  work available as well as her prior book and deck on ‘Animal Totems and the I-Ching’\,  Expect a delightful evening full of wisdom and insight\, and get your book signed too!
URL:https://www.hudsonriver.com/hhrt/event/an-evening-of-yin-mysticism-with-brynja/
LOCATION:Modern Druid\, 60 S. Broadway\, Nyack\, NY\, 10960\, United States
CATEGORIES:Metaphysical
ATTACH;FMTTYPE=image/png:https://www.hudsonriver.com/hhrt/wp-content/uploads/2023/06/Screenshot-2023-06-18-at-12.29.46-PM-pExLRU.tmp_.png
ORGANIZER;CN="Modern Druid":MAILTO:hello@modern-druid.com
END:VEVENT
END:VCALENDAR