BEGIN:VCALENDAR
VERSION:2.0
PRODID:-//Historic Hudson River Towns - ECPv6.15.20//NONSGML v1.0//EN
CALSCALE:GREGORIAN
METHOD:PUBLISH
X-WR-CALNAME:Historic Hudson River Towns
X-ORIGINAL-URL:https://www.hudsonriver.com/hhrt
X-WR-CALDESC:Events for Historic Hudson River Towns
REFRESH-INTERVAL;VALUE=DURATION:PT1H
X-Robots-Tag:noindex
X-PUBLISHED-TTL:PT1H
BEGIN:VTIMEZONE
TZID:America/New_York
BEGIN:DAYLIGHT
TZOFFSETFROM:-0500
TZOFFSETTO:-0400
TZNAME:EDT
DTSTART:20210314T070000
END:DAYLIGHT
BEGIN:STANDARD
TZOFFSETFROM:-0400
TZOFFSETTO:-0500
TZNAME:EST
DTSTART:20211107T060000
END:STANDARD
BEGIN:DAYLIGHT
TZOFFSETFROM:-0500
TZOFFSETTO:-0400
TZNAME:EDT
DTSTART:20220313T070000
END:DAYLIGHT
BEGIN:STANDARD
TZOFFSETFROM:-0400
TZOFFSETTO:-0500
TZNAME:EST
DTSTART:20221106T060000
END:STANDARD
BEGIN:DAYLIGHT
TZOFFSETFROM:-0500
TZOFFSETTO:-0400
TZNAME:EDT
DTSTART:20230312T070000
END:DAYLIGHT
BEGIN:STANDARD
TZOFFSETFROM:-0400
TZOFFSETTO:-0500
TZNAME:EST
DTSTART:20231105T060000
END:STANDARD
END:VTIMEZONE
BEGIN:VEVENT
DTSTART;TZID=America/New_York:20221214T180000
DTEND;TZID=America/New_York:20221214T210000
DTSTAMP:20260423T111716
CREATED:20221206T161850Z
LAST-MODIFIED:20221214T164858Z
UID:10004821-1671040800-1671051600@www.hudsonriver.com
SUMMARY:Rockland County Pride Center Holiday Party
DESCRIPTION:Wednesday\, December 14\nStarts @ 6:00 PM\nCasa del Sol\, 104 Main Street\, Nyack\nGet your Karaoke on with the Pride Center at Casa del Sol in Nyack.\n– $20 suggested donation (to benefit Pride Center Youth Programs)\n– Free Apps\n– Cash Bar\nQuestions? Contact Matt at MattKoke@rocklandpridecenter.org
URL:https://www.hudsonriver.com/hhrt/event/rockland-county-pride-center-holiday-party-2/
LOCATION:Casa del Sol\,104 Main St\, Nyack\, NY 10960\, USA\, 1 Main St\, United States
CATEGORIES:Dance,diversity,enjoy-nyack,Family-Friendly,Free-Admission,inclusion,Music,Nightlife,paintings,Pride/LGBTQ+,Winter-Fun
ATTACH;FMTTYPE=image/png:https://www.hudsonriver.com/hhrt/wp-content/uploads/2022/12/unnamed-4-MB6Q1L.tmp_.png
ORGANIZER;CN="Rockland County Pride Center":MAILTO:pride@rocklandpridecenter.org
END:VEVENT
BEGIN:VEVENT
DTSTART;TZID=America/New_York:20221214T180000
DTEND;TZID=America/New_York:20221214T210000
DTSTAMP:20260423T111716
CREATED:20221115T144957Z
LAST-MODIFIED:20221205T161858Z
UID:10004636-1671040800-1671051600@www.hudsonriver.com
SUMMARY:Rockland County Pride Center Holiday Party
DESCRIPTION:Wednesday\, December 14\nStarts @ 6:00 PM\nBlack Parakeetz\, 298 Main Street\, Nyack\nGet your Karaoke on with the Pride Center at Black Parakeetz in Nyack.\n– $20 suggested donation (to benefit Pride Center Youth Programs)\n– Free Apps\n– Cash Bar\nQuestions? Contact Matt at MattKoke@rocklandpridecenter.org
URL:https://www.hudsonriver.com/hhrt/event/rockland-county-pride-center-holiday-party/
LOCATION:Black Parakeetz Paint\, Swig\, and Sing\, 298 Main Street\, Nyack\, NY\, 10960\, United States
CATEGORIES:Dance,diversity,enjoy-nyack,Family-Friendly,Free-Admission,inclusion,Music,Nightlife,paintings,Pride/LGBTQ+,Winter-Fun
ATTACH;FMTTYPE=image/jpeg:https://www.hudsonriver.com/hhrt/wp-content/uploads/2022/11/unnamed-3-yCjG9Z.tmp_.jpg
ORGANIZER;CN="Rockland County Pride Center":MAILTO:pride@rocklandpridecenter.org
END:VEVENT
BEGIN:VEVENT
DTSTART;TZID=America/New_York:20221211T130000
DTEND;TZID=America/New_York:20221211T180000
DTSTAMP:20260423T111716
CREATED:20221209T163657Z
LAST-MODIFIED:20230127T160436Z
UID:10005207-1670763600-1670781600@www.hudsonriver.com
SUMMARY:Lagstein Gallery Presents "art by the people who run this place"
DESCRIPTION:art by the people who run this place\nOpening reception December 11th from 2-4pm\nDecember 11-January 15\nLagstein Gallery\n85 South Broadway\nNyack\, NY 10960\nGallery Hours: Thursday-Friday 3-6pm\, Saturday 1-6pm\, Sunday 1-4pm
URL:https://www.hudsonriver.com/hhrt/event/lagstein-gallery-presents-art-by-the-people-who-run-this-place/2022-12-11/
LOCATION:Lagstein Gallery\,85 South Broadway\, Nyack\, NY 10960\, USA
CATEGORIES:Art,enjoy-nyack,Family-Friendly,Free-Admission,paintings,Photography,Portraiture,Seasonal,Shopping,Visual-Art,Winter-Fun,Winter-Wanderland
ATTACH;FMTTYPE=image/jpeg:https://www.hudsonriver.com/hhrt/wp-content/uploads/2022/12/unnamed-scaled-7rPD2e.tmp_.jpg
ORGANIZER;CN="Lagstein Gallery":MAILTO:lagsteingallery@gmail.com
END:VEVENT
BEGIN:VEVENT
DTSTART;TZID=America/New_York:20221210T130000
DTEND;TZID=America/New_York:20221210T153000
DTSTAMP:20260423T111716
CREATED:20221206T161849Z
LAST-MODIFIED:20221209T163656Z
UID:10004815-1670677200-1670686200@www.hudsonriver.com
SUMMARY:Young Entrepreneurs Pop-Up @ Maria Luisa Boutique
DESCRIPTION:Maria Luisa Boutique will be showcasing the work of young local entrepreneurs at a pop-up shopping event on December 10 from 1 pm to 3:30 pm.\nItems for sale include daisy chains made with seed beads by 8-year-old Annie using a special technique; beaded jewelry by 11-year-old Eloise\, crocheted and sewn items by 11-year-old Gigi\, model horses with blankets and halter sets hand knitted by 13-year-old Kaitlyn\, and photography by 17-year-old Faith. Also featured will be 8-year-old Sebastian\, a third grader who has been playing piano since before he was five\, who will perform between 12:30-1:30 pm.
URL:https://www.hudsonriver.com/hhrt/event/young-entrepreneurs-pop-up-maria-luisa-boutique-2/
LOCATION:Maria Luisa\,77 S Broadway\, Nyack\, NY 10960\, USA\, 2 N Broadway Ave\, United States
CATEGORIES:Art,Children,enjoy-nyack,Family-Friendly,Free-Admission,Music,Seasonal,Shopping,Winter-Fun,Winter-Wanderland
END:VEVENT
BEGIN:VEVENT
DTSTART;TZID=America/New_York:20221210T130000
DTEND;TZID=America/New_York:20221210T153000
DTSTAMP:20260423T111716
CREATED:20221127T153424Z
LAST-MODIFIED:20221205T161857Z
UID:10004742-1670677200-1670686200@www.hudsonriver.com
SUMMARY:Young Entrepreneurs Pop-Up @ Maria Luisa Boutique
DESCRIPTION:Maria Luisa Boutique will be showcasing the work of young local entrepreneurs at a pop-up shopping event on December 10 from 1 pm to 3:30 pm.\nItems for sale include daisy chains made with seed beads by 8-year-old Annie using a special technique; beaded jewelry by 11-year-old Eloise\, crocheted and sewn items by 11-year-old Gigi\, model horses with blankets and halter sets hand knitted by 13-year-old Kaitlyn\, and photography by 17-year-old Faith. Also featured will be 8-year-old Sebastian\, a third grader who has been playing piano since before he was five\, who will perform between 12:30-1:30 pm.
URL:https://www.hudsonriver.com/hhrt/event/young-entrepreneurs-pop-up-maria-luisa-boutique/
LOCATION:Maria Luisa\,77 S Broadway\, Nyack\, NY 10960\, USA\, 2 N Broadway Ave\, United States
CATEGORIES:Art,Children,enjoy-nyack,Family-Friendly,Free-Admission,Music,Seasonal,Shopping,Winter-Fun,Winter-Wanderland
END:VEVENT
BEGIN:VEVENT
DTSTART;TZID=America/New_York:20221210T110000
DTEND;TZID=America/New_York:20221210T140000
DTSTAMP:20260423T111716
CREATED:20221206T161849Z
LAST-MODIFIED:20221209T163656Z
UID:10004812-1670670000-1670680800@www.hudsonriver.com
SUMMARY:Holiday Youth Artists' Market
DESCRIPTION:All vendors are local youth artists and makers.\n \nSaturday\, December 10\, 2022 – 11am-2pm\nat the Creative Arts Workshop\n171 Main Street\, Nyack\, NY 10960
URL:https://www.hudsonriver.com/hhrt/event/holiday-youth-artists-market-2/
LOCATION:Creative Arts Workshop\, 48 Burd St\, Nyack\, NY\, 10960\, United States
CATEGORIES:Art,Children,enjoy-nyack,Family-Friendly,Free-Admission,Holiday Fun,Seasonal,Shopping,Winter-Fun,Winter-Wanderland
ATTACH;FMTTYPE=image/png:https://www.hudsonriver.com/hhrt/wp-content/uploads/2022/11/Screen-Shot-2022-11-29-at-12.30.42-PM-EHl1mt.tmp_.png
END:VEVENT
BEGIN:VEVENT
DTSTART;TZID=America/New_York:20221210T110000
DTEND;TZID=America/New_York:20221210T140000
DTSTAMP:20260423T111716
CREATED:20221130T153524Z
LAST-MODIFIED:20221205T161858Z
UID:10004781-1670670000-1670680800@www.hudsonriver.com
SUMMARY:Holiday Youth Artists' Market
DESCRIPTION:All vendors are local youth artists and makers.\n \nSaturday\, December 10\, 2022 – 11am-2pm\nat the Creative Arts Workshop\n171 Main Street\, Nyack\, NY 10960
URL:https://www.hudsonriver.com/hhrt/event/holiday-youth-artists-market/
LOCATION:Creative Arts Workshop\, 48 Burd St\, Nyack\, NY\, 10960\, United States
CATEGORIES:Art,Children,enjoy-nyack,Family-Friendly,Free-Admission,Holiday Fun,Seasonal,Shopping,Winter-Fun,Winter-Wanderland
ATTACH;FMTTYPE=image/png:https://www.hudsonriver.com/hhrt/wp-content/uploads/2022/11/Screen-Shot-2022-11-29-at-12.30.42-PM-EHl1mt.tmp_.png
END:VEVENT
BEGIN:VEVENT
DTSTART;TZID=America/New_York:20221210T100000
DTEND;TZID=America/New_York:20221210T120000
DTSTAMP:20260423T111716
CREATED:20221206T161849Z
LAST-MODIFIED:20221209T163656Z
UID:10004811-1670666400-1670673600@www.hudsonriver.com
SUMMARY:LGBTQ+ Walking Group
DESCRIPTION:LGBTQ+ Walking Group\nSecond Saturday of the Month\nDecember 10th\, 2022 / 10am-12pm\nJoin other members of the LGBTQ+ community for a walk in nature. To start\, this series will be low impact. Members can go at own pace and are not required to stay for the duration of the walk.\nAll members of the LGBTQ+ community are welcome. 18+. Children of members under the age of 18 are welcome when accompanied by parent.\nPlease bring water and appropriately protect yourself from sun and insects. Comfortable shoes recommended. A walking group is only as prepared as its least prepared member.\nAny questions about the program or access\, contact Kris at KrisHillen@rocklandpridecenter.org.\nLocations in series TBA.\nThe December walk will be held at Nyack Beach State Park.\nMeet in the lower parking lot on the water.
URL:https://www.hudsonriver.com/hhrt/event/lgbtq-walking-group-2/
LOCATION:Nyack Beach State Park\, 700 N. Broadway\, Nyack\, NY\, 10960\, United States
CATEGORIES:enjoy-nyack,Family-Friendly,Free-Admission,inclusion,Outdoors,Pride/LGBTQ+,Seasonal,Wellness,Winter-Fun
ATTACH;FMTTYPE=image/png:https://www.hudsonriver.com/hhrt/wp-content/uploads/2022/11/unnamed-2-AA5ksP.tmp_.png
ORGANIZER;CN="Rockland County Pride Center":MAILTO:pride@rocklandpridecenter.org
END:VEVENT
BEGIN:VEVENT
DTSTART;TZID=America/New_York:20221210T100000
DTEND;TZID=America/New_York:20221210T120000
DTSTAMP:20260423T111716
CREATED:20221115T144953Z
LAST-MODIFIED:20221205T161858Z
UID:10004635-1670666400-1670673600@www.hudsonriver.com
SUMMARY:LGBTQ+ Walking Group
DESCRIPTION:LGBTQ+ Walking Group\nSecond Saturday of the Month\nDecember 10th\, 2022 / 10am-12pm\nJoin other members of the LGBTQ+ community for a walk in nature. To start\, this series will be low impact. Members can go at own pace and are not required to stay for the duration of the walk.\nAll members of the LGBTQ+ community are welcome. 18+. Children of members under the age of 18 are welcome when accompanied by parent.\nPlease bring water and appropriately protect yourself from sun and insects. Comfortable shoes recommended. A walking group is only as prepared as its least prepared member.\nAny questions about the program or access\, contact Kris at KrisHillen@rocklandpridecenter.org.\nLocations in series TBA.\nThe December walk will be held at Nyack Beach State Park.\nMeet in the lower parking lot on the water.
URL:https://www.hudsonriver.com/hhrt/event/lgbtq-walking-group/
LOCATION:Nyack Beach State Park\, 700 N. Broadway\, Nyack\, NY\, 10960\, United States
CATEGORIES:enjoy-nyack,Family-Friendly,Free-Admission,inclusion,Outdoors,Pride/LGBTQ+,Seasonal,Wellness,Winter-Fun
ATTACH;FMTTYPE=image/png:https://www.hudsonriver.com/hhrt/wp-content/uploads/2022/11/unnamed-2-AA5ksP.tmp_.png
ORGANIZER;CN="Rockland County Pride Center":MAILTO:pride@rocklandpridecenter.org
END:VEVENT
BEGIN:VEVENT
DTSTART;TZID=America/New_York:20221204T140000
DTEND;TZID=America/New_York:20221204T150000
DTSTAMP:20260423T111716
CREATED:20221128T153610Z
LAST-MODIFIED:20221204T160630Z
UID:10004759-1670162400-1670166000@www.hudsonriver.com
SUMMARY:Artist Talk by Marla Anzalona
DESCRIPTION:
URL:https://www.hudsonriver.com/hhrt/event/artist-talk-by-marla-anzalona/
LOCATION:Ketonet Passim Books\,72 N Broadway\, Nyack\, NY 10960\, USA
CATEGORIES:Art,enjoy-nyack,Free-Admission,paintings,Visual-Art
ATTACH;FMTTYPE=image/jpeg:https://www.hudsonriver.com/hhrt/wp-content/uploads/2022/11/MarlaPainting-scaled-pvc1ED.tmp_.jpg
END:VEVENT
BEGIN:VEVENT
DTSTART;TZID=America/New_York:20221203T090000
DTEND;TZID=America/New_York:20221203T110000
DTSTAMP:20260423T111716
CREATED:20221122T114243Z
LAST-MODIFIED:20221122T114243Z
UID:10004695-1670058000-1670065200@www.hudsonriver.com
SUMMARY:Croton Point Nature & History Hike
DESCRIPTION:Croton Point Park Naturalist John Phillips and Village of Croton Historian Marc Cheshire will lead a hike on Saturday\, December 3\, at 9 a.m. to explore Croton Point’s history\, natural history\, archaeology and geology. The hike will last roughly 1.5 to 2 hours. This event is free. Meet at the gate to the RV park\, where parking is available. Ages 6 and up; wear sturdy shoes. The same hike will take place on December 10.
URL:https://www.hudsonriver.com/hhrt/event/croton-point-nature-history-hike-2/
LOCATION:Croton Point Park\, Croton Point Avenue\, parks.westchestergov.com
CATEGORIES:Community Walk,Educational,Family Fun,Family-Friendly,Free-Admission,History,Outdoors,Winter-Fun
ATTACH;FMTTYPE=image/jpeg:https://www.hudsonriver.com/hhrt/wp-content/uploads/2022/11/Fowler-Croton-Point-Map-1.jpg
ORGANIZER;CN="Croton Historical Society":MAILTO:historian@crotonhistoricalsociety.org
GEO:41.1894791;-73.8823805
X-APPLE-STRUCTURED-LOCATION;VALUE=URI;X-ADDRESS=Croton Point Park Croton Point Avenue parks.westchestergov.com;X-APPLE-RADIUS=500;X-TITLE=Croton Point Avenue:geo:-73.8823805,41.1894791
END:VEVENT
BEGIN:VEVENT
DTSTART;TZID=America/New_York:20221202T190000
DTEND;TZID=America/New_York:20221202T220000
DTSTAMP:20260423T111716
CREATED:20221130T153522Z
LAST-MODIFIED:20221202T153830Z
UID:10004779-1670007600-1670018400@www.hudsonriver.com
SUMMARY:Pop-up First Friday @ Hotel Nyack
DESCRIPTION:Pop-up First Friday at Hotel Nyack\n400 High Ave\, Nyack\, NY\nFriday\, December 2\, 2022\, 7-10 pm\nThe Nyack Art Collective is hosting a Holiday Art Show and Sale in The Speakeasy\, in the lobby of the Hotel Nyack. Live music and cash bar.\nhttps://www.nyackartcollective.com
URL:https://www.hudsonriver.com/hhrt/event/pop-up-first-friday-hotel-nyack/
LOCATION:Hotel Nyack\,400 High Ave\, Nyack\, NY 10960\, USA
CATEGORIES:Art,enjoy-nyack,Free-Admission,Holiday Fun,Live-Music,Music,Nightlife,paintings,photographs,Photography,Portraiture,Restaurants/Food,Seasonal,Shopping,Visual-Art,Winter-Fun,Winter-Wanderland
ATTACH;FMTTYPE=image/jpeg:https://www.hudsonriver.com/hhrt/wp-content/uploads/2022/11/3-1-scaled-HkmuUt.tmp_.jpg
ORGANIZER;CN="Nyack Art Collective":MAILTO:Info@nyackartcollective.com
END:VEVENT
BEGIN:VEVENT
DTSTART;TZID=America/New_York:20221201T190000
DTEND;TZID=America/New_York:20221201T190000
DTSTAMP:20260423T111716
CREATED:20221106T144859Z
LAST-MODIFIED:20221201T153350Z
UID:10004522-1669921200-1669921200@www.hudsonriver.com
SUMMARY:Winter Hiking 101
DESCRIPTION:West Mountain Guide Co will be in the shop to teach us how to enjoy the trails and stay safe in the colder months. Topics cover proper layering and gear considerations\, as well as nutrition to get the most out of winter hiking.\nCo-founders\, Lauren (trail name Woodchuck) and Henri (trail name Rooster) de la Vega are licensed New York State Outdoor Guides and long-distance backpackers. Together\, they have hiked the Appalachian Trail (2016)\, Pacific Crest Trail (2017)\, and the Continental Divide Trail (2021)\, with Henri also completing the Florida Trail (2022). The 15\,000 miles of thru-hiking they’ve experienced has fueled their desire to help others experience the backcountry.
URL:https://www.hudsonriver.com/hhrt/event/winter-hiking-101/
LOCATION:Long Path Outfitters\, 75 South Broadway\, Nyack\, NY\, 10960\, United States
CATEGORIES:enjoy-nyack,Free-Admission,Holiday Fun,Seasonal,Shopping,Wellness,Winter-Fun,Winter-Wanderland,Workshop
ATTACH;FMTTYPE=image/jpeg:https://www.hudsonriver.com/hhrt/wp-content/uploads/2022/11/unnamed-1-090XW2.tmp_.jpg
ORGANIZER;CN="Long Path Outfitters":MAILTO:hello@longpathoutfitters.com
END:VEVENT
BEGIN:VEVENT
DTSTART;TZID=America/New_York:20221125T183000
DTEND;TZID=America/New_York:20221125T200000
DTSTAMP:20260423T111716
CREATED:20221125T151916Z
LAST-MODIFIED:20221125T151918Z
UID:10004724-1669401000-1669406400@www.hudsonriver.com
SUMMARY:Voyage of the Spiritual Astronaut Continues...Just for the Guys!
DESCRIPTION:The voyage continues as ‘Lucifer’ from Positive Occult Podcast hosts another interesting evening – JUST FOR MEN – to discuss how they can voyage to their spiritual side\, improve how to share and learn together\, and create a Circle of Support for one another … Free event\, walk-in\, no sign up necessary
URL:https://www.hudsonriver.com/hhrt/event/voyage-of-the-spiritual-astronaut-continues-just-for-the-guys/
LOCATION:Modern Druid\, 60 S. Broadway\, Nyack\, NY\, 10960\, United States
CATEGORIES:enjoy-nyack,Fall-Fun,Free-Admission,Seasonal,Shopping,Wellness,Workshop
ORGANIZER;CN="Modern Druid":MAILTO:hello@modern-druid.com
END:VEVENT
BEGIN:VEVENT
DTSTART;TZID=America/New_York:20221112T100000
DTEND;TZID=America/New_York:20221112T190000
DTSTAMP:20260423T111716
CREATED:20221106T144858Z
LAST-MODIFIED:20221112T145035Z
UID:10004521-1668247200-1668279600@www.hudsonriver.com
SUMMARY:Santa's Coming to The Henry!
DESCRIPTION:Santa’s Coming to The Henry!\nSaturday\, November 12th\n10am-7pm\nFamily-friendly event\n \nThe Henry\n100 Main Street\n2nd Floor\nNyack\, NY
URL:https://www.hudsonriver.com/hhrt/event/santas-coming-to-the-henry/
LOCATION:The Henry\, 100 Main Street\, Nyack\, NY\, 10960\, United States
CATEGORIES:Children,enjoy-nyack,Family-Friendly,Free-Admission,Restaurants/Food,Seasonal,Winter-Fun,Winter-Wanderland
ATTACH;FMTTYPE=image/jpeg:https://www.hudsonriver.com/hhrt/wp-content/uploads/2022/11/IMG_9691-scaled-e1667698812270-hjJwFi.tmp_.jpg
END:VEVENT
BEGIN:VEVENT
DTSTART;TZID=America/New_York:20221106T120000
DTEND;TZID=America/New_York:20221106T160000
DTSTAMP:20260423T111716
CREATED:20221106T144858Z
LAST-MODIFIED:20221106T144858Z
UID:10004520-1667736000-1667750400@www.hudsonriver.com
SUMMARY:Nyack Library Book Sale
DESCRIPTION:Book Sale!!\nJoin us for the Friends of the Nyack Library Book Sale in our Community Meeting Room.\nSaturday: 10:00am – 5:00pm\, Sunday 12:00pm – 4:00pm\nEarly Bird Special (cost: $20) is 9am-10am on Sat.\, November 5th (+ purchase of materials)
URL:https://www.hudsonriver.com/hhrt/event/nyack-library-book-sale-2/
LOCATION:Nyack Library\, 59 S Broadway\, Nyack\, NY 10960\, USA
CATEGORIES:Children,enjoy-nyack,Fall-Fun,Family-Friendly,Free-Admission,Fundraiser,Literary,Shopping
ATTACH;FMTTYPE=image/jpeg:https://www.hudsonriver.com/hhrt/wp-content/uploads/2022/11/unnamed-scaled-FySk4e.tmp_.jpg
ORGANIZER;CN="Nyack Library":MAILTO:programs@nyacklibrary.org
END:VEVENT
BEGIN:VEVENT
DTSTART;TZID=America/New_York:20221105T100000
DTEND;TZID=America/New_York:20221105T170000
DTSTAMP:20260423T111716
CREATED:20221105T144450Z
LAST-MODIFIED:20221105T144451Z
UID:10004504-1667642400-1667667600@www.hudsonriver.com
SUMMARY:Nyack Library Book Sale
DESCRIPTION:Book Sale!!\nJoin us for the Friends of the Nyack Library Book Sale in our Community Meeting Room.\nSaturday: 10:00am – 5:00pm\, Sunday 12:00pm – 4:00pm\nEarly Bird Special (cost: $20) is 9am-10am on Sat.\, November 5th (+ purchase of materials)
URL:https://www.hudsonriver.com/hhrt/event/nyack-library-book-sale/
LOCATION:Nyack Library\, 59 S Broadway\, Nyack\, NY 10960\, USA
CATEGORIES:Children,enjoy-nyack,Fall-Fun,Family-Friendly,Free-Admission,Fundraiser,Literary,Shopping
ATTACH;FMTTYPE=image/jpeg:https://www.hudsonriver.com/hhrt/wp-content/uploads/2022/11/unnamed-scaled-FySk4e.tmp_.jpg
ORGANIZER;CN="Nyack Library":MAILTO:programs@nyacklibrary.org
END:VEVENT
END:VCALENDAR