BEGIN:VCALENDAR
VERSION:2.0
PRODID:-//Historic Hudson River Towns - ECPv6.15.20//NONSGML v1.0//EN
CALSCALE:GREGORIAN
METHOD:PUBLISH
X-ORIGINAL-URL:https://www.hudsonriver.com/hhrt
X-WR-CALDESC:Events for Historic Hudson River Towns
REFRESH-INTERVAL;VALUE=DURATION:PT1H
X-Robots-Tag:noindex
X-PUBLISHED-TTL:PT1H
BEGIN:VTIMEZONE
TZID:America/New_York
BEGIN:DAYLIGHT
TZOFFSETFROM:-0500
TZOFFSETTO:-0400
TZNAME:EDT
DTSTART:20220313T070000
END:DAYLIGHT
BEGIN:STANDARD
TZOFFSETFROM:-0400
TZOFFSETTO:-0500
TZNAME:EST
DTSTART:20221106T060000
END:STANDARD
BEGIN:DAYLIGHT
TZOFFSETFROM:-0500
TZOFFSETTO:-0400
TZNAME:EDT
DTSTART:20230312T070000
END:DAYLIGHT
BEGIN:STANDARD
TZOFFSETFROM:-0400
TZOFFSETTO:-0500
TZNAME:EST
DTSTART:20231105T060000
END:STANDARD
BEGIN:DAYLIGHT
TZOFFSETFROM:-0500
TZOFFSETTO:-0400
TZNAME:EDT
DTSTART:20240310T070000
END:DAYLIGHT
BEGIN:STANDARD
TZOFFSETFROM:-0400
TZOFFSETTO:-0500
TZNAME:EST
DTSTART:20241103T060000
END:STANDARD
END:VTIMEZONE
BEGIN:VEVENT
DTSTART;TZID=America/New_York:20231028T173000
DTEND;TZID=America/New_York:20231028T230000
DTSTAMP:20260421T000316
CREATED:20230925T132420Z
LAST-MODIFIED:20230925T132420Z
UID:10013647-1698514200-1698534000@www.hudsonriver.com
SUMMARY:21st Annual Tarrytown Halloween Parade
DESCRIPTION:Tarrytown once again becomes Halloween Central when the 21st Annual Halloween Parade comes to town on October 28th!  Enter your group or float to participate or just come on down to Main Street to join in the spooky celebration!  We are proud to have received our 7th consecutive Best of Westchester Award last year and look forward to another great parade this season! \nThis legendary Halloween Parade starts at Patriots Park on Route 9 at 5:30pm and travels to Main Street in Tarrytown. Following the parade there is a DJ\, band and block party. \n  \n  \n 
URL:https://www.hudsonriver.com/hhrt/event/21st-annual-tarrytown-halloween-parade/
LOCATION:Main Street\, Tarrytown\, Main Street\, Tarrytown\, NY\, 10591\, United States
CATEGORIES:Festivals, Fairs, and Parades,Parades
ATTACH;FMTTYPE=image/jpeg:https://www.hudsonriver.com/hhrt/wp-content/uploads/2023/09/Tarrytown-Halloween-Parade--scaled.jpg
END:VEVENT
END:VCALENDAR