BEGIN:VCALENDAR
VERSION:2.0
PRODID:-//Historic Hudson River Towns - ECPv6.15.20//NONSGML v1.0//EN
CALSCALE:GREGORIAN
METHOD:PUBLISH
X-ORIGINAL-URL:https://www.hudsonriver.com/hhrt
X-WR-CALDESC:Events for Historic Hudson River Towns
REFRESH-INTERVAL;VALUE=DURATION:PT1H
X-Robots-Tag:noindex
X-PUBLISHED-TTL:PT1H
BEGIN:VTIMEZONE
TZID:America/New_York
BEGIN:DAYLIGHT
TZOFFSETFROM:-0500
TZOFFSETTO:-0400
TZNAME:EDT
DTSTART:20210314T070000
END:DAYLIGHT
BEGIN:STANDARD
TZOFFSETFROM:-0400
TZOFFSETTO:-0500
TZNAME:EST
DTSTART:20211107T060000
END:STANDARD
BEGIN:DAYLIGHT
TZOFFSETFROM:-0500
TZOFFSETTO:-0400
TZNAME:EDT
DTSTART:20220313T070000
END:DAYLIGHT
BEGIN:STANDARD
TZOFFSETFROM:-0400
TZOFFSETTO:-0500
TZNAME:EST
DTSTART:20221106T060000
END:STANDARD
BEGIN:DAYLIGHT
TZOFFSETFROM:-0500
TZOFFSETTO:-0400
TZNAME:EDT
DTSTART:20230312T070000
END:DAYLIGHT
BEGIN:STANDARD
TZOFFSETFROM:-0400
TZOFFSETTO:-0500
TZNAME:EST
DTSTART:20231105T060000
END:STANDARD
END:VTIMEZONE
BEGIN:VEVENT
DTSTART;TZID=America/New_York:20221022T120000
DTEND;TZID=America/New_York:20221022T170000
DTSTAMP:20260425T112529
CREATED:20220913T194825Z
LAST-MODIFIED:20220913T194825Z
UID:10004256-1666440000-1666458000@www.hudsonriver.com
SUMMARY:Revolution on the Hudson!
DESCRIPTION:Save the date for our Revolution on the Hudson! Living History Experience on the waterfront in historic Tarrytown\, NY\, on October 22 from noon to 5 p.m. at Pierson Park. This family-friendly event is FREE. \nRevolution on the Hudson! will feature historical figures such as George Washington\, Benedict Arnold\, Major John André\, Benjamin Franklin\, and Patriot David Williams. Multiple military reenactor groups will be on-site\, including a cavalry unit\, the 2nd Continental Light Dragoons\, with several of their military horses\, and Alexander Hamilton’s militia unit\, Hearts of Oak. There will be craft demonstrators including blacksmithing\, demonstrations of Lenape technologies\, colonial-period music\, a military tent encampment and a marching/parade demonstration of more than 30 soldiers with musket firing. Theatrical performances will take place at intervals on the park’s outdoor stage—providing immersive\, entertaining\, and educational experiences.
URL:https://www.hudsonriver.com/hhrt/event/revolution-on-the-hudson/
LOCATION:Pierson Park\, 238 West Main Street\, Tarrytown\, NY\, 10591\, United States
CATEGORIES:Educational,Family Fun,Festivals, Fairs, and Parades,Performing Arts
ATTACH;FMTTYPE=image/jpeg:https://www.hudsonriver.com/hhrt/wp-content/uploads/2022/09/RW250-FB-Event-photo.jpeg
GEO:40.9492431;-73.7339488
X-APPLE-STRUCTURED-LOCATION;VALUE=URI;X-ADDRESS=Pierson Park 238 West Main Street Tarrytown NY 10591 United States;X-APPLE-RADIUS=500;X-TITLE=238 West Main Street:geo:-73.7339488,40.9492431
END:VEVENT
END:VCALENDAR