BEGIN:VCALENDAR
VERSION:2.0
PRODID:-//Historic Hudson River Towns - ECPv6.15.20//NONSGML v1.0//EN
CALSCALE:GREGORIAN
METHOD:PUBLISH
X-ORIGINAL-URL:https://www.hudsonriver.com/hhrt
X-WR-CALDESC:Events for Historic Hudson River Towns
REFRESH-INTERVAL;VALUE=DURATION:PT1H
X-Robots-Tag:noindex
X-PUBLISHED-TTL:PT1H
BEGIN:VTIMEZONE
TZID:America/New_York
BEGIN:DAYLIGHT
TZOFFSETFROM:-0500
TZOFFSETTO:-0400
TZNAME:EDT
DTSTART:20210314T070000
END:DAYLIGHT
BEGIN:STANDARD
TZOFFSETFROM:-0400
TZOFFSETTO:-0500
TZNAME:EST
DTSTART:20211107T060000
END:STANDARD
BEGIN:DAYLIGHT
TZOFFSETFROM:-0500
TZOFFSETTO:-0400
TZNAME:EDT
DTSTART:20220313T070000
END:DAYLIGHT
BEGIN:STANDARD
TZOFFSETFROM:-0400
TZOFFSETTO:-0500
TZNAME:EST
DTSTART:20221106T060000
END:STANDARD
BEGIN:DAYLIGHT
TZOFFSETFROM:-0500
TZOFFSETTO:-0400
TZNAME:EDT
DTSTART:20230312T070000
END:DAYLIGHT
BEGIN:STANDARD
TZOFFSETFROM:-0400
TZOFFSETTO:-0500
TZNAME:EST
DTSTART:20231105T060000
END:STANDARD
END:VTIMEZONE
BEGIN:VEVENT
DTSTART;TZID=America/New_York:20220918T130000
DTEND;TZID=America/New_York:20220918T160000
DTSTAMP:20260425T104210
CREATED:20220817T175327Z
LAST-MODIFIED:20220817T175327Z
UID:10004229-1663506000-1663516800@www.hudsonriver.com
SUMMARY:Dobbs Ferry Road to Freedom Walk
DESCRIPTION:The Dobbs Ferry Road to Freedom Walk begins at 1:00pm at Gould Park\, Dobbs Ferry. It commemorates a turning point in the Revolutionary War when on August 19\, 1781\, the Continental Army under George Washington departed their encampment in our area to march 400 miles to attack the British army at Yorktown\, Virginia. The program continues at 2:00pm at the Mead House\, 12 Elm Street\, Dobbs Ferry. The Road to Freedom Walk is a program of the Dobbs Ferry Historical Society. We thank the principal sponsors of the event\, Tensor Foundation and the Maurice D. Hinchey Hudson River Valley National Heritage Area.
URL:https://www.hudsonriver.com/hhrt/event/dobbs-ferry-road-to-freedom-walk/
LOCATION:Gould Park\, Washington Avenue and Ashford Avenue\, Dobbs Ferry\, 10522
CATEGORIES:Community Walk,Educational,Family Fun,Festivals, Fairs, and Parades
ATTACH;FMTTYPE=image/png:https://www.hudsonriver.com/hhrt/wp-content/uploads/2022/08/RTF-Flyer_2022_V2.png
ORGANIZER;CN="Dobbs Ferry Historical Society":MAILTO:dfhistory@optimum.net
GEO:41.0138466;-73.8574062
X-APPLE-STRUCTURED-LOCATION;VALUE=URI;X-ADDRESS=Gould Park Washington Avenue and Ashford Avenue Dobbs Ferry 10522;X-APPLE-RADIUS=500;X-TITLE=Washington Avenue and Ashford Avenue:geo:-73.8574062,41.0138466
END:VEVENT
BEGIN:VEVENT
DTSTART;TZID=America/New_York:20220918T130000
DTEND;TZID=America/New_York:20220918T170000
DTSTAMP:20260425T104210
CREATED:20220810T171701Z
LAST-MODIFIED:20220810T171701Z
UID:10004224-1663506000-1663520400@www.hudsonriver.com
SUMMARY:Flavors of Haverstraw Food Crawl & Beer Garden
DESCRIPTION:Taste Ecuador\, Peru\, Puerto Rico\, The Dominican Republic\, Mexico\, BBQ\, seafood\, craft beer brittle & more at the Flavors of Haverstraw Food Crawl. Sunday\, 9/18 -1-5pm. Main St. in Downtown Haverstraw. Sip NY craft beer on West St.\, alongside Fat Boi’s Brass Band\, JLP and the Very Bad Ideas and more. www.HaverstrawFoodCrawl.com \nThe NY Waterway Ferry will operate during the Crawl from Ossining to Haverstraw. A free shuttle will pick up guests and drop them off 6 blocks away at 40 New Main St.
URL:https://www.hudsonriver.com/hhrt/event/flavors-of-haverstraw-food-crawl-beer-garden/
LOCATION:New Main St. Haverstraw\, NY\, 38 New Main St\, Haverstraw\, 10927
CATEGORIES:Festivals, Fairs, and Parades,Food & Beverage
ATTACH;FMTTYPE=image/jpeg:https://www.hudsonriver.com/hhrt/wp-content/uploads/2022/08/750x750-FoodCrawl_Social_Wave1_-01.jpg
ORGANIZER;CN="Haverstraw riverwide arts":MAILTO:haverstrawriverarts@gmail.com
GEO:41.1965148;-73.9659674
X-APPLE-STRUCTURED-LOCATION;VALUE=URI;X-ADDRESS=New Main St. Haverstraw NY 38 New Main St Haverstraw 10927;X-APPLE-RADIUS=500;X-TITLE=38 New Main St:geo:-73.9659674,41.1965148
END:VEVENT
BEGIN:VEVENT
DTSTART;TZID=America/New_York:20220924T100000
DTEND;TZID=America/New_York:20220924T150000
DTSTAMP:20260425T104210
CREATED:20220812T135650Z
LAST-MODIFIED:20220812T135650Z
UID:10004226-1664013600-1664031600@www.hudsonriver.com
SUMMARY:Dalmatian Day 2022
DESCRIPTION:Join us on September 24th\, 2022 from 10:00 am–3:00 pm for a FREE IN-PERSON event: The Bob McKinney Memorial Fire Prevention Event: Dalmatian Day 2022! \nWe invite you to join in on the exciting return of Dalmatian Day 2022! During this free event\, you can enjoy: \n\nMeet & Greet Live Dalmatians\nGames with Prizes for Kids\nDalmatian-Themed Craft Projects\nJuggling Show by Joshua J. Superstar\nInteractive Safety House Tours\nPuppet Show… and so much more!\n\nAll activities are FREE\, and FREE admission to the Museum will also be offered during the event. RESERVATIONS ARE NOT REQUIRED FOR THIS EVENT. \nThis event is made possible\, in part\, by the generous support of the following partners and sponsors (an updated list of sponsors can be found on the Museum’s website.): \nPlatinum Sponsor: \n\nHudson River Bank and Trust Co. Foundation\n\nGold Sponsors: \n\nGreylock Federal Credit Union\nMartin\, Harding & Mazzotti\, LLP\n\nSilver Sponsor: \n\nStewart’s Shops\n\nBronze Sponsors: \n\nHannaford Supermarkets\nRed Hook Fire Co. Inc.\n\nCopper Sponsors: \n\nGarrison Fire & Rescue Corp.\nGina’s K-9 Bed & Breakfast\nGinsberg’s Foods\nProPrinters\n\nIron Sponsors: \n\nEast Jewett Fire Department\nKaren’s Flower Shoppe & Gifts\nLawlor’s Package Store\nLebanon Valley Prot. Assoc. Inc.\nNew Hackensack Fire Co.\nStockport Vol. Fire Co. #1
URL:https://www.hudsonriver.com/hhrt/event/dalmatian-day-2022/
LOCATION:FASNY Museum of Firefighting\, 117 Harry Howard Ave.\, Hudson\, NY\, 12534\, United States
CATEGORIES:Family Fun,Festivals, Fairs, and Parades
ATTACH;FMTTYPE=image/jpeg:https://www.hudsonriver.com/hhrt/wp-content/uploads/2022/08/dday-promo-graphic-2022.jpg
ORGANIZER;CN="FASNY Museum of Firefighting":MAILTO:fhcontact@fasnyfiremuseum.com
GEO:42.2565455;-73.7795012
X-APPLE-STRUCTURED-LOCATION;VALUE=URI;X-ADDRESS=FASNY Museum of Firefighting 117 Harry Howard Ave. Hudson NY 12534 United States;X-APPLE-RADIUS=500;X-TITLE=117 Harry Howard Ave.:geo:-73.7795012,42.2565455
END:VEVENT
END:VCALENDAR