BEGIN:VCALENDAR
VERSION:2.0
PRODID:-//Historic Hudson River Towns - ECPv6.15.20//NONSGML v1.0//EN
CALSCALE:GREGORIAN
METHOD:PUBLISH
X-ORIGINAL-URL:https://www.hudsonriver.com/hhrt
X-WR-CALDESC:Events for Historic Hudson River Towns
REFRESH-INTERVAL;VALUE=DURATION:PT1H
X-Robots-Tag:noindex
X-PUBLISHED-TTL:PT1H
BEGIN:VTIMEZONE
TZID:America/New_York
BEGIN:DAYLIGHT
TZOFFSETFROM:-0500
TZOFFSETTO:-0400
TZNAME:EDT
DTSTART:20210314T070000
END:DAYLIGHT
BEGIN:STANDARD
TZOFFSETFROM:-0400
TZOFFSETTO:-0500
TZNAME:EST
DTSTART:20211107T060000
END:STANDARD
BEGIN:DAYLIGHT
TZOFFSETFROM:-0500
TZOFFSETTO:-0400
TZNAME:EDT
DTSTART:20220313T070000
END:DAYLIGHT
BEGIN:STANDARD
TZOFFSETFROM:-0400
TZOFFSETTO:-0500
TZNAME:EST
DTSTART:20221106T060000
END:STANDARD
BEGIN:DAYLIGHT
TZOFFSETFROM:-0500
TZOFFSETTO:-0400
TZNAME:EDT
DTSTART:20230312T070000
END:DAYLIGHT
BEGIN:STANDARD
TZOFFSETFROM:-0400
TZOFFSETTO:-0500
TZNAME:EST
DTSTART:20231105T060000
END:STANDARD
END:VTIMEZONE
BEGIN:VEVENT
DTSTART;TZID=America/New_York:20220521T120000
DTEND;TZID=America/New_York:20220521T170000
DTSTAMP:20260420T144642
CREATED:20220415T195754Z
LAST-MODIFIED:20220415T195754Z
UID:10003921-1653134400-1653152400@www.hudsonriver.com
SUMMARY:Mayfest Farmers and Makers Market in Lloyd
DESCRIPTION:Phone: (845) 454-9649\nE-Mail: walkway@walkway.org\nWebsite: http://Walkway.org\nTickets/Registration: https://app.mobilecause.com/e/j_ZSLw\nAdmission Fee: $25 Tasting Tickets\, General Admission is Free \nMayfest Farmers and Makers Market showcases a curated selection of the Hudson Valley’s finest producers at the Hudson Valley Rail Trail and West approach to the Walkway Over the Hudson State Historic Park. Vendors exhibit their wares for tasting or purchase in support of our regional agribusinesses. \nBeer\, Wine and Spirits tasting tickets are available NOW! For just $25\, you gain full access to samples from more than 20 area purveyors. *MUST BE 21+ TO PURCHASE A WRISTBAND* Walkway members\, veterans\, active-duty military\, and senior citizens (65+) receive discounted admission. General admission to Mayfest (excluding the tasting area) is free.
URL:https://www.hudsonriver.com/hhrt/event/mayfest-farmers-and-makers-market-in-lloyd/2022-05-21/
LOCATION:Walkway Over the Hudson\, 87 Haviland Road\, Highland\, NY\, 12528\, United States
CATEGORIES:Farmers Market,Festivals, Fairs, and Parades
ATTACH;FMTTYPE=image/jpeg:https://www.hudsonriver.com/hhrt/wp-content/uploads/2022/04/Mayfest-2022-Logo.jpg
GEO:41.7104768;-73.9550595
X-APPLE-STRUCTURED-LOCATION;VALUE=URI;X-ADDRESS=Walkway Over the Hudson 87 Haviland Road Highland NY 12528 United States;X-APPLE-RADIUS=500;X-TITLE=87 Haviland Road:geo:-73.9550595,41.7104768
END:VEVENT
END:VCALENDAR