BEGIN:VCALENDAR
VERSION:2.0
PRODID:-//Historic Hudson River Towns - ECPv6.15.20//NONSGML v1.0//EN
CALSCALE:GREGORIAN
METHOD:PUBLISH
X-WR-CALNAME:Historic Hudson River Towns
X-ORIGINAL-URL:https://www.hudsonriver.com/hhrt
X-WR-CALDESC:Events for Historic Hudson River Towns
REFRESH-INTERVAL;VALUE=DURATION:PT1H
X-Robots-Tag:noindex
X-PUBLISHED-TTL:PT1H
BEGIN:VTIMEZONE
TZID:America/New_York
BEGIN:DAYLIGHT
TZOFFSETFROM:-0500
TZOFFSETTO:-0400
TZNAME:EDT
DTSTART:20210314T070000
END:DAYLIGHT
BEGIN:STANDARD
TZOFFSETFROM:-0400
TZOFFSETTO:-0500
TZNAME:EST
DTSTART:20211107T060000
END:STANDARD
BEGIN:DAYLIGHT
TZOFFSETFROM:-0500
TZOFFSETTO:-0400
TZNAME:EDT
DTSTART:20220313T070000
END:DAYLIGHT
BEGIN:STANDARD
TZOFFSETFROM:-0400
TZOFFSETTO:-0500
TZNAME:EST
DTSTART:20221106T060000
END:STANDARD
BEGIN:DAYLIGHT
TZOFFSETFROM:-0500
TZOFFSETTO:-0400
TZNAME:EDT
DTSTART:20230312T070000
END:DAYLIGHT
BEGIN:STANDARD
TZOFFSETFROM:-0400
TZOFFSETTO:-0500
TZNAME:EST
DTSTART:20231105T060000
END:STANDARD
END:VTIMEZONE
BEGIN:VEVENT
DTSTART;TZID=America/New_York:20221126T100000
DTEND;TZID=America/New_York:20221126T160000
DTSTAMP:20260419T124255
CREATED:20221009T205120Z
LAST-MODIFIED:20221009T205120Z
UID:10004377-1669456800-1669478400@www.hudsonriver.com
SUMMARY:Annual Holiday Artisan Market
DESCRIPTION:Come shop for unique handcrafted gifts from local artists and makers at our annual holiday market!  Presented by the Northeast Etsy Artists Collective\, in collaboration with the Friends of the Ossining Public Library\, fourteen artists from the group will be on hand selling our beautiful handmade items perfect for gift giving!  Discover fashion jewelry\, glass art\, journals\, bookmarks\, framed artwork\, pottery\, clay ornaments\, soaps & skincare\, candles\, knitwear\, felted textile art\, home decor and accessories\, and much more!  A portion of sales proceeds to benefit the Friends!
URL:https://www.hudsonriver.com/hhrt/event/annual-holiday-artisan-market/
LOCATION:Ossining Public Library\, 53 Croton Avenue\, Ossining\, NY\, 10562\, United States
CATEGORIES:Family Fun,Festivals, Fairs, and Parades,Visual Arts
ATTACH;FMTTYPE=image/png:https://www.hudsonriver.com/hhrt/wp-content/uploads/2022/10/Holiday-2022-OPL-Flyer-1.png
ORGANIZER;CN="Robin Larido":MAILTO:robinlarido96@gmail.com
GEO:41.1682597;-73.8399996
X-APPLE-STRUCTURED-LOCATION;VALUE=URI;X-ADDRESS=Ossining Public Library 53 Croton Avenue Ossining NY 10562 United States;X-APPLE-RADIUS=500;X-TITLE=53 Croton Avenue:geo:-73.8399996,41.1682597
END:VEVENT
BEGIN:VEVENT
DTSTART;TZID=America/New_York:20221126T190000
DTEND;TZID=America/New_York:20221126T210000
DTSTAMP:20260419T124255
CREATED:20220909T153238Z
LAST-MODIFIED:20220909T153303Z
UID:10004234-1669489200-1669496400@www.hudsonriver.com
SUMMARY:World Ballet Series: Nutcracker
DESCRIPTION:Step into the whimsical\, magical world of one of the most beloved fairy tales\, coming to the Paramount Hudson Valley Theater this Holiday Season! \nA part of the World Ballet Series\, the Nutcracker is performed live by a multinational cast of 50 professional ballet dancers gathered to bring the most beloved holiday tradition to life.  A family-friendly experience accompanied by Tchaikovsky’s timeless score\, over 150 hand-sewn costumes\, hand-crafted sets and classic Marius Petipa choreography.  This fairytale will take you on a Christmas night adventure with Clara and the Nutcracker to the Land of Sweets. See the iconic Waltz of Flowers\, and the Dance of the Sugar Plum Fairy\, meet Mother Ginger and the Drosselmeyer. \nMark your calendars and snag your tickets early for this unforgettable experience!
URL:https://www.hudsonriver.com/hhrt/event/world-ballet-series-nutcracker/
LOCATION:Paramount Hudson Valley Theater\, 1008 Brown St\, Peekskill\, NY\, 10566\, United States
CATEGORIES:Family Fun,Performing Arts
ATTACH;FMTTYPE=image/jpeg:https://www.hudsonriver.com/hhrt/wp-content/uploads/2022/09/Peekskill_2000x827px_basic-1.jpg
ORGANIZER;CN="Paramount Hudson Valley Theater":MAILTO:boxoffice@paramounthudsonvalley.com
GEO:41.2902344;-73.9196783
X-APPLE-STRUCTURED-LOCATION;VALUE=URI;X-ADDRESS=Paramount Hudson Valley Theater 1008 Brown St Peekskill NY 10566 United States;X-APPLE-RADIUS=500;X-TITLE=1008 Brown St:geo:-73.9196783,41.2902344
END:VEVENT
END:VCALENDAR