BEGIN:VCALENDAR
VERSION:2.0
PRODID:-//Historic Hudson River Towns - ECPv6.15.20//NONSGML v1.0//EN
CALSCALE:GREGORIAN
METHOD:PUBLISH
X-WR-CALNAME:Historic Hudson River Towns
X-ORIGINAL-URL:https://www.hudsonriver.com/hhrt
X-WR-CALDESC:Events for Historic Hudson River Towns
REFRESH-INTERVAL;VALUE=DURATION:PT1H
X-Robots-Tag:noindex
X-PUBLISHED-TTL:PT1H
BEGIN:VTIMEZONE
TZID:America/New_York
BEGIN:DAYLIGHT
TZOFFSETFROM:-0500
TZOFFSETTO:-0400
TZNAME:EDT
DTSTART:20220313T070000
END:DAYLIGHT
BEGIN:STANDARD
TZOFFSETFROM:-0400
TZOFFSETTO:-0500
TZNAME:EST
DTSTART:20221106T060000
END:STANDARD
BEGIN:DAYLIGHT
TZOFFSETFROM:-0500
TZOFFSETTO:-0400
TZNAME:EDT
DTSTART:20230312T070000
END:DAYLIGHT
BEGIN:STANDARD
TZOFFSETFROM:-0400
TZOFFSETTO:-0500
TZNAME:EST
DTSTART:20231105T060000
END:STANDARD
BEGIN:DAYLIGHT
TZOFFSETFROM:-0500
TZOFFSETTO:-0400
TZNAME:EDT
DTSTART:20240310T070000
END:DAYLIGHT
BEGIN:STANDARD
TZOFFSETFROM:-0400
TZOFFSETTO:-0500
TZNAME:EST
DTSTART:20241103T060000
END:STANDARD
END:VTIMEZONE
BEGIN:VEVENT
DTSTART;TZID=America/New_York:20230608T190000
DTEND;TZID=America/New_York:20230608T203000
DTSTAMP:20260425T123801
CREATED:20230527T140732Z
LAST-MODIFIED:20230527T140732Z
UID:10006496-1686250800-1686256200@www.hudsonriver.com
SUMMARY:Bethel Cemetery & Croton’s Lost Cemeteries
DESCRIPTION:Cemeteries are a record of our nation’s past. There is a rich collection of history located on their grounds. Here in our village we are fortunate to have fantastic examples of period gravestones dating back to the 1700s. Bethel Cemetery is a most charming space\, located in the virtual center of our community\, surrounded by our schools\, library and neighborhoods. Residents pass by and through it on a daily basis making it a part of our village. Croton Village Historian Marc Cheshire will tell the story of Bethel Cemetery\, Croton’s lost Quaker Burying Ground and the Van Cortlandt family cemetery.
URL:https://www.hudsonriver.com/hhrt/event/bethel-cemetery-crotons-lost-cemeteries/
LOCATION:Croton Free Library\, 171 Cleveland Drive\, Croton-on-Hudson\, NY\, 10520
CATEGORIES:Educational,Free-Admission,History
ATTACH;FMTTYPE=image/jpeg:https://www.hudsonriver.com/hhrt/wp-content/uploads/2023/05/Bethel_cr.jpg
GEO:41.2081955;-73.8791195
X-APPLE-STRUCTURED-LOCATION;VALUE=URI;X-ADDRESS=Croton Free Library 171 Cleveland Drive Croton-on-Hudson NY 10520;X-APPLE-RADIUS=500;X-TITLE=171 Cleveland Drive:geo:-73.8791195,41.2081955
END:VEVENT
BEGIN:VEVENT
DTSTART;TZID=America/New_York:20230610T090000
DTEND;TZID=America/New_York:20230610T110000
DTSTAMP:20260425T123801
CREATED:20230527T140715Z
LAST-MODIFIED:20230527T140715Z
UID:10006495-1686387600-1686394800@www.hudsonriver.com
SUMMARY:Croton Point Nature & History Hike
DESCRIPTION:Croton Point Park Naturalist John Phillips and Village of Croton Historian Marc Cheshire will lead hikes on Saturday\, June 10 and June 17\, at 9 a.m. to explore Croton Point’s history\, natural history\, archaeology and geology. The hikes will last roughly 1.5 to 2 hours. The events are free\, registration is not required. Meet at the gate to the RV park\, where parking is available. Ages 6 and up; wear sturdy shoes.
URL:https://www.hudsonriver.com/hhrt/event/croton-point-nature-history-hike-4/
LOCATION:Croton Point Park\, Croton Point Avenue\, parks.westchestergov.com
CATEGORIES:Community Walk,Educational,Family-Friendly,History,Nature Center
ATTACH;FMTTYPE=image/jpeg:https://www.hudsonriver.com/hhrt/wp-content/uploads/2023/05/1854-Cost-Survey-Map_Croton-Point.jpg
ORGANIZER;CN="Croton Historical Society":MAILTO:historian@crotonhistoricalsociety.org
GEO:41.1894791;-73.8823805
X-APPLE-STRUCTURED-LOCATION;VALUE=URI;X-ADDRESS=Croton Point Park Croton Point Avenue parks.westchestergov.com;X-APPLE-RADIUS=500;X-TITLE=Croton Point Avenue:geo:-73.8823805,41.1894791
END:VEVENT
END:VCALENDAR