BEGIN:VCALENDAR
VERSION:2.0
PRODID:-//Historic Hudson River Towns - ECPv6.15.20//NONSGML v1.0//EN
CALSCALE:GREGORIAN
METHOD:PUBLISH
X-WR-CALNAME:Historic Hudson River Towns
X-ORIGINAL-URL:https://www.hudsonriver.com/hhrt
X-WR-CALDESC:Events for Historic Hudson River Towns
REFRESH-INTERVAL;VALUE=DURATION:PT1H
X-Robots-Tag:noindex
X-PUBLISHED-TTL:PT1H
BEGIN:VTIMEZONE
TZID:America/New_York
BEGIN:DAYLIGHT
TZOFFSETFROM:-0500
TZOFFSETTO:-0400
TZNAME:EDT
DTSTART:20250309T070000
END:DAYLIGHT
BEGIN:STANDARD
TZOFFSETFROM:-0400
TZOFFSETTO:-0500
TZNAME:EST
DTSTART:20251102T060000
END:STANDARD
BEGIN:DAYLIGHT
TZOFFSETFROM:-0500
TZOFFSETTO:-0400
TZNAME:EDT
DTSTART:20260308T070000
END:DAYLIGHT
BEGIN:STANDARD
TZOFFSETFROM:-0400
TZOFFSETTO:-0500
TZNAME:EST
DTSTART:20261101T060000
END:STANDARD
BEGIN:DAYLIGHT
TZOFFSETFROM:-0500
TZOFFSETTO:-0400
TZNAME:EDT
DTSTART:20270314T070000
END:DAYLIGHT
BEGIN:STANDARD
TZOFFSETFROM:-0400
TZOFFSETTO:-0500
TZNAME:EST
DTSTART:20271107T060000
END:STANDARD
END:VTIMEZONE
BEGIN:VEVENT
DTSTART;VALUE=DATE:20260329
DTEND;VALUE=DATE:20260503
DTSTAMP:20260425T223219
CREATED:20260315T142841Z
LAST-MODIFIED:20260315T142841Z
UID:10017149-1774742400-1777766399@www.hudsonriver.com
SUMMARY:Rivertowns Earth Month Scavenger Hunt
DESCRIPTION:Rivertowns residents from Hastings-on-Hudson to Sleepy Hollow are invited to play a game throughout the month of April 2026. Participants will complete missions that spotlight our natural open spaces\, fun community events\, local stewardship opportunities and sustainable lifestyle options. A friendly competition among municipalities will boost participation in a good-natured\, mutually beneficial challenge.
URL:https://www.hudsonriver.com/hhrt/event/rivertowns-earth-month-scavenger-hunt/
CATEGORIES:Educational,Family Fun,Family-Friendly,Free-Admission,Garden,Outdoors,Photography
ATTACH;FMTTYPE=image/jpeg:https://www.hudsonriver.com/hhrt/wp-content/uploads/2026/03/Scavenger-hunt-annoucement.jpg
ORGANIZER;CN="Rivertowns Intervillage Sustainability Network (RISN)":MAILTO:ivillagenet@gmail.com
END:VEVENT
BEGIN:VEVENT
DTSTART;TZID=America/New_York:20260425T090000
DTEND;TZID=America/New_York:20260425T130000
DTSTAMP:20260425T223219
CREATED:20230724T122241Z
LAST-MODIFIED:20240612T132246Z
UID:10008535-1777107600-1777122000@www.hudsonriver.com
SUMMARY:Ossining Farmers Markets - Saturdays 8:30a-1:00p
DESCRIPTION:Join us every Saturday in downtown Ossining for our Farmers Market! \nLOCATION: Corner of Main and Spring Streets \nVisit our website for a weekly update of vendors and activities.Saturdays\, year-round\, 9am to 1:30pm. \nFMNP available from 6/1-11/30 \n914-923-4837
URL:https://www.hudsonriver.com/hhrt/event/ossining-2023-farmers-markets-saturdays-830-100p/2026-04-25/
LOCATION:Corner of Main & Spring St\, Ossining\, NY\, 10562\, United States
CATEGORIES:Farmers Market
ATTACH;FMTTYPE=image/jpeg:https://www.hudsonriver.com/hhrt/wp-content/uploads/2023/07/OSS-Farmers-Market.jpeg
GEO:41.1610368;-73.8635201
END:VEVENT
BEGIN:VEVENT
DTSTART;TZID=America/New_York:20260425T113000
DTEND;TZID=America/New_York:20260425T170000
DTSTAMP:20260425T223219
CREATED:20260211T131429Z
LAST-MODIFIED:20260424T163426Z
UID:10016895-1777116600-1777136400@www.hudsonriver.com
SUMMARY:The Octagon House: 1876 Centennial Tour
DESCRIPTION:An American Original\nThis year\, The Armour-Stiner Octagon House in Irvington\, New York will commemorate the 250th Anniversary of The United States with a special guided tour: The Octagon House: 1876 Centennial Tour \n100 years before it became a wealthy New York City suburb\, Westchester County was once a lawless “neutral ground” during the height of the American Revolution. In this one-hour guided tour\, visitors will hear a brief history of the 18th Century Odell Farm where The Octagon House now stands. \nAs we enter The Octagon House\, guests experience how New Yorkers of The Gilded Age once celebrated the Nation’s Centennial of 1876. On display throughout the house will be a delightful collection of antique Centennial souvenirs & ephemera. This was a time of great entrepreneurial innovation\, design and manufacturing. The Centennial Exhibition in Philadelphia was a magnificent display or wares by the finest manufacturers of the era. \nVisitors will enjoy the ornate interior of The Octagon House\, which is decorated with antique lighting\, furniture\, & objects – many of which appeared at the 1876 Centennial Exhibition.
URL:https://www.hudsonriver.com/hhrt/event/the-octagon-house-1876-centennial-tour/2026-04-25/
LOCATION:Armour-Stiner Octagon House\, 45 W Clinton Avenue\, Irvington\, NY\, 10533\, United States
CATEGORIES:Historic House Tour
ATTACH;FMTTYPE=image/jpeg:https://www.hudsonriver.com/hhrt/wp-content/uploads/2026/02/1882-octagon_JH_EDITED-1-scaled.jpg
END:VEVENT
BEGIN:VEVENT
DTSTART;TZID=America/New_York:20260425T190000
DTEND;TZID=America/New_York:20260425T220000
DTSTAMP:20260425T223219
CREATED:20250616T204254Z
LAST-MODIFIED:20250616T204254Z
UID:10015128-1777143600-1777154400@www.hudsonriver.com
SUMMARY:Tallman Beach & Pool Club Concert Series
DESCRIPTION:Every summer\, the party starts at Tallman Beach & Pool Club! 🎉 Join us every Saturday night at 7 PM for live music under the stars—featuring a mix of live bands and high-energy DJs.\n6/21 – Stone Flower\n6/28 – 8th Grade Science\n7/5 – TBD\n7/12 – Peach Project\n7/19 – Incidental Contact\n7/26 – Georgia 5\n8/1 – Kickin’ Nash\n8/2 – Wig Jam\n8/9 – TK Walker & Company\n8/16 – Mighty Spectrum\n8/23 – 8th Grade Science\n8/30 – Stella Blue’s Band\n8/31 – Stone Flower \n  \n  \n  \n 
URL:https://www.hudsonriver.com/hhrt/event/tallman-beach-pool-club-concert-series/2026-04-25/
LOCATION:Tallman Beach & Pool Club\, 2 Tallman Mountain Road\, Sparkill NY 10976\, 2 Tallman Mountain Road\, Sparkill\, 10976
CATEGORIES:Live-Music
GEO:41.0291678;-73.9180149
X-APPLE-STRUCTURED-LOCATION;VALUE=URI;X-ADDRESS=Tallman Beach & Pool Club 2 Tallman Mountain Road Sparkill NY 10976 2 Tallman Mountain Road Sparkill 10976;X-APPLE-RADIUS=500;X-TITLE=2 Tallman Mountain Road:geo:-73.9180149,41.0291678
END:VEVENT
END:VCALENDAR